BEGIN:VCALENDAR
VERSION:2.0
PRODID:-//Universidad Finis Terrae - ECPv6.15.17.1//NONSGML v1.0//EN
CALSCALE:GREGORIAN
METHOD:PUBLISH
X-WR-CALNAME:Universidad Finis Terrae
X-ORIGINAL-URL:https://finis.cl
X-WR-CALDESC:Eventos para Universidad Finis Terrae
REFRESH-INTERVAL;VALUE=DURATION:PT1H
X-Robots-Tag:noindex
X-PUBLISHED-TTL:PT1H
BEGIN:VTIMEZONE
TZID:America/Santiago
BEGIN:STANDARD
TZOFFSETFROM:-0300
TZOFFSETTO:-0400
TZNAME:-04
DTSTART:20240407T030000
END:STANDARD
BEGIN:DAYLIGHT
TZOFFSETFROM:-0400
TZOFFSETTO:-0300
TZNAME:-03
DTSTART:20240908T040000
END:DAYLIGHT
BEGIN:STANDARD
TZOFFSETFROM:-0300
TZOFFSETTO:-0400
TZNAME:-04
DTSTART:20250406T030000
END:STANDARD
BEGIN:DAYLIGHT
TZOFFSETFROM:-0400
TZOFFSETTO:-0300
TZNAME:-03
DTSTART:20250907T040000
END:DAYLIGHT
BEGIN:STANDARD
TZOFFSETFROM:-0300
TZOFFSETTO:-0400
TZNAME:-04
DTSTART:20260405T030000
END:STANDARD
BEGIN:DAYLIGHT
TZOFFSETFROM:-0400
TZOFFSETTO:-0300
TZNAME:-03
DTSTART:20260906T040000
END:DAYLIGHT
END:VTIMEZONE
BEGIN:VEVENT
DTSTART;TZID=America/Santiago:20250526T000100
DTEND;TZID=America/Santiago:20250530T235900
DTSTAMP:20260423T060017
CREATED:20250715T153458Z
LAST-MODIFIED:20250715T153458Z
UID:39392-1748217660-1748649540@finis.cl
SUMMARY:Semana de la Cultura
DESCRIPTION:La Semana de la Cultura es una invitación a encontrarnos desde lo que nos inspira\, nos mueve y nos conecta. Queremos celebrar el arte y la cultura como lenguajes fundamentales de la vida universitaria\, donde nacen preguntas\, memorias y experiencias que enriquecen nuestra formación y sentido de comunidad. \nEste año\, las actividades se desarrollarán entre el lunes 26 y el viernes 30 de mayo\, con una programación que integra arte\, música\, patrimonio\, bienestar y participación estudiantil. Durante estos días\, abriremos espacios para crear\, compartir y conversar desde distintas disciplinas y miradas. Porque la cultura está en todo lo que hacemos\, y esta semana es una oportunidad para vivirla\, sentirla y reconocerla como parte esencial de lo que somos. Porque somos cultura. \nLunes 26 de mayo \nConversatorio “La cultura como experiencia”\nUna instancia de diálogo entre docentes\, creadores y estudiantes\, que busca ofrecer una mirada transversal y multidisciplinaria sobre el arte y la cultura.\nHora: 14:00 h.\nLugar: Frontis de la Facultad de Artes \nMartes 27 de mayo \nCharla “Desenreda tu identidad digital”\nActividad organizada en conjunto por la Unidad de Bienestar y la Escuela de Periodismo\, enfocada en reflexionar sobre los desafíos y riesgos de la identidad digital en la actualidad.\nExpositor: Alberto Pedro López-Hermida\nHora: 11:10 h.\nLugar: Estudio de TV de Periodismo \nMiércoles 28 de mayo \nRecorrido por el Museo de la Sábana Santa\nLa Dirección de Pastoral invita a la comunidad universitaria a visitar el museo de la Sábana Santa\, que estará abierto durante toda la jornada.\nLugar: Museo de la Sábana Santa \nJueves 29 de mayo \nIntervención deportiva: Cultura en movimiento\nLa Dirección de Deportes realizará una intervención recreativa con competencias deportivas para promover la actividad física y el espíritu universitario.\nHora: 12:00 a 14:00\nLugar: Patio central \nElevaPalooza: Festival de cultura latinoamericana\nEl programa de liderazgo Eleva\, junto con los centros de estudiantes\, invita a toda la comunidad Finis a participar de este festival interdisciplinario.\nContará con presentaciones musicales\, montajes de teatro\, poesía\, degustaciones gastronómicas latinoamericanas y otras sorpresas.\nHora: Desde las 17:00 h.\nLugar: Terraza del séptimo piso \nViernes 30 de mayo \nDía del Estudiante FEUFT\nLa Federación de Estudiantes de la Universidad Finis Terrae ha preparado una jornada con actividades\, concursos y competencias para celebrar a las y los estudiantes.\nLugar: Diversos espacios del campus \n\nFechas por confirmar:\n\nPresentación de Impulsa Folklore\nEl grupo Impulsa Folklore presentará un espectáculo de música y danza tradicional chilena para celebrar nuestras raíces culturales.\nHora: 13:00 h.\nLugar: Patio central\n\nLanzamiento concurso relatos breves sobre el hogar.\nColaboración entre escuela de Literatura\, FinisCrea y DAE.
URL:https://finis.cl/agenda/semana-de-la-cultura/
CATEGORIES:Vida universitaria
END:VEVENT
END:VCALENDAR