BEGIN:VCALENDAR
VERSION:2.0
PRODID:-//Universidad Finis Terrae - ECPv6.15.17.1//NONSGML v1.0//EN
CALSCALE:GREGORIAN
METHOD:PUBLISH
X-WR-CALNAME:Universidad Finis Terrae
X-ORIGINAL-URL:https://finis.cl
X-WR-CALDESC:Eventos para Universidad Finis Terrae
REFRESH-INTERVAL;VALUE=DURATION:PT1H
X-Robots-Tag:noindex
X-PUBLISHED-TTL:PT1H
BEGIN:VTIMEZONE
TZID:America/Santiago
BEGIN:STANDARD
TZOFFSETFROM:-0300
TZOFFSETTO:-0400
TZNAME:-04
DTSTART:20230402T030000
END:STANDARD
BEGIN:DAYLIGHT
TZOFFSETFROM:-0400
TZOFFSETTO:-0300
TZNAME:-03
DTSTART:20230903T040000
END:DAYLIGHT
BEGIN:STANDARD
TZOFFSETFROM:-0300
TZOFFSETTO:-0400
TZNAME:-04
DTSTART:20240407T030000
END:STANDARD
BEGIN:DAYLIGHT
TZOFFSETFROM:-0400
TZOFFSETTO:-0300
TZNAME:-03
DTSTART:20240908T040000
END:DAYLIGHT
BEGIN:STANDARD
TZOFFSETFROM:-0300
TZOFFSETTO:-0400
TZNAME:-04
DTSTART:20250406T030000
END:STANDARD
BEGIN:DAYLIGHT
TZOFFSETFROM:-0400
TZOFFSETTO:-0300
TZNAME:-03
DTSTART:20250907T040000
END:DAYLIGHT
END:VTIMEZONE
BEGIN:VEVENT
DTSTART;TZID=America/Santiago:20240814T140000
DTEND;TZID=America/Santiago:20240814T235900
DTSTAMP:20260423T215212
CREATED:20250715T154342Z
LAST-MODIFIED:20250715T154342Z
UID:39737-1723644000-1723679940@finis.cl
SUMMARY:Charla Becas y Beneficios 2025
DESCRIPTION:Si tienes dudas sobre qué hacer y cómo postular a las becas y beneficios del próximo año o no sabes qué pasa con tu gratuidad si te atrasas un semestre o año\, esta es tu oportunidad para asistir a la primera charla del semestre\, la cual te informará y ayudará en todo lo que necesitas saber del proceso. \nEXPONE: \nDaniela Magallanes\, asistente social de la Dirección de Asuntos Estudiantiles y Vida Universitaria.
URL:https://finis.cl/agenda/charla-becas-y-beneficios-2025/
CATEGORIES:Vida universitaria
END:VEVENT
END:VCALENDAR