BEGIN:VCALENDAR
VERSION:2.0
PRODID:-//Universidad Finis Terrae - ECPv6.15.17.1//NONSGML v1.0//EN
CALSCALE:GREGORIAN
METHOD:PUBLISH
X-WR-CALNAME:Universidad Finis Terrae
X-ORIGINAL-URL:https://finis.cl
X-WR-CALDESC:Eventos para Universidad Finis Terrae
REFRESH-INTERVAL;VALUE=DURATION:PT1H
X-Robots-Tag:noindex
X-PUBLISHED-TTL:PT1H
BEGIN:VTIMEZONE
TZID:America/Santiago
BEGIN:STANDARD
TZOFFSETFROM:-0300
TZOFFSETTO:-0400
TZNAME:-04
DTSTART:20230402T030000
END:STANDARD
BEGIN:DAYLIGHT
TZOFFSETFROM:-0400
TZOFFSETTO:-0300
TZNAME:-03
DTSTART:20230903T040000
END:DAYLIGHT
BEGIN:STANDARD
TZOFFSETFROM:-0300
TZOFFSETTO:-0400
TZNAME:-04
DTSTART:20240407T030000
END:STANDARD
BEGIN:DAYLIGHT
TZOFFSETFROM:-0400
TZOFFSETTO:-0300
TZNAME:-03
DTSTART:20240908T040000
END:DAYLIGHT
BEGIN:STANDARD
TZOFFSETFROM:-0300
TZOFFSETTO:-0400
TZNAME:-04
DTSTART:20250406T030000
END:STANDARD
BEGIN:DAYLIGHT
TZOFFSETFROM:-0400
TZOFFSETTO:-0300
TZNAME:-03
DTSTART:20250907T040000
END:DAYLIGHT
END:VTIMEZONE
BEGIN:VEVENT
DTSTART;TZID=America/Santiago:20240510T133000
DTEND;TZID=America/Santiago:20240510T235900
DTSTAMP:20260424T020910
CREATED:20250715T154613Z
LAST-MODIFIED:20250715T154613Z
UID:39908-1715347800-1715385540@finis.cl
SUMMARY:Día del estudiante
DESCRIPTION:La Federación de Estudiantes en colaboración con Vida Universitaria invita a toda la comunidad a celebrar el día del estudiante en una entretenida jornada con diferentes actividades recreativas\, trivias académicas\, premios y más. \nEsta actividad se realizará el día viernes 10 de mayo desde las 13:30 a 15:00 hrs. en el Patio Central.
URL:https://finis.cl/agenda/dia-del-estudiante/
CATEGORIES:Vida universitaria
END:VEVENT
END:VCALENDAR