BEGIN:VCALENDAR
VERSION:2.0
PRODID:-//Universidad Finis Terrae - ECPv6.15.17.1//NONSGML v1.0//EN
CALSCALE:GREGORIAN
METHOD:PUBLISH
X-ORIGINAL-URL:https://finis.cl
X-WR-CALDESC:Eventos para Universidad Finis Terrae
REFRESH-INTERVAL;VALUE=DURATION:PT1H
X-Robots-Tag:noindex
X-PUBLISHED-TTL:PT1H
BEGIN:VTIMEZONE
TZID:America/Santiago
BEGIN:STANDARD
TZOFFSETFROM:-0300
TZOFFSETTO:-0400
TZNAME:-04
DTSTART:20220403T030000
END:STANDARD
BEGIN:DAYLIGHT
TZOFFSETFROM:-0400
TZOFFSETTO:-0300
TZNAME:-03
DTSTART:20220911T040000
END:DAYLIGHT
BEGIN:STANDARD
TZOFFSETFROM:-0300
TZOFFSETTO:-0400
TZNAME:-04
DTSTART:20230402T030000
END:STANDARD
BEGIN:DAYLIGHT
TZOFFSETFROM:-0400
TZOFFSETTO:-0300
TZNAME:-03
DTSTART:20230903T040000
END:DAYLIGHT
BEGIN:STANDARD
TZOFFSETFROM:-0300
TZOFFSETTO:-0400
TZNAME:-04
DTSTART:20240407T030000
END:STANDARD
BEGIN:DAYLIGHT
TZOFFSETFROM:-0400
TZOFFSETTO:-0300
TZNAME:-03
DTSTART:20240908T040000
END:DAYLIGHT
END:VTIMEZONE
BEGIN:VEVENT
DTSTART;TZID=America/Santiago:20230928T093000
DTEND;TZID=America/Santiago:20230928T235900
DTSTAMP:20260424T114534
CREATED:20250715T155005Z
LAST-MODIFIED:20260331T193651Z
UID:40141-1695893400-1695945540@finis.cl
SUMMARY:Shark Tank para Representantes – Sesión Final
DESCRIPTION:La Dirección de Vida Universitaria invita a toda la comunidad estudiantil y a los funcionarios a la última sesión del “Shark Tank para Representantes”\, donde los participantes presentarán sus proyectos ante jurados expertos\, quienes deberán elegir al proyecto ganador. \nShark Tank es un ciclo de tres mesas de trabajo donde grupos conformados por representantes estudiantiles trabajan y desarrollan distintos proyectos que entregarán distintos beneficios a la Universidad. El 28 de septiembre será la sesión final donde el jurado elegirá la idea y al grupo ganador para poder ejecutar el proyecto presentado.\n 
URL:https://finis.cl/agenda/shark-tank-para-representantes-sesion-final/
CATEGORIES:Ciclos,Vida universitaria
END:VEVENT
END:VCALENDAR