BEGIN:VCALENDAR
VERSION:2.0
PRODID:-//Universidad Finis Terrae - ECPv6.15.17.1//NONSGML v1.0//EN
CALSCALE:GREGORIAN
METHOD:PUBLISH
X-WR-CALNAME:Universidad Finis Terrae
X-ORIGINAL-URL:https://finis.cl
X-WR-CALDESC:Eventos para Universidad Finis Terrae
REFRESH-INTERVAL;VALUE=DURATION:PT1H
X-Robots-Tag:noindex
X-PUBLISHED-TTL:PT1H
BEGIN:VTIMEZONE
TZID:America/Santiago
BEGIN:STANDARD
TZOFFSETFROM:-0300
TZOFFSETTO:-0400
TZNAME:-04
DTSTART:20220403T030000
END:STANDARD
BEGIN:DAYLIGHT
TZOFFSETFROM:-0400
TZOFFSETTO:-0300
TZNAME:-03
DTSTART:20220911T040000
END:DAYLIGHT
BEGIN:STANDARD
TZOFFSETFROM:-0300
TZOFFSETTO:-0400
TZNAME:-04
DTSTART:20230402T030000
END:STANDARD
BEGIN:DAYLIGHT
TZOFFSETFROM:-0400
TZOFFSETTO:-0300
TZNAME:-03
DTSTART:20230903T040000
END:DAYLIGHT
BEGIN:STANDARD
TZOFFSETFROM:-0300
TZOFFSETTO:-0400
TZNAME:-04
DTSTART:20240407T030000
END:STANDARD
BEGIN:DAYLIGHT
TZOFFSETFROM:-0400
TZOFFSETTO:-0300
TZNAME:-03
DTSTART:20240908T040000
END:DAYLIGHT
END:VTIMEZONE
BEGIN:VEVENT
DTSTART;TZID=America/Santiago:20230912T000100
DTEND;TZID=America/Santiago:20230915T235900
DTSTAMP:20260424T133510
CREATED:20250715T155012Z
LAST-MODIFIED:20250715T155012Z
UID:40153-1694476860-1694822340@finis.cl
SUMMARY:Semana de la Chilenidad
DESCRIPTION:La Dirección de Vida Universitaria y Federación de Estudiantes\, en conmemoración a la Fiestas Patrias de nuestro país\, los deja cordialmente invitados a la Semana de la Chilenidad\, espacio donde podrás disfrutar de juegos criollos\, comidas típicas\, bailes tradicionales\, concursos y muchas sorpresas para toda la comunidad universitaria. \nRevisa el programa completo: \nMartes desde las 13:30 hrs.:\nApertura oficial\nCompetencia de cuecas.\nConcurso de payas\,\nStand CEE. \nMiércoles desde las 13:30 hrs.:\nJuegos criollos.\nConcursos y sorpresas. \nJueves desde las 13:30 hrs.:\nGastronomía.\nTrivia dieciochera. \nViernes desde las 12:00 hrs.:\nMisa a la Chilena.\n#AsuXLosNuestros.\nStand CEE.\nToro Mecánico.
URL:https://finis.cl/agenda/semana-de-la-chilenidad/
CATEGORIES:Vida universitaria
END:VEVENT
END:VCALENDAR