BEGIN:VCALENDAR
VERSION:2.0
PRODID:-//Universidad Finis Terrae - ECPv6.15.17.1//NONSGML v1.0//EN
CALSCALE:GREGORIAN
METHOD:PUBLISH
X-WR-CALNAME:Universidad Finis Terrae
X-ORIGINAL-URL:https://finis.cl
X-WR-CALDESC:Eventos para Universidad Finis Terrae
REFRESH-INTERVAL;VALUE=DURATION:PT1H
X-Robots-Tag:noindex
X-PUBLISHED-TTL:PT1H
BEGIN:VTIMEZONE
TZID:America/Santiago
BEGIN:STANDARD
TZOFFSETFROM:-0300
TZOFFSETTO:-0400
TZNAME:-04
DTSTART:20220403T030000
END:STANDARD
BEGIN:DAYLIGHT
TZOFFSETFROM:-0400
TZOFFSETTO:-0300
TZNAME:-03
DTSTART:20220911T040000
END:DAYLIGHT
BEGIN:STANDARD
TZOFFSETFROM:-0300
TZOFFSETTO:-0400
TZNAME:-04
DTSTART:20230402T030000
END:STANDARD
BEGIN:DAYLIGHT
TZOFFSETFROM:-0400
TZOFFSETTO:-0300
TZNAME:-03
DTSTART:20230903T040000
END:DAYLIGHT
BEGIN:STANDARD
TZOFFSETFROM:-0300
TZOFFSETTO:-0400
TZNAME:-04
DTSTART:20240407T030000
END:STANDARD
BEGIN:DAYLIGHT
TZOFFSETFROM:-0400
TZOFFSETTO:-0300
TZNAME:-03
DTSTART:20240908T040000
END:DAYLIGHT
END:VTIMEZONE
BEGIN:VEVENT
DTSTART;TZID=America/Santiago:20231110T000100
DTEND;TZID=America/Santiago:20231110T235900
DTSTAMP:20260424T084936
CREATED:20250715T154849Z
LAST-MODIFIED:20250715T154849Z
UID:40080-1699574460-1699660740@finis.cl
SUMMARY:Postulaciones Eleva 2024
DESCRIPTION:La Dirección de Vida Universitaria invita a los estudiantes de pregrado a postular a la próxima generación de Eleva\, programa de liderazgo que durante cinco semestres busca formar y potenciar a los estudiantes en convertirse en líderes capaces de transformar su vida y su entorno. \n¿Dónde postular? \nPrimero debes inscribirte ACÁ y luego enviar la documentación solicitada al correo avaldes@uft.cl . Además\, en el Instagram @Elevafinis podrán encontrar toda la información detallada. \nPostulaciones hasta el 10 de noviembre.
URL:https://finis.cl/agenda/postulaciones-eleva-2024/
CATEGORIES:Vida universitaria
END:VEVENT
BEGIN:VEVENT
DTSTART;TZID=America/Santiago:20231121T130000
DTEND;TZID=America/Santiago:20231121T235900
DTSTAMP:20260424T084936
CREATED:20250715T154823Z
LAST-MODIFIED:20250715T154823Z
UID:40056-1700571600-1700611140@finis.cl
SUMMARY:Festival de La Voz
DESCRIPTION:La Dirección de Vida Universitaria se encuentra buscando “La Voz de la Finis” y\, en este contexto\, invita a todos los estudiantes a  asistir a las presentaciones en vivo que realizarán los concursantes de este Festival.
URL:https://finis.cl/agenda/festival-de-la-voz/
CATEGORIES:Vida universitaria
END:VEVENT
BEGIN:VEVENT
DTSTART;TZID=America/Santiago:20231129T190000
DTEND;TZID=America/Santiago:20231129T235900
DTSTAMP:20260424T084936
CREATED:20250715T154814Z
LAST-MODIFIED:20250715T154814Z
UID:40042-1701284400-1701302340@finis.cl
SUMMARY:Festival de La Voz
DESCRIPTION:La Dirección de Vida Universitaria invita a toda la comunidad de la Universidad Finis Terrae a asistir a la gala final del Festival de La Voz para elegir quién será La Voz de la Finis. \nTe esperamos el miércoles 29 de noviembre a las 19:00 hrs.
URL:https://finis.cl/agenda/festival-de-la-voz-2/
CATEGORIES:Vida universitaria
END:VEVENT
END:VCALENDAR