BEGIN:VCALENDAR
VERSION:2.0
PRODID:-//Universidad Finis Terrae - ECPv6.15.17.1//NONSGML v1.0//EN
CALSCALE:GREGORIAN
METHOD:PUBLISH
X-WR-CALNAME:Universidad Finis Terrae
X-ORIGINAL-URL:https://finis.cl
X-WR-CALDESC:Eventos para Universidad Finis Terrae
REFRESH-INTERVAL;VALUE=DURATION:PT1H
X-Robots-Tag:noindex
X-PUBLISHED-TTL:PT1H
BEGIN:VTIMEZONE
TZID:America/Santiago
BEGIN:STANDARD
TZOFFSETFROM:-0300
TZOFFSETTO:-0400
TZNAME:-04
DTSTART:20250406T030000
END:STANDARD
BEGIN:DAYLIGHT
TZOFFSETFROM:-0400
TZOFFSETTO:-0300
TZNAME:-03
DTSTART:20250907T040000
END:DAYLIGHT
BEGIN:STANDARD
TZOFFSETFROM:-0300
TZOFFSETTO:-0400
TZNAME:-04
DTSTART:20260405T030000
END:STANDARD
BEGIN:DAYLIGHT
TZOFFSETFROM:-0400
TZOFFSETTO:-0300
TZNAME:-03
DTSTART:20260906T040000
END:DAYLIGHT
BEGIN:STANDARD
TZOFFSETFROM:-0300
TZOFFSETTO:-0400
TZNAME:-04
DTSTART:20270404T030000
END:STANDARD
BEGIN:DAYLIGHT
TZOFFSETFROM:-0400
TZOFFSETTO:-0300
TZNAME:-03
DTSTART:20270905T040000
END:DAYLIGHT
END:VTIMEZONE
BEGIN:VEVENT
DTSTART;TZID=America/Santiago:20260324T080000
DTEND;TZID=America/Santiago:20260607T170000
DTSTAMP:20260423T180548
CREATED:20260324T181742Z
LAST-MODIFIED:20260324T181742Z
UID:50800-1774339200-1780851600@finis.cl
SUMMARY:Beca Santander de movilidad para pregrado
DESCRIPTION:La Dirección de Relaciones Internacionales de la Universidad Finis Terrae invita a postular a los alumnos regulares a la Beca Santander de Movilidad Internacional de Pregrado 2026 – 2027\, cuyo objetivo es financiar parcialmente la movilidad estudiantil en una universidad en el extranjero por un semestre académico. \nEsta iniciativa busca apoyar financieramente la experiencia de movilidad internacional\, promoviendo la formación académica global\, el intercambio cultural y el desarrollo de competencias clave en un entorno internacional. \n\nPostulaciones abiertas desde 24 de marzo al 07 de junio de 2026\n\nBases y postulaciones ACÁ
URL:https://finis.cl/agenda/beca-santander-de-movilidad-para-pregrado/
LOCATION:Universidad Finis Terrae
CATEGORIES:Internacional,U. Finis Terrae,Vicerrectoría de Vinculación,Vicerrectoría Vinculación con el Medio,Vinculación con el Medio
ATTACH;FMTTYPE=image/webp:https://finis.cl/wp-content/uploads/2026/03/beca-santander-2026.webp
END:VEVENT
BEGIN:VEVENT
DTSTART;TZID=America/Santiago:20260507T110000
DTEND;TZID=America/Santiago:20260507T120000
DTSTAMP:20260423T180548
CREATED:20260415T204028Z
LAST-MODIFIED:20260421T162422Z
UID:52183-1778151600-1778155200@finis.cl
SUMMARY:Ciclo aHA!Cs 2026: "¿Instinto o intestino? De las preguntas a la investigación en enfermedades intestinales"
DESCRIPTION:La Vicerrectoría de Investigación\, Creación Artística e Innovación invita a la segunda conferencia del ciclo aHA!Cs 2026\, a cargo de la Dra. Marjorie De la Fuente\, académica de la Facultad de Medicina y Salud y miembro del Centro de Investigación Biomédica (CIBMED) de nuestra universidad. \nEn esta conferencia se presentarán avances en el estudio de enfermedades intestinales\, entre ellas el cáncer colorrectal\, uno de los principales problemas de salud pública a nivel mundial. \nA partir de esta línea de investigación\, se propondrá una reflexión sobre cómo surgen las preguntas en la ciencia y de qué manera se construye conocimiento en biomedicina. La exposición aborda también el valor del trabajo multidisciplinario\, los caminos en la academia y el rol de la historia personal en la investigación. \nEXPONE:\nDra. Marjorie De la Fuente: Bioquímica de la Pontificia Universidad Católica de Chile y doctora en Ciencias Biomédicas por la Universidad de Chile. Forma parte de un equipo de investigación del CIBMED que ha identificado una nueva vía molecular con potencial en el tratamiento de enfermedades inflamatorias intestinales y cáncer de colón.
URL:https://finis.cl/agenda/ciclo-ahacs-2026-instinto-o-intestino-de-las-preguntas-a-la-investigacion-en-enfermedades-intestinales/
LOCATION:Auditorio B201
CATEGORIES:Creación artística,Vicerrectoría de Vinculación,Vicerrectoría Investigación
ATTACH;FMTTYPE=image/jpeg:https://finis.cl/wp-content/uploads/2026/04/Agenda-web-55.jpg
END:VEVENT
BEGIN:VEVENT
DTSTART;TZID=America/Santiago:20260507T203000
DTEND;TZID=America/Santiago:20260524T220000
DTSTAMP:20260423T180548
CREATED:20260323T185154Z
LAST-MODIFIED:20260422T154518Z
UID:50740-1778185800-1779660000@finis.cl
SUMMARY:Teatro Finis Terrae: "Donde viven los bárbaros"
DESCRIPTION:A 10 años de la obra que catapultó a Bonobo como una de las compañías chilenas con mayor proyección internacional\, Donde Viven los Bárbaros se pregunta sobre el modo en que se construye el miedo y la violencia en democracia. Este reestreno permitirá reencontrarse con esta emblemática obra del teatro chileno contemporáneo. \nLa obra narra la historia de tres primos quienes\, luego de muchos años sin verse\, deciden reunirse. El anfitrión\, Roberto\, director de una exitosa ONG\, se ve involucrado en el extraño homicidio de una joven\, hecho que desencadena la violencia entre los invitados. Esa noche\, que prometía ser un evento tranquilo entre familiares\, se transforma en una velada cada vez más terrible\, situación que no mejora con la irrupción inesperada de ciertos personajes que agudizarán los conflictos e ideas que cada uno ha construido sobre el otro\, sobre el enemigo. \n“La obra retrata el pavor que emerge en una comunidad cuando se enfrenta a lo distinto y desnuda la violencia de una sociedad renuente a mirarse a sí misma”. Javier Ibacache\, revista Paula. \nReestreno 10 años | Compañía Bonobo \nDel 7 al 24 de mayo \nJue. y vie. 20:30 hrs. \nSáb. y dom 19 hrs. \n*esta obra no tendrá función el sábado 16 de mayo. \nCompañía Bonobo | Dirección Pablo Manzi y Andreina Olivari | Dramaturgia Pablo Manzi | Elenco: Paulina Giglio\, Gabriel Urzúa\, Guilherme Sepúlveda\, Carlos Donoso\, Gabriel Cañas |  Diseño integral: Felipe Olivares y Juan Andrés Rivera (Los Contadores Auditores) | Música original Camilo Catepillan | Producción Alessandra Massardo \n  \nVENTA DE ENTRADAS ACÁ
URL:https://finis.cl/agenda/teatro-finis-terrae-donde-viven-los-barbaros/
LOCATION:Teatro Finis Terrae\, Av. Pedro de Valdivia 1509\, Santiago\, Providencia\, 7500986\, Chile
CATEGORIES:Teatro Finis Terrae,U. Finis Terrae,Universidad,Vicerrectoría de Vinculación,Vicerrectoría Vinculación con el Medio,Vinculación con el Medio
ATTACH;FMTTYPE=image/jpeg:https://finis.cl/wp-content/uploads/2026/03/Agenda-web-28.jpg
END:VEVENT
END:VCALENDAR