BEGIN:VCALENDAR
VERSION:2.0
PRODID:-//Universidad Finis Terrae - ECPv6.15.17.1//NONSGML v1.0//EN
CALSCALE:GREGORIAN
METHOD:PUBLISH
X-ORIGINAL-URL:https://finis.cl
X-WR-CALDESC:Eventos para Universidad Finis Terrae
REFRESH-INTERVAL;VALUE=DURATION:PT1H
X-Robots-Tag:noindex
X-PUBLISHED-TTL:PT1H
BEGIN:VTIMEZONE
TZID:America/Santiago
BEGIN:STANDARD
TZOFFSETFROM:-0300
TZOFFSETTO:-0400
TZNAME:-04
DTSTART:20250406T030000
END:STANDARD
BEGIN:DAYLIGHT
TZOFFSETFROM:-0400
TZOFFSETTO:-0300
TZNAME:-03
DTSTART:20250907T040000
END:DAYLIGHT
BEGIN:STANDARD
TZOFFSETFROM:-0300
TZOFFSETTO:-0400
TZNAME:-04
DTSTART:20260405T030000
END:STANDARD
BEGIN:DAYLIGHT
TZOFFSETFROM:-0400
TZOFFSETTO:-0300
TZNAME:-03
DTSTART:20260906T040000
END:DAYLIGHT
BEGIN:STANDARD
TZOFFSETFROM:-0300
TZOFFSETTO:-0400
TZNAME:-04
DTSTART:20270404T030000
END:STANDARD
BEGIN:DAYLIGHT
TZOFFSETFROM:-0400
TZOFFSETTO:-0300
TZNAME:-03
DTSTART:20270905T040000
END:DAYLIGHT
END:VTIMEZONE
BEGIN:VEVENT
DTSTART;TZID=America/Santiago:20260420T080000
DTEND;TZID=America/Santiago:20260426T170000
DTSTAMP:20260423T024015
CREATED:20260317T182101Z
LAST-MODIFIED:20260317T184039Z
UID:50475-1776672000-1777222800@finis.cl
SUMMARY:Certifica tu nivel de inglés con EnglishScore. ¡Inscripciones abiertas!
DESCRIPTION:El Programa de Idiomas invita a participar en el proceso de certificación de inglés a través del examen EnglishScore\, una prueba internacional respaldada por British Council que te permite acreditar tu nivel de inglés de forma rápida\, flexible y completamente en línea. \n\n¿Por qué rendir EnglishScore?\n\n✅ Reconocimiento internacional\n✅ Resultados inmediatos\n✅ Certificación oficial disponible desde A2 hasta C1\n✅ Ideal para postular a intercambios\, empleos\, posgrados o prácticas profesionales \n\n¿Cómo hacerlo?\n\n1. Ingresa al portal de pagos:  https://portalpago.uft.cl/servicio/general/otros-servicios/e93c9289-7ca8-4b5f-9844-3e1e2622fa40\n2. Pagar el valor del test: $15.000\n3. Enviar el comprobante de pago a ppando@uft.cl \nFecha del test: 20 al 26 de abril de 2026 \nFecha límite de inscripción: 20 de abril de 2026 \nNo pierdas la oportunidad de fortalecer tu perfil académico y profesional con esta certificación. ¡El inglés cuenta! \n\nImportante: No es el test de diagnóstico de inglés para ubicación de nivel.\n\nDudas o consulta a Paola Pando Díaz ppando@uft.cl
URL:https://finis.cl/agenda/certifica-tu-nivel-de-ingles-con-englishscore-inscripciones-abiertas-3/
LOCATION:Online
CATEGORIES:Comunidad Finis Terrae,Programa de Idiomas,Vicerrectoría Académica
ATTACH;FMTTYPE=image/webp:https://finis.cl/wp-content/uploads/2026/03/Agenda-web-_18_.webp
END:VEVENT
BEGIN:VEVENT
DTSTART;TZID=America/Santiago:20260427T100000
DTEND;TZID=America/Santiago:20260427T110000
DTSTAMP:20260423T024015
CREATED:20260325T150025Z
LAST-MODIFIED:20260325T160531Z
UID:50841-1777284000-1777287600@finis.cl
SUMMARY:Actividades formativas para docentes: abril
DESCRIPTION:El Centro de Innovación Docente de la Dirección de Gestión y Desarrollo Académico\, invita los académicos a ser parte de las actividades de formación docente del mes de abril. Sabemos que el comienzo de cada semestre se perfila como un nuevo escenario para innovar\, reflexionar y fortalecer nuestras prácticas pedagógicas. \nPor eso\, en preparación para este\, queremos invitarles a distintas actividades y espacios diseñados para enriquecer el proceso de enseñanza-aprendizaje\, siempre con foco en mejorar la experiencia educativa de nuestros/as estudiantes. Las inscripciones están disponibles a través del enlace correspondiente en la descripción de cada actividad. \n¡Te esperamos para seguir transformando juntos la docencia universitaria! \n1. Taller “De la Idea al Aula: Crea tu Asistente IA Educativo”\nLunes 06 de abril de 14:00 a 17:00 hrs. Sala C207\nINSCRIPCIONES ACÁ \n2. Taller “Aprendizaje Basado en Problemas y Casos”\nMartes 07 de abril de 13:50 a 16:20 hrs. Sala B202\nINSCRIPCIONES ACÁ \n3. Taller “Hazlo Genial(ly): creatividad e interactividad en tu docencia”\nLunes 20 de abril de 13:50 a 16:20 hrs. Sala A710\nINSCRIPCIONES ACÁ \n4. ¡Actívate con un café! Inclusión en el Aula: Del Protocolo a la Práctica\nLunes 27 de abril de 10:00 a 11:00 hrs. Sala A206\nINSCRIPCIONES ACÁ \n5. Taller “¡Recupera la motivación! Gamifica tus clases”\nMartes 28 de abril de 13:50 a 16:20 hrs. Sala B202\nINSCRIPCIONES ACÁ
URL:https://finis.cl/agenda/actividades-formativas-para-docentes-abril-4/
LOCATION:Sala A206
CATEGORIES:Centro de Innovación Docente,Vicerrectoría Académica
ATTACH;FMTTYPE=image/jpeg:https://finis.cl/wp-content/uploads/2026/03/Agenda-web-32.jpg
END:VEVENT
BEGIN:VEVENT
DTSTART;TZID=America/Santiago:20260428T135000
DTEND;TZID=America/Santiago:20260428T162000
DTSTAMP:20260423T024015
CREATED:20260325T150026Z
LAST-MODIFIED:20260325T160529Z
UID:50843-1777384200-1777393200@finis.cl
SUMMARY:Actividades formativas para docentes: abril
DESCRIPTION:El Centro de Innovación Docente de la Dirección de Gestión y Desarrollo Académico\, invita los académicos a ser parte de las actividades de formación docente del mes de abril. Sabemos que el comienzo de cada semestre se perfila como un nuevo escenario para innovar\, reflexionar y fortalecer nuestras prácticas pedagógicas. \nPor eso\, en preparación para este\, queremos invitarles a distintas actividades y espacios diseñados para enriquecer el proceso de enseñanza-aprendizaje\, siempre con foco en mejorar la experiencia educativa de nuestros/as estudiantes. Las inscripciones están disponibles a través del enlace correspondiente en la descripción de cada actividad. \n¡Te esperamos para seguir transformando juntos la docencia universitaria! \n1. Taller “De la Idea al Aula: Crea tu Asistente IA Educativo”\nLunes 06 de abril de 14:00 a 17:00 hrs. Sala C207\nINSCRIPCIONES ACÁ \n2. Taller “Aprendizaje Basado en Problemas y Casos”\nMartes 07 de abril de 13:50 a 16:20 hrs. Sala B202\nINSCRIPCIONES ACÁ \n3.Taller “Hazlo Genial(ly): creatividad e interactividad en tu docencia”\nLunes 20 de abril de 13:50 a 16:20 hrs. Sala A710\nINSCRIPCIONES ACÁ \n4. ¡Actívate con un café! Inclusión en el Aula: Del Protocolo a la Práctica\nLunes 27 de abril de 10:00 a 11:00 hrs. Sala A206\nINSCRIPCIONES ACÁ \n5. Taller “¡Recupera la motivación! Gamifica tus clases”\nMartes 28 de abril de 13:50 a 16:20 hrs. Sala B202\nINSCRIPCIONES ACÁ
URL:https://finis.cl/agenda/actividades-formativas-para-docentes-abril-5/
LOCATION:Auditorio B202
CATEGORIES:Centro de Innovación Docente,Vicerrectoría Académica
ATTACH;FMTTYPE=image/jpeg:https://finis.cl/wp-content/uploads/2026/03/Agenda-web-32.jpg
END:VEVENT
END:VCALENDAR