BEGIN:VCALENDAR
VERSION:2.0
PRODID:-//Universidad Finis Terrae - ECPv6.15.17.1//NONSGML v1.0//EN
CALSCALE:GREGORIAN
METHOD:PUBLISH
X-WR-CALNAME:Universidad Finis Terrae
X-ORIGINAL-URL:https://finis.cl
X-WR-CALDESC:Eventos para Universidad Finis Terrae
REFRESH-INTERVAL;VALUE=DURATION:PT1H
X-Robots-Tag:noindex
X-PUBLISHED-TTL:PT1H
BEGIN:VTIMEZONE
TZID:America/Santiago
BEGIN:STANDARD
TZOFFSETFROM:-0300
TZOFFSETTO:-0400
TZNAME:-04
DTSTART:20240407T030000
END:STANDARD
BEGIN:DAYLIGHT
TZOFFSETFROM:-0400
TZOFFSETTO:-0300
TZNAME:-03
DTSTART:20240908T040000
END:DAYLIGHT
BEGIN:STANDARD
TZOFFSETFROM:-0300
TZOFFSETTO:-0400
TZNAME:-04
DTSTART:20250406T030000
END:STANDARD
BEGIN:DAYLIGHT
TZOFFSETFROM:-0400
TZOFFSETTO:-0300
TZNAME:-03
DTSTART:20250907T040000
END:DAYLIGHT
BEGIN:STANDARD
TZOFFSETFROM:-0300
TZOFFSETTO:-0400
TZNAME:-04
DTSTART:20260405T030000
END:STANDARD
BEGIN:DAYLIGHT
TZOFFSETFROM:-0400
TZOFFSETTO:-0300
TZNAME:-03
DTSTART:20260906T040000
END:DAYLIGHT
END:VTIMEZONE
BEGIN:VEVENT
DTSTART;TZID=America/Santiago:20251201T080000
DTEND;TZID=America/Santiago:20251222T170000
DTSTAMP:20260423T094210
CREATED:20251201T182123Z
LAST-MODIFIED:20251219T184310Z
UID:47381-1764576000-1766422800@finis.cl
SUMMARY:Convocatoria 2026: Postulación a Incentivos Docentes Finis
DESCRIPTION:La Vicerrectoría Académica\, a través de la Dirección de Gestión y Desarrollo Académico\, invita a postular a los Incentivos Docentes 2026. Las convocatorias incluyen: \n\nBeca VRA de perfeccionamiento\, para participar en programas de posgrado\, postítulos u otras instancias de formación fuera de la Universidad Finis Terrae.\nPasantías y viajes académicos\, nacionales o internacionales\, orientados a la innovación educativa e investigación formativa (Scholarship of Teaching and Learning – SoTL).\nPeríodo sabático\, dirigido a académicos/as titulares o asociados para desarrollar proyectos de investigación\, creación artística o docencia especializada.\n\nAgradecemos su participación y compromiso con el desarrollo académico institucional. Revisa los formularios de postulación y las bases de cada concurso aquí: \n\nBeca VRA\n\nFormulario: VER ACÁ\nBases VER ACÁ \n\nPasantías y viajes académicos\n\nFormulario VER ACÁ\nBases VER ACÁ \n\nPeriodo sabático\n\nFormulario VER ACÁ\nBases VER ACÁ \n\nInformación importante:\n\nLanzamiento del concurso: 1 de diciembre 2025 \nCierre postulación: 22 de diciembre 2025 \nEvaluación de antecedentes: diciembre 2025 \nAnuncio de resultados: enero 2026
URL:https://finis.cl/agenda/convocatoria-2026-postulacion-a-incentivos-docentes-finis/
LOCATION:Online
CATEGORIES:Centro de Innovación Docente,Vicerrectoría Académica
ATTACH;FMTTYPE=image/jpeg:https://finis.cl/wp-content/uploads/2025/12/Agenda-web-2025-12-01T152021.735.jpg
END:VEVENT
END:VCALENDAR