BEGIN:VCALENDAR
VERSION:2.0
PRODID:-//Universidad Finis Terrae - ECPv6.15.17.1//NONSGML v1.0//EN
CALSCALE:GREGORIAN
METHOD:PUBLISH
X-ORIGINAL-URL:https://finis.cl
X-WR-CALDESC:Eventos para Universidad Finis Terrae
REFRESH-INTERVAL;VALUE=DURATION:PT1H
X-Robots-Tag:noindex
X-PUBLISHED-TTL:PT1H
BEGIN:VTIMEZONE
TZID:America/Santiago
BEGIN:STANDARD
TZOFFSETFROM:-0300
TZOFFSETTO:-0400
TZNAME:-04
DTSTART:20240407T030000
END:STANDARD
BEGIN:DAYLIGHT
TZOFFSETFROM:-0400
TZOFFSETTO:-0300
TZNAME:-03
DTSTART:20240908T040000
END:DAYLIGHT
BEGIN:STANDARD
TZOFFSETFROM:-0300
TZOFFSETTO:-0400
TZNAME:-04
DTSTART:20250406T030000
END:STANDARD
BEGIN:DAYLIGHT
TZOFFSETFROM:-0400
TZOFFSETTO:-0300
TZNAME:-03
DTSTART:20250907T040000
END:DAYLIGHT
BEGIN:STANDARD
TZOFFSETFROM:-0300
TZOFFSETTO:-0400
TZNAME:-04
DTSTART:20260405T030000
END:STANDARD
BEGIN:DAYLIGHT
TZOFFSETFROM:-0400
TZOFFSETTO:-0300
TZNAME:-03
DTSTART:20260906T040000
END:DAYLIGHT
END:VTIMEZONE
BEGIN:VEVENT
DTSTART;TZID=America/Santiago:20251028T180000
DTEND;TZID=America/Santiago:20251028T190000
DTSTAMP:20260423T111044
CREATED:20251023T132441Z
LAST-MODIFIED:20251023T132606Z
UID:45197-1761674400-1761678000@finis.cl
SUMMARY:Titulación Diplomado en Docencia Universitaria
DESCRIPTION:La Ceremonia de Titulación del Diplomado en Docencia Universitaria celebra el compromiso y la dedicación de quienes han fortalecido sus competencias para una docencia de excelencia\, en coherencia con el proyecto educativo y la identidad de la Universidad Finis Terrae. \nEl Diplomado en Docencia Universitaria\, impulsado por el Centro de Innovación y Desarrollo Docente\, busca desarrollar en el cuerpo académico las habilidades necesarias para una enseñanza de calidad y un aprendizaje significativo\, reafirmando el valor de la formación continua en nuestra comunidad. \nTe esperamos para compartir este hito académico y reconocer el esfuerzo de quienes culminan con éxito esta importante etapa.
URL:https://finis.cl/agenda/titulacion-diplomado-en-docencia-universitaria/
LOCATION:Teatro Finis Terrae\, Av. Pedro de Valdivia 1509\, Santiago\, Providencia\, 7500986\, Chile
CATEGORIES:Centro de Innovación Docente,Vicerrectoría Académica
ATTACH;FMTTYPE=image/jpeg:https://finis.cl/wp-content/uploads/2025/10/Agenda-web-2025-10-23T102357.948.jpg
END:VEVENT
END:VCALENDAR