BEGIN:VCALENDAR
VERSION:2.0
PRODID:-//Universidad Finis Terrae - ECPv6.15.17.1//NONSGML v1.0//EN
CALSCALE:GREGORIAN
METHOD:PUBLISH
X-WR-CALNAME:Universidad Finis Terrae
X-ORIGINAL-URL:https://finis.cl
X-WR-CALDESC:Eventos para Universidad Finis Terrae
REFRESH-INTERVAL;VALUE=DURATION:PT1H
X-Robots-Tag:noindex
X-PUBLISHED-TTL:PT1H
BEGIN:VTIMEZONE
TZID:America/Santiago
BEGIN:STANDARD
TZOFFSETFROM:-0300
TZOFFSETTO:-0400
TZNAME:-04
DTSTART:20230402T030000
END:STANDARD
BEGIN:DAYLIGHT
TZOFFSETFROM:-0400
TZOFFSETTO:-0300
TZNAME:-03
DTSTART:20230903T040000
END:DAYLIGHT
BEGIN:STANDARD
TZOFFSETFROM:-0300
TZOFFSETTO:-0400
TZNAME:-04
DTSTART:20240407T030000
END:STANDARD
BEGIN:DAYLIGHT
TZOFFSETFROM:-0400
TZOFFSETTO:-0300
TZNAME:-03
DTSTART:20240908T040000
END:DAYLIGHT
BEGIN:STANDARD
TZOFFSETFROM:-0300
TZOFFSETTO:-0400
TZNAME:-04
DTSTART:20250406T030000
END:STANDARD
BEGIN:DAYLIGHT
TZOFFSETFROM:-0400
TZOFFSETTO:-0300
TZNAME:-03
DTSTART:20250907T040000
END:DAYLIGHT
END:VTIMEZONE
BEGIN:VEVENT
DTSTART;TZID=America/Santiago:20240927T000100
DTEND;TZID=America/Santiago:20240927T235900
DTSTAMP:20260424T075539
CREATED:20250715T154221Z
LAST-MODIFIED:20250715T154221Z
UID:39705-1727395260-1727481540@finis.cl
SUMMARY:Cursos de inglés para colaboradores y académicos
DESCRIPTION:Estimado/as colaboradores. \nQueremos informar que hemos extendido el plazo para inscribirse a los CURSOS DE INGLÉS. Estos se ofrecerán a partir del lunes 30 de septiembre del 2024 y terminarán en diciembre. \nEstos cursos consideran clases online sincrónicas de una hora de duración dos veces por semana. \nEl curso tendrá un costo por persona de 165.000 pesos en total. \nSi quieres revisar niveles\, horarios y registrar tus datos\, ingresa ACÁ \nLos interesados deben inscribirse hasta el viernes 27 de septiembre del 2024. \nCualquier duda o consulta\, escribe a Paola Pando Díaz\, Coordinadora del Programa de Idiomas al correo ppando@uft.cl \n¡Te esperamos!
URL:https://finis.cl/agenda/cursos-de-ingles-para-funcionarios-y-academicos-2/
CATEGORIES:Programa de Idiomas,Vicerrectoría Académica
END:VEVENT
END:VCALENDAR