BEGIN:VCALENDAR
VERSION:2.0
PRODID:-//Universidad Finis Terrae - ECPv6.15.17.1//NONSGML v1.0//EN
CALSCALE:GREGORIAN
METHOD:PUBLISH
X-WR-CALNAME:Universidad Finis Terrae
X-ORIGINAL-URL:https://finis.cl
X-WR-CALDESC:Eventos para Universidad Finis Terrae
REFRESH-INTERVAL;VALUE=DURATION:PT1H
X-Robots-Tag:noindex
X-PUBLISHED-TTL:PT1H
BEGIN:VTIMEZONE
TZID:America/Santiago
BEGIN:STANDARD
TZOFFSETFROM:-0300
TZOFFSETTO:-0400
TZNAME:-04
DTSTART:20240407T030000
END:STANDARD
BEGIN:DAYLIGHT
TZOFFSETFROM:-0400
TZOFFSETTO:-0300
TZNAME:-03
DTSTART:20240908T040000
END:DAYLIGHT
BEGIN:STANDARD
TZOFFSETFROM:-0300
TZOFFSETTO:-0400
TZNAME:-04
DTSTART:20250406T030000
END:STANDARD
BEGIN:DAYLIGHT
TZOFFSETFROM:-0400
TZOFFSETTO:-0300
TZNAME:-03
DTSTART:20250907T040000
END:DAYLIGHT
BEGIN:STANDARD
TZOFFSETFROM:-0300
TZOFFSETTO:-0400
TZNAME:-04
DTSTART:20260405T030000
END:STANDARD
BEGIN:DAYLIGHT
TZOFFSETFROM:-0400
TZOFFSETTO:-0300
TZNAME:-03
DTSTART:20260906T040000
END:DAYLIGHT
END:VTIMEZONE
BEGIN:VEVENT
DTSTART;TZID=America/Santiago:20251113T091500
DTEND;TZID=America/Santiago:20251113T103000
DTSTAMP:20260423T093849
CREATED:20251024T132832Z
LAST-MODIFIED:20251111T182021Z
UID:45264-1763025300-1763029800@finis.cl
SUMMARY:Lanzamiento Modelo Formativo Finis Transforma
DESCRIPTION:La Universidad Finis Terrae da un paso decisivo en la evolución de su proyecto educativo con el nuevo Modelo Formativo Finis Transforma.  \nEste modelo reafirma nuestro sello en torno a las artes\, las humanidades\, la innovación y la centralidad de la persona\, proyectando hacia el futuro la tradición que nos distingue. \nMás que un cambio curricular\, Finis Transforma es una nueva manera de vivir la universidad\, construyendo trayectorias que articulan la formación y el empleo a lo largo de la vida. \nPor eso\, los invitamos a ser parte de este hito institucional que marca el inicio de una nueva etapa para nuestra comunidad universitaria. \n📅 Fecha: Jueves 13 noviembre\n 🕘 Hora: 09:15 hrs. (Puertas se cierran 09:30 hrs.)\n 📍 Lugar: Teatro Finis Terrae. Avda. Pedro de Valdivia 1509\, Providencia. \nPROGRAMA\nLectura dramatizada: Extracto del libro “Para qué leer” de Marco Antonio de la Parra.\n \nPresentación Modelo Finis Transforma: Elisa Marchant\, vicerrectora académica Universidad Finis Terrae. \nCharla magistral: “La importancia de las humanidades”. Expositor: Carlos Peña González\, Rector de la Universidad Diego Portales. \nCierre: Juan Eduardo Vargas\, rector Universidad Finis Terrae. \nCONOCE MÁS SOBRE FINIS TRANSFORMA AQUÍ
URL:https://finis.cl/agenda/lanzamiento-modelo-formativo-finis-transforma/
LOCATION:Teatro Finis Terrae\, Av. Pedro de Valdivia 1509\, Santiago\, Providencia\, 7500986\, Chile
CATEGORIES:Estudiantes,U. Finis Terrae,Universidad,Vicerrectoría Académica
ATTACH;FMTTYPE=image/jpeg:https://finis.cl/wp-content/uploads/2025/10/Agenda-web-2025-10-24T102752.934.jpg
END:VEVENT
BEGIN:VEVENT
DTSTART;TZID=America/Santiago:20251120T150000
DTEND;TZID=America/Santiago:20251210T130000
DTSTAMP:20260423T093849
CREATED:20251106T195509Z
LAST-MODIFIED:20251107T145116Z
UID:45734-1763650800-1765371600@finis.cl
SUMMARY:Talleres de fin de año: aprendizajes que inspirarán tu docencia del próximo año
DESCRIPTION:El Centro de Innovación Docente de la Dirección de Gestión y Desarrollo Académico invita a conocer la oferta de actividades de formación docente para los meses de noviembre y diciembre. \nSabemos que el segundo semestre se perfila como un nuevo escenario para innovar\, reflexionar y fortalecer nuestras prácticas pedagógicas. Por eso\, queremos invitarles a distintas actividades y espacios diseñados para enriquecer el proceso de enseñanza-aprendizaje\, siempre con foco en mejorar la experiencia educativa de\nnuestros estudiantes. \n¡Te esperamos para seguir transformando juntos la docencia universitaria! \nPROGRAMA: \nJueves 20 de noviembre\n15:00 a 18:00 hrs. Sala B408\nTaller “Más allá de la respuesta correcta: ¿cómo evaluar pensamiento crítico?”\nINSCRIPCIONES ACÁ \nMiércoles 26 de noviembre\n09:30 a 12:30 hrs. Sala Cowork\nTaller “Storytelling: ¿Cuál es la historia que te cuentas?”\nINSCRIPCIONES ACÁ \nMartes 02 de diciembre\n10:00 a 13:00 hrs. Sala Cowork\nTaller “Sube de nivel con IA: Aplicaciones educativas para docentes en acción”\nINSCRIPCIONES ACÁ \nMiércoles 10 de diciembre\n10:00 a 13:00 hrs. Sala A704\nTaller “Masterclass en Visual Thinking Strategies: Observar\, escuchar y pensar con evidencia”\nINSCRIPCIONES ACÁ
URL:https://finis.cl/agenda/talleres-de-fin-de-ano-aprendizajes-que-inspiraran-tu-docencia-del-proximo-ano/
LOCATION:Universidad Finis Terrae
CATEGORIES:Centro de Innovación Docente,Vicerrectoría Académica
ATTACH;FMTTYPE=image/jpeg:https://finis.cl/wp-content/uploads/2025/11/Agenda-web-2025-11-06T165127.850.jpg
END:VEVENT
BEGIN:VEVENT
DTSTART;TZID=America/Santiago:20251125T180000
DTEND;TZID=America/Santiago:20251125T190000
DTSTAMP:20260423T093849
CREATED:20251023T145853Z
LAST-MODIFIED:20251023T145853Z
UID:45208-1764093600-1764097200@finis.cl
SUMMARY:Ceremonia de Titulación Facultad de Derecho
DESCRIPTION:Juan Eduardo Vargas\, Rector de la Universidad Finis Terrae y Ricardo Jungmann\, Decano de la Faculta de Derecho de la Universidad Finis Terrae\, tienen el agrado de invitarle a la Ceremonia de Egreso de la Promoción 2024 Jornada Diurna. \nEl acto se realizará el día martes 25 de noviembre a las 18:00 hrs.\, en el Teatro de la Universidad. (Avda.Pedro de Valdivia 1509\, Providencia)
URL:https://finis.cl/agenda/ceremonia-de-titulacion-facultad-de-derecho/
LOCATION:Teatro Finis Terrae\, Av. Pedro de Valdivia 1509\, Santiago\, Providencia\, 7500986\, Chile
CATEGORIES:Estudiantes,Extensión Cultural,Facultad de Derecho,Vicerrectoría Académica
ATTACH;FMTTYPE=image/jpeg:https://finis.cl/wp-content/uploads/2025/10/Agenda-web-2025-10-23T115830.540.jpg
END:VEVENT
END:VCALENDAR