BEGIN:VCALENDAR
VERSION:2.0
PRODID:-//Universidad Finis Terrae - ECPv6.15.17.1//NONSGML v1.0//EN
CALSCALE:GREGORIAN
METHOD:PUBLISH
X-WR-CALNAME:Universidad Finis Terrae
X-ORIGINAL-URL:https://finis.cl
X-WR-CALDESC:Eventos para Universidad Finis Terrae
REFRESH-INTERVAL;VALUE=DURATION:PT1H
X-Robots-Tag:noindex
X-PUBLISHED-TTL:PT1H
BEGIN:VTIMEZONE
TZID:America/Santiago
BEGIN:STANDARD
TZOFFSETFROM:-0300
TZOFFSETTO:-0400
TZNAME:-04
DTSTART:20230402T030000
END:STANDARD
BEGIN:DAYLIGHT
TZOFFSETFROM:-0400
TZOFFSETTO:-0300
TZNAME:-03
DTSTART:20230903T040000
END:DAYLIGHT
BEGIN:STANDARD
TZOFFSETFROM:-0300
TZOFFSETTO:-0400
TZNAME:-04
DTSTART:20240407T030000
END:STANDARD
BEGIN:DAYLIGHT
TZOFFSETFROM:-0400
TZOFFSETTO:-0300
TZNAME:-03
DTSTART:20240908T040000
END:DAYLIGHT
BEGIN:STANDARD
TZOFFSETFROM:-0300
TZOFFSETTO:-0400
TZNAME:-04
DTSTART:20250406T030000
END:STANDARD
BEGIN:DAYLIGHT
TZOFFSETFROM:-0400
TZOFFSETTO:-0300
TZNAME:-03
DTSTART:20250907T040000
END:DAYLIGHT
END:VTIMEZONE
BEGIN:VEVENT
DTSTART;TZID=America/Santiago:20240122T140000
DTEND;TZID=America/Santiago:20240122T235900
DTSTAMP:20260424T173249
CREATED:20250715T154801Z
LAST-MODIFIED:20250715T154801Z
UID:40022-1705932000-1705967940@finis.cl
SUMMARY:Calendario de talleres para docentes: Enero
DESCRIPTION:Les enviamos a continuación la oferta de actividades abiertas del mes de enero del Centro de Innovación Docente de la Dirección de Gestión y Desarrollo Académico. \nEl Centro de Innovación Docente tiene como objetivo ofrecer de manera permanente diversos espacios de apoyo y formación en habilidades pedagógicas centradas en mejorar la calidad de los aprendizajes de nuestros estudiantes. \nTaller: \nIntroducción al A+S ¿Cómo implementar Aprendizaje Servicio en tu asignatura?\n8 de enero – 14:00 a 17:00 hrs.\nSala B302\nInscripciones ACÁ. \nDe grupos a equipos: Metodología de aprendizaje basado en equipos (TBL).\n11 de enero – 14:00 a 17:00 hrs.\nSala B302\nInscripciones ACÁ. \n¿Cómo evaluar las presentaciones orales de mis estudiantes?\n16 de enero – 10:00 a 13:00 hrs.\nSala B305\nInscripciones ACÁ. \nAcompañar el aprendizaje: Navegando a través de la enseñanza para la comprensión y la metodología TILT.\n22 de enero – 14:00 a 17:00 hrs.\nSala B302.\nInscripciones ACÁ. \nDesayunos de innovación \n¡Actívate con un café! Docencia y ChatGPT: Transforma tu docencia con Inteligencia Artificial.\n3 de enero – 10:00 a 11:00 hrs.\nSala A703.\nInscripciones ACÁ. \n¡Actívate con un café! Potencia el aprendizaje con tecnología interactiva a través de Plickers.\n15 de enero – 10:00 a 11:00 hrs.\nSala B305\nInscripciones ACÁ.
URL:https://finis.cl/agenda/calendario-de-talleres-para-docentes-enero/
CATEGORIES:Centro de Innovación Docente,Vicerrectoría Académica
END:VEVENT
END:VCALENDAR