BEGIN:VCALENDAR
VERSION:2.0
PRODID:-//Universidad Finis Terrae - ECPv6.15.17.1//NONSGML v1.0//EN
CALSCALE:GREGORIAN
METHOD:PUBLISH
X-ORIGINAL-URL:https://finis.cl
X-WR-CALDESC:Eventos para Universidad Finis Terrae
REFRESH-INTERVAL;VALUE=DURATION:PT1H
X-Robots-Tag:noindex
X-PUBLISHED-TTL:PT1H
BEGIN:VTIMEZONE
TZID:America/Santiago
BEGIN:STANDARD
TZOFFSETFROM:-0300
TZOFFSETTO:-0400
TZNAME:-04
DTSTART:20240407T030000
END:STANDARD
BEGIN:DAYLIGHT
TZOFFSETFROM:-0400
TZOFFSETTO:-0300
TZNAME:-03
DTSTART:20240908T040000
END:DAYLIGHT
BEGIN:STANDARD
TZOFFSETFROM:-0300
TZOFFSETTO:-0400
TZNAME:-04
DTSTART:20250406T030000
END:STANDARD
BEGIN:DAYLIGHT
TZOFFSETFROM:-0400
TZOFFSETTO:-0300
TZNAME:-03
DTSTART:20250907T040000
END:DAYLIGHT
BEGIN:STANDARD
TZOFFSETFROM:-0300
TZOFFSETTO:-0400
TZNAME:-04
DTSTART:20260405T030000
END:STANDARD
BEGIN:DAYLIGHT
TZOFFSETFROM:-0400
TZOFFSETTO:-0300
TZNAME:-03
DTSTART:20260906T040000
END:DAYLIGHT
END:VTIMEZONE
BEGIN:VEVENT
DTSTART;TZID=America/Santiago:20251127T183000
DTEND;TZID=America/Santiago:20251127T193000
DTSTAMP:20260423T010748
CREATED:20251105T191013Z
LAST-MODIFIED:20260331T193643Z
UID:45694-1764268200-1764271800@finis.cl
SUMMARY:Cuarta sesión Club de Collage\, prácticas creativas
DESCRIPTION:La Escuela de Publicidad organiza este espacio mensual para experimentar con imágenes\, imaginación y composición. El ciclo culminará con la donación colectiva de obras al Archivo Nacional de Collage en la Biblioteca Nacional. \n\nCorreo: publicidad@uft.cl\nInscripciones ACÁ
URL:https://finis.cl/agenda/cuarta-sesion-club-de-collage-practicas-creativas/
LOCATION:Sala Cowork
CATEGORIES:Ciclos,Comunidad Finis Terrae,Estudiantes,Publicidad
ATTACH;FMTTYPE=image/jpeg:https://finis.cl/wp-content/uploads/2025/07/Plantillas-fotos-agenda-17.jpg
END:VEVENT
END:VCALENDAR