BEGIN:VCALENDAR
VERSION:2.0
PRODID:-//Universidad Finis Terrae - ECPv6.15.17.1//NONSGML v1.0//EN
CALSCALE:GREGORIAN
METHOD:PUBLISH
X-ORIGINAL-URL:https://finis.cl
X-WR-CALDESC:Eventos para Universidad Finis Terrae
REFRESH-INTERVAL;VALUE=DURATION:PT1H
X-Robots-Tag:noindex
X-PUBLISHED-TTL:PT1H
BEGIN:VTIMEZONE
TZID:America/Santiago
BEGIN:STANDARD
TZOFFSETFROM:-0300
TZOFFSETTO:-0400
TZNAME:-04
DTSTART:20240407T030000
END:STANDARD
BEGIN:DAYLIGHT
TZOFFSETFROM:-0400
TZOFFSETTO:-0300
TZNAME:-03
DTSTART:20240908T040000
END:DAYLIGHT
BEGIN:STANDARD
TZOFFSETFROM:-0300
TZOFFSETTO:-0400
TZNAME:-04
DTSTART:20250406T030000
END:STANDARD
BEGIN:DAYLIGHT
TZOFFSETFROM:-0400
TZOFFSETTO:-0300
TZNAME:-03
DTSTART:20250907T040000
END:DAYLIGHT
BEGIN:STANDARD
TZOFFSETFROM:-0300
TZOFFSETTO:-0400
TZNAME:-04
DTSTART:20260405T030000
END:STANDARD
BEGIN:DAYLIGHT
TZOFFSETFROM:-0400
TZOFFSETTO:-0300
TZNAME:-03
DTSTART:20260906T040000
END:DAYLIGHT
END:VTIMEZONE
BEGIN:VEVENT
DTSTART;TZID=America/Santiago:20251024T090000
DTEND;TZID=America/Santiago:20251024T180000
DTSTAMP:20260423T024153
CREATED:20251001T200610Z
LAST-MODIFIED:20251001T203357Z
UID:44014-1761296400-1761328800@finis.cl
SUMMARY:Pasaporte
DESCRIPTION:Pasaporte es un concurso para estudiantes de Publicidad propio de la Universidad Finis Terrae\, en donde los participantes trabajan durante un día en una propuesta comunicacional para resolver un problema social o cultural de un cliente real. Este concurso funciona como un coworking para estudiantes de Publicidad\, pues tiene la particularidad de que los grupos que compiten son conformados por estudiantes de diferentes casas de estudio el mismo día del evento. El foco está puesto en la experiencia más que en la competencia. \nPrecisamente\, compartir con pares de otras casas de estudio ha sido muy valorado y destacado por los participantes de las cinco primeras ediciones. Así\, en poco tiempo\, Pasaporte ha logrado posicionarse como único dentro de la oferta de concurso de Escuelas de Publicidad del país. \nSe trabaja con cliente real\, fundación social \nINSCRIPCIONES ACÁ
URL:https://finis.cl/agenda/pasaporte-2/
LOCATION:Sala Cowork
CATEGORIES:Estudiantes,Publicidad
ATTACH;FMTTYPE=image/jpeg:https://finis.cl/wp-content/uploads/2025/10/Agenda-web-58.jpg
END:VEVENT
END:VCALENDAR