BEGIN:VCALENDAR
VERSION:2.0
PRODID:-//Universidad Finis Terrae - ECPv6.15.17.1//NONSGML v1.0//EN
CALSCALE:GREGORIAN
METHOD:PUBLISH
X-WR-CALNAME:Universidad Finis Terrae
X-ORIGINAL-URL:https://finis.cl
X-WR-CALDESC:Eventos para Universidad Finis Terrae
REFRESH-INTERVAL;VALUE=DURATION:PT1H
X-Robots-Tag:noindex
X-PUBLISHED-TTL:PT1H
BEGIN:VTIMEZONE
TZID:America/Santiago
BEGIN:STANDARD
TZOFFSETFROM:-0300
TZOFFSETTO:-0400
TZNAME:-04
DTSTART:20240407T030000
END:STANDARD
BEGIN:DAYLIGHT
TZOFFSETFROM:-0400
TZOFFSETTO:-0300
TZNAME:-03
DTSTART:20240908T040000
END:DAYLIGHT
BEGIN:STANDARD
TZOFFSETFROM:-0300
TZOFFSETTO:-0400
TZNAME:-04
DTSTART:20250406T030000
END:STANDARD
BEGIN:DAYLIGHT
TZOFFSETFROM:-0400
TZOFFSETTO:-0300
TZNAME:-03
DTSTART:20250907T040000
END:DAYLIGHT
BEGIN:STANDARD
TZOFFSETFROM:-0300
TZOFFSETTO:-0400
TZNAME:-04
DTSTART:20260405T030000
END:STANDARD
BEGIN:DAYLIGHT
TZOFFSETFROM:-0400
TZOFFSETTO:-0300
TZNAME:-03
DTSTART:20260906T040000
END:DAYLIGHT
END:VTIMEZONE
BEGIN:VEVENT
DTSTART;TZID=America/Santiago:20251001T180000
DTEND;TZID=America/Santiago:20251001T210000
DTSTAMP:20260423T023957
CREATED:20250902T213543Z
LAST-MODIFIED:20260331T193646Z
UID:42553-1759341600-1759352400@finis.cl
SUMMARY:Club de Juegos de Mesa 2025 - 2026
DESCRIPTION:La Escuela de Publicidad cuenta con una Ludoteca para que vengas a divertirte. Únete a nuestro Club para jugar tus juegos favoritos y descubrir otros nuevos.No te preocupes si no sabes jugar alguno: nosotros te enseñamos. Lo más importante es pasar un buen rato en un ambiente entretenido y relajado. \nAdemás\, en algunas reuniones podrás aprender —de la mano de expertos— cómo se crean los juegos de mesa\, cómo se desarrollan y cómo funcionan las editoriales del rubro. \nFecha: PRIMER MIÉRCOLES DE CADA MES \n\nINSCRIPCIONES ACÁ\n\nVALOR GENERAL: $15.000  (Incluye coffee break) – Pago único por todo el ciclo (hasta agosto 2026). Dudas\, consultas y comentarios\, escribir a publicidad@uft.cl
URL:https://finis.cl/agenda/club-de-juegos-de-mesa-2025-2026-2/
LOCATION:Sala A306
CATEGORIES:Ciclos,Publicidad
ATTACH;FMTTYPE=image/jpeg:https://finis.cl/wp-content/uploads/2025/09/Agenda-web-1.jpg
END:VEVENT
END:VCALENDAR