BEGIN:VCALENDAR
VERSION:2.0
PRODID:-//Universidad Finis Terrae - ECPv6.15.17.1//NONSGML v1.0//EN
CALSCALE:GREGORIAN
METHOD:PUBLISH
X-ORIGINAL-URL:https://finis.cl
X-WR-CALDESC:Eventos para Universidad Finis Terrae
REFRESH-INTERVAL;VALUE=DURATION:PT1H
X-Robots-Tag:noindex
X-PUBLISHED-TTL:PT1H
BEGIN:VTIMEZONE
TZID:America/Santiago
BEGIN:STANDARD
TZOFFSETFROM:-0300
TZOFFSETTO:-0400
TZNAME:-04
DTSTART:20240407T030000
END:STANDARD
BEGIN:DAYLIGHT
TZOFFSETFROM:-0400
TZOFFSETTO:-0300
TZNAME:-03
DTSTART:20240908T040000
END:DAYLIGHT
BEGIN:STANDARD
TZOFFSETFROM:-0300
TZOFFSETTO:-0400
TZNAME:-04
DTSTART:20250406T030000
END:STANDARD
BEGIN:DAYLIGHT
TZOFFSETFROM:-0400
TZOFFSETTO:-0300
TZNAME:-03
DTSTART:20250907T040000
END:DAYLIGHT
BEGIN:STANDARD
TZOFFSETFROM:-0300
TZOFFSETTO:-0400
TZNAME:-04
DTSTART:20260405T030000
END:STANDARD
BEGIN:DAYLIGHT
TZOFFSETFROM:-0400
TZOFFSETTO:-0300
TZNAME:-03
DTSTART:20260906T040000
END:DAYLIGHT
END:VTIMEZONE
BEGIN:VEVENT
DTSTART;TZID=America/Santiago:20250930T134500
DTEND;TZID=America/Santiago:20250930T143000
DTSTAMP:20260423T024219
CREATED:20250922T210708Z
LAST-MODIFIED:20250922T210708Z
UID:43518-1759239900-1759242600@finis.cl
SUMMARY:Charla: "Cuando la fotografía te encuentra"
DESCRIPTION:En esta jornada\, conocerán la historia de cómo un Doctor en Literatura y amante de la música llega a fotografiar a bandas nacionales. El recorrido desde la pasión y las ganas\, ya no es técnico es desde el alma. \nEXPONE: \nHugo Hinojosa. Fotógrafo de conciertos. \n 
URL:https://finis.cl/agenda/charla-cuando-la-fotografia-te-encuentra/
LOCATION:Auditorio C102
CATEGORIES:Publicidad
ATTACH;FMTTYPE=image/jpeg:https://finis.cl/wp-content/uploads/2025/09/Agenda-web-36.jpg
END:VEVENT
END:VCALENDAR