BEGIN:VCALENDAR
VERSION:2.0
PRODID:-//Universidad Finis Terrae - ECPv6.15.17.1//NONSGML v1.0//EN
CALSCALE:GREGORIAN
METHOD:PUBLISH
X-WR-CALNAME:Universidad Finis Terrae
X-ORIGINAL-URL:https://finis.cl
X-WR-CALDESC:Eventos para Universidad Finis Terrae
REFRESH-INTERVAL;VALUE=DURATION:PT1H
X-Robots-Tag:noindex
X-PUBLISHED-TTL:PT1H
BEGIN:VTIMEZONE
TZID:America/Santiago
BEGIN:STANDARD
TZOFFSETFROM:-0300
TZOFFSETTO:-0400
TZNAME:-04
DTSTART:20240407T030000
END:STANDARD
BEGIN:DAYLIGHT
TZOFFSETFROM:-0400
TZOFFSETTO:-0300
TZNAME:-03
DTSTART:20240908T040000
END:DAYLIGHT
BEGIN:STANDARD
TZOFFSETFROM:-0300
TZOFFSETTO:-0400
TZNAME:-04
DTSTART:20250406T030000
END:STANDARD
BEGIN:DAYLIGHT
TZOFFSETFROM:-0400
TZOFFSETTO:-0300
TZNAME:-03
DTSTART:20250907T040000
END:DAYLIGHT
BEGIN:STANDARD
TZOFFSETFROM:-0300
TZOFFSETTO:-0400
TZNAME:-04
DTSTART:20260405T030000
END:STANDARD
BEGIN:DAYLIGHT
TZOFFSETFROM:-0400
TZOFFSETTO:-0300
TZNAME:-03
DTSTART:20260906T040000
END:DAYLIGHT
END:VTIMEZONE
BEGIN:VEVENT
DTSTART;TZID=America/Santiago:20250822T093000
DTEND;TZID=America/Santiago:20250822T110000
DTSTAMP:20260423T055924
CREATED:20250806T195744Z
LAST-MODIFIED:20250811T171000Z
UID:41249-1755855000-1755860400@finis.cl
SUMMARY:Charla "La década Impensable 2025-2035" - Julio Rojas
DESCRIPTION:Estamos viviendo en la época más extraordinaria de la historia humana\, una era sin precedentes en la que se está configurando un tsunami tecnológico \, científico y filosófico. Todo lo que damos por sentado\, incluido la propia noción de realidad\, cambiará de manera dramática. Para comprender a fondo los cambios que se avecinan\, la perspectiva  de Julio Rojas\, escritor  y experto en narrativas tecnológicas es esencial. Su visión es clave para entender el estado actual de las cosas y cómo enfrentar el choque ontológico que se avecina. \nEXPONE: \nJulio Rojas: escritor\, guionista\, experto en futuro. \n*Actividad para estudiantes de Publicidad. \nINSCRIPCIONES ACÁ
URL:https://finis.cl/agenda/charla-la-decada-impensable-2025-2035-julio-rojas/
LOCATION:Sala C101
CATEGORIES:Publicidad
ATTACH;FMTTYPE=image/jpeg:https://finis.cl/wp-content/uploads/2025/08/Plantillas-fotos-agenda-35.jpg
END:VEVENT
END:VCALENDAR