BEGIN:VCALENDAR
VERSION:2.0
PRODID:-//Universidad Finis Terrae - ECPv6.15.17.1//NONSGML v1.0//EN
CALSCALE:GREGORIAN
METHOD:PUBLISH
X-WR-CALNAME:Universidad Finis Terrae
X-ORIGINAL-URL:https://finis.cl
X-WR-CALDESC:Eventos para Universidad Finis Terrae
REFRESH-INTERVAL;VALUE=DURATION:PT1H
X-Robots-Tag:noindex
X-PUBLISHED-TTL:PT1H
BEGIN:VTIMEZONE
TZID:America/Santiago
BEGIN:STANDARD
TZOFFSETFROM:-0300
TZOFFSETTO:-0400
TZNAME:-04
DTSTART:20240407T030000
END:STANDARD
BEGIN:DAYLIGHT
TZOFFSETFROM:-0400
TZOFFSETTO:-0300
TZNAME:-03
DTSTART:20240908T040000
END:DAYLIGHT
BEGIN:STANDARD
TZOFFSETFROM:-0300
TZOFFSETTO:-0400
TZNAME:-04
DTSTART:20250406T030000
END:STANDARD
BEGIN:DAYLIGHT
TZOFFSETFROM:-0400
TZOFFSETTO:-0300
TZNAME:-03
DTSTART:20250907T040000
END:DAYLIGHT
BEGIN:STANDARD
TZOFFSETFROM:-0300
TZOFFSETTO:-0400
TZNAME:-04
DTSTART:20260405T030000
END:STANDARD
BEGIN:DAYLIGHT
TZOFFSETFROM:-0400
TZOFFSETTO:-0300
TZNAME:-03
DTSTART:20260906T040000
END:DAYLIGHT
END:VTIMEZONE
BEGIN:VEVENT
DTSTART;TZID=America/Santiago:20251203T183000
DTEND;TZID=America/Santiago:20251203T210000
DTSTAMP:20260422T214647
CREATED:20250902T213546Z
LAST-MODIFIED:20260331T193645Z
UID:42557-1764786600-1764795600@finis.cl
SUMMARY:Club de Juegos de Mesa 2025 - 2026
DESCRIPTION:La Escuela de Publicidad cuenta con una Ludoteca para que vengas a divertirte. Únete a nuestro Club para jugar tus juegos favoritos y descubrir otros nuevos.No te preocupes si no sabes jugar alguno: nosotros te enseñamos. Lo más importante es pasar un buen rato en un ambiente entretenido y relajado.\nAdemás\, en algunas reuniones podrás aprender —de la mano de expertos— cómo se crean los juegos de mesa\, cómo se desarrollan y cómo funcionan las editoriales del rubro. \nFecha: PRIMER MIÉRCOLES DE CADA MES\n\nINSCRIPCIONES ACÁ\n\nVALOR GENERAL: $15.000  (Incluye coffee break) – Pago único por todo el ciclo (hasta agosto 2026). Dudas\, consultas y comentarios\, escribir a publicidad@uft.cl
URL:https://finis.cl/agenda/club-de-juegos-de-mesa-2025-2026-4/
LOCATION:Sala A306
CATEGORIES:Ciclos,Publicidad
ATTACH;FMTTYPE=image/jpeg:https://finis.cl/wp-content/uploads/2025/09/Agenda-web-1.jpg
END:VEVENT
BEGIN:VEVENT
DTSTART;TZID=America/Santiago:20251218T180000
DTEND;TZID=America/Santiago:20251218T190000
DTSTAMP:20260422T214647
CREATED:20251023T150823Z
LAST-MODIFIED:20251023T151827Z
UID:45211-1766080800-1766084400@finis.cl
SUMMARY:Ceremonia titulación Escuela de Publicidad
DESCRIPTION:Juan Eduardo Vargas\, rector de la Universidad Finis Terrae\, Fabián Barros\, decano de la Facultad de Arquitectura\, Diseño y Estudios Creativos\, y Pablo Balzo\, Director de la Escuela de Publicidad\, saludan atentamente a usted y tienen el agrado de invitarle a la ceremonia de titulación de la Escuela de Publicidad a realizarse el día 18 de diciembre a las 18:00 horas\, en el Patio Amberes de la Universidad\, ubicado en Av. Pedro de Valdivia 1509\, comuna de Providencia.
URL:https://finis.cl/agenda/ceremonia-titulacion-escuela-de-publicidad/
LOCATION:Patio Amberes Norte
CATEGORIES:Extensión Cultural,Extensión y Comunicaciones,Facultad de Arquitectura, Diseño y Estudios Creativos,Publicidad
ATTACH;FMTTYPE=image/jpeg:https://finis.cl/wp-content/uploads/2025/10/Agenda-web-2025-10-23T115830.540.jpg
END:VEVENT
END:VCALENDAR