BEGIN:VCALENDAR
VERSION:2.0
PRODID:-//Universidad Finis Terrae - ECPv6.15.17.1//NONSGML v1.0//EN
CALSCALE:GREGORIAN
METHOD:PUBLISH
X-WR-CALNAME:Universidad Finis Terrae
X-ORIGINAL-URL:https://finis.cl
X-WR-CALDESC:Eventos para Universidad Finis Terrae
REFRESH-INTERVAL;VALUE=DURATION:PT1H
X-Robots-Tag:noindex
X-PUBLISHED-TTL:PT1H
BEGIN:VTIMEZONE
TZID:America/Santiago
BEGIN:STANDARD
TZOFFSETFROM:-0300
TZOFFSETTO:-0400
TZNAME:-04
DTSTART:20240407T030000
END:STANDARD
BEGIN:DAYLIGHT
TZOFFSETFROM:-0400
TZOFFSETTO:-0300
TZNAME:-03
DTSTART:20240908T040000
END:DAYLIGHT
BEGIN:STANDARD
TZOFFSETFROM:-0300
TZOFFSETTO:-0400
TZNAME:-04
DTSTART:20250406T030000
END:STANDARD
BEGIN:DAYLIGHT
TZOFFSETFROM:-0400
TZOFFSETTO:-0300
TZNAME:-03
DTSTART:20250907T040000
END:DAYLIGHT
BEGIN:STANDARD
TZOFFSETFROM:-0300
TZOFFSETTO:-0400
TZNAME:-04
DTSTART:20260405T030000
END:STANDARD
BEGIN:DAYLIGHT
TZOFFSETFROM:-0400
TZOFFSETTO:-0300
TZNAME:-03
DTSTART:20260906T040000
END:DAYLIGHT
END:VTIMEZONE
BEGIN:VEVENT
DTSTART;TZID=America/Santiago:20250822T093000
DTEND;TZID=America/Santiago:20250822T110000
DTSTAMP:20260423T042815
CREATED:20250806T195744Z
LAST-MODIFIED:20250811T171000Z
UID:41249-1755855000-1755860400@finis.cl
SUMMARY:Charla "La década Impensable 2025-2035" - Julio Rojas
DESCRIPTION:Estamos viviendo en la época más extraordinaria de la historia humana\, una era sin precedentes en la que se está configurando un tsunami tecnológico \, científico y filosófico. Todo lo que damos por sentado\, incluido la propia noción de realidad\, cambiará de manera dramática. Para comprender a fondo los cambios que se avecinan\, la perspectiva  de Julio Rojas\, escritor  y experto en narrativas tecnológicas es esencial. Su visión es clave para entender el estado actual de las cosas y cómo enfrentar el choque ontológico que se avecina. \nEXPONE: \nJulio Rojas: escritor\, guionista\, experto en futuro. \n*Actividad para estudiantes de Publicidad. \nINSCRIPCIONES ACÁ
URL:https://finis.cl/agenda/charla-la-decada-impensable-2025-2035-julio-rojas/
LOCATION:Sala C101
CATEGORIES:Publicidad
ATTACH;FMTTYPE=image/jpeg:https://finis.cl/wp-content/uploads/2025/08/Plantillas-fotos-agenda-35.jpg
END:VEVENT
BEGIN:VEVENT
DTSTART;TZID=America/Santiago:20250826T110000
DTEND;TZID=America/Santiago:20250826T130000
DTSTAMP:20260423T042815
CREATED:20250715T153508Z
LAST-MODIFIED:20250818T134732Z
UID:39408-1756206000-1756213200@finis.cl
SUMMARY:Conversatorio: “¿Qué puedo hacer en una agencia?”
DESCRIPTION:Profesionales de distintas áreas al interior de una agencia de publicidad\, como cuentas\, planning y medios\, entre otras\, compartirán su experiencia con todos los alumnos que quieran conocer más del amplio abanico de posibilidades laborales que permite la carrera. \nInformación en publicidad@uft.cl \nEXPONEN: \nFERNANDA FREIRE: MCCANN-  PLANNING \nCRISTIAN FUENTES: MELI MERCADO LIBRE – MEDIOS \nSIMON ORTIZ: MCCANN -SUPERVISOR DE CUENTAS
URL:https://finis.cl/agenda/conversatorio-no-quiero-ser-director-creativo-que-mas-puedo-hacer-en-una-agencia/
LOCATION:Sala Cowork
CATEGORIES:Publicidad
ATTACH;FMTTYPE=image/jpeg:https://finis.cl/wp-content/uploads/2025/07/Plantillas-fotos-agenda-21.jpg
END:VEVENT
BEGIN:VEVENT
DTSTART;TZID=America/Santiago:20250828T183000
DTEND;TZID=America/Santiago:20250828T235900
DTSTAMP:20260423T042815
CREATED:20250728T135911Z
LAST-MODIFIED:20260331T193625Z
UID:40553-1756405800-1756425540@finis.cl
SUMMARY:Club de collage: 2do ciclo
DESCRIPTION:¿Te gustaría explorar tu creatividad y ser parte de una comunidad visual? Parte el segundo ciclo del Club de Collage\, un espacio mensual para experimentar con imágenes\, imaginación y composición. El ciclo culminará con la donación colectiva de obras al Archivo Nacional de Collage en la Biblioteca Nacional. \nÚltimo jueves de cada mes de 18:30 a 21:00 hrs. en Universidad Finis Terrae (Av. Pedro de Valdivia 1509\, Providencia\, Santiago)\nINICIO: 28 de agosto 2025 \nValor público general: $50.000 – Pago único por todo el 2º ciclo (hasta julio 2026)\nValor funcionarios o académicos U. Finis Terrae: $25.000 – Pago único por todo el 2º ciclo (hasta julio 2026)\nValor estudiantes U. Finis Terrae: $10.000 – Pago único por todo el 2º ciclo (hasta julio 2026) \n(Incluye kit de inicio + coffee break + publicación de un libro que recopila los diversos trabajos realizados en el Club) \nInscripciones ACÁ \nInformación en: publicidad@uft.cl
URL:https://finis.cl/agenda/club-de-collage-2do-ciclo/
LOCATION:Sala A306
CATEGORIES:Ciclos,Publicidad
ATTACH;FMTTYPE=image/jpeg:https://finis.cl/wp-content/uploads/2025/07/Plantillas-fotos-agenda-17.jpg
END:VEVENT
END:VCALENDAR