BEGIN:VCALENDAR
VERSION:2.0
PRODID:-//Universidad Finis Terrae - ECPv6.15.17.1//NONSGML v1.0//EN
CALSCALE:GREGORIAN
METHOD:PUBLISH
X-WR-CALNAME:Universidad Finis Terrae
X-ORIGINAL-URL:https://finis.cl
X-WR-CALDESC:Eventos para Universidad Finis Terrae
REFRESH-INTERVAL;VALUE=DURATION:PT1H
X-Robots-Tag:noindex
X-PUBLISHED-TTL:PT1H
BEGIN:VTIMEZONE
TZID:America/Santiago
BEGIN:STANDARD
TZOFFSETFROM:-0300
TZOFFSETTO:-0400
TZNAME:-04
DTSTART:20230402T030000
END:STANDARD
BEGIN:DAYLIGHT
TZOFFSETFROM:-0400
TZOFFSETTO:-0300
TZNAME:-03
DTSTART:20230903T040000
END:DAYLIGHT
BEGIN:STANDARD
TZOFFSETFROM:-0300
TZOFFSETTO:-0400
TZNAME:-04
DTSTART:20240407T030000
END:STANDARD
BEGIN:DAYLIGHT
TZOFFSETFROM:-0400
TZOFFSETTO:-0300
TZNAME:-03
DTSTART:20240908T040000
END:DAYLIGHT
BEGIN:STANDARD
TZOFFSETFROM:-0300
TZOFFSETTO:-0400
TZNAME:-04
DTSTART:20250406T030000
END:STANDARD
BEGIN:DAYLIGHT
TZOFFSETFROM:-0400
TZOFFSETTO:-0300
TZNAME:-03
DTSTART:20250907T040000
END:DAYLIGHT
END:VTIMEZONE
BEGIN:VEVENT
DTSTART;TZID=America/Santiago:20241011T090000
DTEND;TZID=America/Santiago:20241011T235900
DTSTAMP:20260423T200639
CREATED:20250715T154120Z
LAST-MODIFIED:20250715T154120Z
UID:39656-1728637200-1728691140@finis.cl
SUMMARY:Pasaporte – Primer coworking para estudiantes de publicidad
DESCRIPTION:La 5ta versión de Pasaporte\, coworking para estudiantes de publicidad\, se llevará a cabo el día viernes 11 de octubre entre las 9:00 hrs. y las 17:00 hrs.\, en la Universidad Finis Terrae\, ubicada en Av. Pedro de Valdivia 1509\, Providencia. \nPasaporte busca generar una red temprana con futuros colegas publicistas e interescuelas de publicidad\, para potenciar el trabajo colaborativo y una comunidad laboral más sana. \nEs una instancia de trabajo en agencias conformadas por estudiantes de diferentes escuelas de publicidad que comparten la experiencia de formular en conjunto una propuesta comunicacional para un cliente real que busque resolver un problema social o cultural. \nPueden participar estudiantes que estén cursando cualquier nivel de la carrera de publicidad\, en cualquiera de las instituciones invitadas a cada versión. Vale recordar que los cupos son limitados\, razón por la cual el proceso de selección y confirmación se orienta a promover la participación de estudiantes de la mayoría de las instituciones y de distintos semestres.
URL:https://finis.cl/agenda/pasaporte/
CATEGORIES:Publicidad
END:VEVENT
END:VCALENDAR