BEGIN:VCALENDAR
VERSION:2.0
PRODID:-//Universidad Finis Terrae - ECPv6.15.17.1//NONSGML v1.0//EN
CALSCALE:GREGORIAN
METHOD:PUBLISH
X-ORIGINAL-URL:https://finis.cl
X-WR-CALDESC:Eventos para Universidad Finis Terrae
REFRESH-INTERVAL;VALUE=DURATION:PT1H
X-Robots-Tag:noindex
X-PUBLISHED-TTL:PT1H
BEGIN:VTIMEZONE
TZID:America/Santiago
BEGIN:STANDARD
TZOFFSETFROM:-0300
TZOFFSETTO:-0400
TZNAME:-04
DTSTART:20250406T030000
END:STANDARD
BEGIN:DAYLIGHT
TZOFFSETFROM:-0400
TZOFFSETTO:-0300
TZNAME:-03
DTSTART:20250907T040000
END:DAYLIGHT
BEGIN:STANDARD
TZOFFSETFROM:-0300
TZOFFSETTO:-0400
TZNAME:-04
DTSTART:20260405T030000
END:STANDARD
BEGIN:DAYLIGHT
TZOFFSETFROM:-0400
TZOFFSETTO:-0300
TZNAME:-03
DTSTART:20260906T040000
END:DAYLIGHT
BEGIN:STANDARD
TZOFFSETFROM:-0300
TZOFFSETTO:-0400
TZNAME:-04
DTSTART:20270404T030000
END:STANDARD
BEGIN:DAYLIGHT
TZOFFSETFROM:-0400
TZOFFSETTO:-0300
TZNAME:-03
DTSTART:20270905T040000
END:DAYLIGHT
END:VTIMEZONE
BEGIN:VEVENT
DTSTART;TZID=America/Santiago:20260113T183000
DTEND;TZID=America/Santiago:20260113T193000
DTSTAMP:20260423T234016
CREATED:20251224T152647Z
LAST-MODIFIED:20260112T175157Z
UID:48508-1768329000-1768332600@finis.cl
SUMMARY:Encuentro informativo Diplomado en diseño y producción experimental textil
DESCRIPTION:Te invitamos a un encuentro informativo junto al equipo docente del Diplomado en Diseño Experimental Textil\, donde podrás resolver tus dudas sobre los objetivos del programa\, las técnicas abordadas\, la metodología de trabajo\, sus principales fortalezas y el perfil de egreso. \n\nEXPONEN:\n\nClarisa Menteguiaga\, directora del diplomado en diseño y producción experimental textil. PhD(c) En artes Universidad politécnica de Valencia. Master en Artes Visuales de la Universidad Católica de Chile. Diseñadora gráfica Universidad de Buenos Aires. Docente e investigadora Facultad de Arquitectura\, Diseño y Estudios Creativos\, Universidad Finis Terrae. \n 
URL:https://finis.cl/agenda/encuentro-informativo-diplomado-en-diseno-y-produccion-experimental-textil/
LOCATION:Online
CATEGORIES:Educación continua,Postgrado y Educación Continua,Postgrados,U. Finis Terrae,Universidad
ATTACH;FMTTYPE=image/jpeg:https://finis.cl/wp-content/uploads/2025/12/Agenda-web-2025-12-24T122634.847.jpg
END:VEVENT
BEGIN:VEVENT
DTSTART;TZID=America/Santiago:20260117T000100
DTEND;TZID=America/Santiago:20260125T235900
DTSTAMP:20260423T234016
CREATED:20250715T153358Z
LAST-MODIFIED:20250801T195240Z
UID:39340-1768608060-1769385540@finis.cl
SUMMARY:Pasantía Internacional en Educación Imaginativa: Vancouver\, Canadá
DESCRIPTION:El seminario internacional en Educación Imaginativa es una instancia para que estudiantes y profesionales del área de la educación puedan ampliar sus competencias relacionadas para la innovación educativa\, desde la Educación Imaginativa. El seminario cuenta con la\nparticipación de académicos e investigadores\, asociados al Centre for Imagination in Research\, Culture and Education\, de la Universidad Simon Fraser y de la Universidad de Capilano\, Vancouver\, Canadá\nEl Seminario incorpora actividades académicas con visitas a experiencias educativas en diferentes colegios. \nValor: USD 3100 incluye pasaje aéreo\, traslados aeropuerto – hotel\, alojamiento y seminario\nNo incluye: comidas y traslados internos \nEXPONEN: \nDr. Mark Fettes: Director del Centro para la Imaginación en la Investigación\, Cultura y Educación (CIRCE) \, Universidad de Simon Fraser. \nDr. Gillian Judson: Profesora asistente de la Facultad de Educación de la Universidad de Simon Fraser\, enseña sobre liderazgo educacional. Creadora del programa Educación Imaginativa Ecológica y el Ecological Curriculum. \nDr. Anabella Cant:  Profesora de educación inicial\, Universidad de Capilano \nDr. Kym Stewart: Profesora e investigadora de la escuela de comunicaciones de la Universidad de Capilano \nORGANIZAN: \nPostgrados\, Facultad de Educación\, Psicología y Familia\, Simon Fraser University\, Capilano University\, CIRCE \nLUGAR: \nUniversidad de Simon Fraser \nUniversidad de Capilano \nINSCRIPCIONES ACÁ \nCONTACTO: \nsacuna@uft.cl
URL:https://finis.cl/agenda/pasantia-internacional-en-educacion-imaginativa-vancouver-canada/
CATEGORIES:Facultad de Educación, Psicología y Familia,Postgrados
ATTACH;FMTTYPE=image/jpeg:https://finis.cl/wp-content/uploads/2025/07/Plantillas-fotos-agenda-31.jpg
END:VEVENT
END:VCALENDAR