BEGIN:VCALENDAR
VERSION:2.0
PRODID:-//Universidad Finis Terrae - ECPv6.15.17.1//NONSGML v1.0//EN
CALSCALE:GREGORIAN
METHOD:PUBLISH
X-ORIGINAL-URL:https://finis.cl
X-WR-CALDESC:Eventos para Universidad Finis Terrae
REFRESH-INTERVAL;VALUE=DURATION:PT1H
X-Robots-Tag:noindex
X-PUBLISHED-TTL:PT1H
BEGIN:VTIMEZONE
TZID:America/Santiago
BEGIN:STANDARD
TZOFFSETFROM:-0300
TZOFFSETTO:-0400
TZNAME:-04
DTSTART:20240407T030000
END:STANDARD
BEGIN:DAYLIGHT
TZOFFSETFROM:-0400
TZOFFSETTO:-0300
TZNAME:-03
DTSTART:20240908T040000
END:DAYLIGHT
BEGIN:STANDARD
TZOFFSETFROM:-0300
TZOFFSETTO:-0400
TZNAME:-04
DTSTART:20250406T030000
END:STANDARD
BEGIN:DAYLIGHT
TZOFFSETFROM:-0400
TZOFFSETTO:-0300
TZNAME:-03
DTSTART:20250907T040000
END:DAYLIGHT
BEGIN:STANDARD
TZOFFSETFROM:-0300
TZOFFSETTO:-0400
TZNAME:-04
DTSTART:20260405T030000
END:STANDARD
BEGIN:DAYLIGHT
TZOFFSETFROM:-0400
TZOFFSETTO:-0300
TZNAME:-03
DTSTART:20260906T040000
END:DAYLIGHT
END:VTIMEZONE
BEGIN:VEVENT
DTSTART;TZID=America/Santiago:20250930T123000
DTEND;TZID=America/Santiago:20250930T133000
DTSTAMP:20260424T150226
CREATED:20250922T211844Z
LAST-MODIFIED:20250922T214203Z
UID:43521-1759235400-1759239000@finis.cl
SUMMARY:Foro con destacados periodistas: ¿Por qué la pobreza no está en la pauta de los medios?
DESCRIPTION:En un contexto donde los desafíos sociales se intensifican y la desigualdad sigue marcando la vida de millones de personas\, resulta urgente abrir espacios de reflexión crítica sobre el papel que juegan los medios de comunicación en la construcción de la agenda pública. ¿Por qué la pobreza —una realidad que afecta profundamente a nuestro país— sigue siendo un tema ausente o marginal en las noticias? ¿Qué responsabilidad tienen los medios en visibilizar o invisibilizar estas problemáticas? \nEstas preguntas serán el punto de partida del foro “¿Por qué la pobreza no está en la pauta de los medios?”\, una instancia que reunirá a destacados periodistas como Ramón Ulloa\, académico y conductor de Teletrece Radio; Isabel Tolosa\, Editora General de prensa en TVN; y Claudio Pizarro\, periodista de investigación en El Mostrador. Además\, se presentará el estudio “La pobreza en la mirada de los medios 2024”\, elaborado por la Alianza Comunicación y Pobreza\, el cual entrega un valioso análisis sobre el tratamiento mediático de esta temática en la prensa nacional. La presentación estará a cargo de Catalina Littin\, directora ejecutiva de la Fundación Superación de la Pobreza.
URL:https://finis.cl/agenda/foro-con-destacados-periodistas-por-que-la-pobreza-no-esta-en-la-pauta-de-los-medios/
LOCATION:Estudio de TV
CATEGORIES:Periodismo
ATTACH;FMTTYPE=image/jpeg:https://finis.cl/wp-content/uploads/2025/09/Agenda-web-37.jpg
END:VEVENT
END:VCALENDAR