BEGIN:VCALENDAR
VERSION:2.0
PRODID:-//Universidad Finis Terrae - ECPv6.15.17.1//NONSGML v1.0//EN
CALSCALE:GREGORIAN
METHOD:PUBLISH
X-WR-CALNAME:Universidad Finis Terrae
X-ORIGINAL-URL:https://finis.cl
X-WR-CALDESC:Eventos para Universidad Finis Terrae
REFRESH-INTERVAL;VALUE=DURATION:PT1H
X-Robots-Tag:noindex
X-PUBLISHED-TTL:PT1H
BEGIN:VTIMEZONE
TZID:America/Santiago
BEGIN:STANDARD
TZOFFSETFROM:-0300
TZOFFSETTO:-0400
TZNAME:-04
DTSTART:20230402T030000
END:STANDARD
BEGIN:DAYLIGHT
TZOFFSETFROM:-0400
TZOFFSETTO:-0300
TZNAME:-03
DTSTART:20230903T040000
END:DAYLIGHT
BEGIN:STANDARD
TZOFFSETFROM:-0300
TZOFFSETTO:-0400
TZNAME:-04
DTSTART:20240407T030000
END:STANDARD
BEGIN:DAYLIGHT
TZOFFSETFROM:-0400
TZOFFSETTO:-0300
TZNAME:-03
DTSTART:20240908T040000
END:DAYLIGHT
BEGIN:STANDARD
TZOFFSETFROM:-0300
TZOFFSETTO:-0400
TZNAME:-04
DTSTART:20250406T030000
END:STANDARD
BEGIN:DAYLIGHT
TZOFFSETFROM:-0400
TZOFFSETTO:-0300
TZNAME:-03
DTSTART:20250907T040000
END:DAYLIGHT
END:VTIMEZONE
BEGIN:VEVENT
DTSTART;TZID=America/Santiago:20241029T111000
DTEND;TZID=America/Santiago:20241029T235900
DTSTAMP:20260425T075645
CREATED:20250715T154107Z
LAST-MODIFIED:20250715T154107Z
UID:39633-1730200200-1730246340@finis.cl
SUMMARY:Charla para estudiantes: “¿Seguimos necesitando un periodismo cultural? Nuevos cánones\, nuevas sensibilidades en tiempos de la IA”
DESCRIPTION:En el marco de una visita especial\, el investigador hispano experto en música popular abordará críticamente el estado actual de la cobertura medial en esta área del periodismo. \nEXPONE: \nFernán del Val R.: PhD en Sociología U. Complutense. Académico UNED\, España. Investigador de los cruces entre música y cultura popular\, política\, historia\, medios de comunicación y juventud. \nOrganiza: Escuela de Periodismo Universidad Finis Terrae
URL:https://finis.cl/agenda/charla-para-estudiantes-seguimos-necesitando-un-periodismo-cultural-nuevos-canones-nuevas-sensibilidades-en-tiempos-de-la-ia/
CATEGORIES:Facultad de Humanidades y Comunicaciones,Periodismo
END:VEVENT
END:VCALENDAR