BEGIN:VCALENDAR
VERSION:2.0
PRODID:-//Universidad Finis Terrae - ECPv6.15.17.1//NONSGML v1.0//EN
CALSCALE:GREGORIAN
METHOD:PUBLISH
X-ORIGINAL-URL:https://finis.cl
X-WR-CALDESC:Eventos para Universidad Finis Terrae
REFRESH-INTERVAL;VALUE=DURATION:PT1H
X-Robots-Tag:noindex
X-PUBLISHED-TTL:PT1H
BEGIN:VTIMEZONE
TZID:America/Santiago
BEGIN:STANDARD
TZOFFSETFROM:-0300
TZOFFSETTO:-0400
TZNAME:-04
DTSTART:20240407T030000
END:STANDARD
BEGIN:DAYLIGHT
TZOFFSETFROM:-0400
TZOFFSETTO:-0300
TZNAME:-03
DTSTART:20240908T040000
END:DAYLIGHT
BEGIN:STANDARD
TZOFFSETFROM:-0300
TZOFFSETTO:-0400
TZNAME:-04
DTSTART:20250406T030000
END:STANDARD
BEGIN:DAYLIGHT
TZOFFSETFROM:-0400
TZOFFSETTO:-0300
TZNAME:-03
DTSTART:20250907T040000
END:DAYLIGHT
BEGIN:STANDARD
TZOFFSETFROM:-0300
TZOFFSETTO:-0400
TZNAME:-04
DTSTART:20260405T030000
END:STANDARD
BEGIN:DAYLIGHT
TZOFFSETFROM:-0400
TZOFFSETTO:-0300
TZNAME:-03
DTSTART:20260906T040000
END:DAYLIGHT
END:VTIMEZONE
BEGIN:VEVENT
DTSTART;TZID=America/Santiago:20251216T090000
DTEND;TZID=America/Santiago:20251219T130000
DTSTAMP:20260423T060058
CREATED:20251204T151534Z
LAST-MODIFIED:20251204T163314Z
UID:47661-1765875600-1766149200@finis.cl
SUMMARY:Workshop “Alimentación saludable y sostenible: ciencia\, innovación y bienestar para el futuro”
DESCRIPTION:La alimentación saludable y sostenible es un modelo que promueve el bienestar y la salud de las generaciones presentes y futuras\, con un bajo impacto ambiental\, segura y accesible. Esta actividad ofrecerá una oportunidad para profundizar en la calidad de las materias primas\, de los alimentos elaborados a partir de ellas y de las innovaciones que promueven la salud de las personas. \nEste workshop explora cómo la ciencia básica (química\, microestructura\, biología celular\, microbiología e inmunología) y la innovación tecnológica en alimentos pueden converger para desarrollar sistemas alimentarios saludables\, seguros y sostenibles\, que promuevan el bienestar humano y reduzcan el impacto ambiental. \nVER PROGRAMA Y SALAS \nEXPONEN: \n\nDra. Layla Simón\, académica investigadora de la Escuela de Nutrición y Dietética\, Facultad de Medicina de la Universidad Finis Terrae. Investigadora responsable del proyecto ANID FONDECYT iniciación 11230112\nDra. Pamela Rivera\, académica de la Escuela de Nutrición y Dietética\, Facultad de Medicina de la Universidad Finis Terrae\nDra. María Salomé Mariotti-Celis\, directora del CIANS de la Escuela de Nutrición y Dietética\, Facultad de Medicina de la Universidad Finis Terrae\nDr. (c) Germán Tapia-Curimil\, estudiante de doctorado de la Universidad Finis Terrae\nDra. (c) Paulina Rivas\, docente de la Escuela de Nutrición y Dietética\, Facultad de Medicina de la Universidad Finis Terrae.\nConrado Camilo\, Lab manager del CIANS de la Escuela de Nutrición y Dietética\, Facultad de Medicina de la Universidad Finis Terrae\nAmaya Pérez\, Felipe Zamorano\, Francisca González y Javiera Mardones\, estudiantes de la Escuela de Nutrición y Dietética\, Facultad de Medicina de la Universidad Finis Terrae\nDr. Matías Via\, ex Arla Foods amba\, Dinamarca\nDr. Rubén Grosso\, Novonesis – Animal Biosolutions\, Applied Research & Development\, Dinamarca\n\nINSCRIPCIONES ACÁ
URL:https://finis.cl/agenda/workshop-alimentacion-saludable-y-sostenible-ciencia-innovacion-y-bienestar-para-el-futuro/
LOCATION:Universidad Finis Terrae
CATEGORIES:Facultad de Medicina,Nutrición y Dietética
ATTACH;FMTTYPE=image/jpeg:https://finis.cl/wp-content/uploads/2025/12/Agenda-web-2025-12-04T121635.090.jpg
END:VEVENT
END:VCALENDAR