BEGIN:VCALENDAR
VERSION:2.0
PRODID:-//Universidad Finis Terrae - ECPv6.15.17.1//NONSGML v1.0//EN
CALSCALE:GREGORIAN
METHOD:PUBLISH
X-WR-CALNAME:Universidad Finis Terrae
X-ORIGINAL-URL:https://finis.cl
X-WR-CALDESC:Eventos para Universidad Finis Terrae
REFRESH-INTERVAL;VALUE=DURATION:PT1H
X-Robots-Tag:noindex
X-PUBLISHED-TTL:PT1H
BEGIN:VTIMEZONE
TZID:America/Santiago
BEGIN:STANDARD
TZOFFSETFROM:-0300
TZOFFSETTO:-0400
TZNAME:-04
DTSTART:20250406T030000
END:STANDARD
BEGIN:DAYLIGHT
TZOFFSETFROM:-0400
TZOFFSETTO:-0300
TZNAME:-03
DTSTART:20250907T040000
END:DAYLIGHT
BEGIN:STANDARD
TZOFFSETFROM:-0300
TZOFFSETTO:-0400
TZNAME:-04
DTSTART:20260405T030000
END:STANDARD
BEGIN:DAYLIGHT
TZOFFSETFROM:-0400
TZOFFSETTO:-0300
TZNAME:-03
DTSTART:20260906T040000
END:DAYLIGHT
BEGIN:STANDARD
TZOFFSETFROM:-0300
TZOFFSETTO:-0400
TZNAME:-04
DTSTART:20270404T030000
END:STANDARD
BEGIN:DAYLIGHT
TZOFFSETFROM:-0400
TZOFFSETTO:-0300
TZNAME:-03
DTSTART:20270905T040000
END:DAYLIGHT
END:VTIMEZONE
BEGIN:VEVENT
DTSTART;TZID=America/Santiago:20260420T120000
DTEND;TZID=America/Santiago:20260420T130000
DTSTAMP:20260423T030424
CREATED:20260415T205251Z
LAST-MODIFIED:20260415T210338Z
UID:52186-1776686400-1776690000@finis.cl
SUMMARY:Misa Jesús el Buen Pastor: patrono de la Dirección de Pastoral
DESCRIPTION:El lunes 20 de abril a las 12:00 hrs. En la Capilla de la Universidad\, se realizará la misa de Jesús el Buen Pastor\, patrono de la Dirección de Pastoral\, invitamos a toda la comunidad a ser parte de esta ceremonia.
URL:https://finis.cl/agenda/misa-jesus-el-buen-pastor-patrono-de-la-direccion-de-pastoral/
LOCATION:Capilla Finis Terrae
CATEGORIES:Pastoral,Vicerrectoría Formación Integral
ATTACH;FMTTYPE=image/webp:https://finis.cl/wp-content/uploads/2026/04/misa-de-santo-patrono.webp
END:VEVENT
END:VCALENDAR