BEGIN:VCALENDAR
VERSION:2.0
PRODID:-//Universidad Finis Terrae - ECPv6.15.17.1//NONSGML v1.0//EN
CALSCALE:GREGORIAN
METHOD:PUBLISH
X-ORIGINAL-URL:https://finis.cl
X-WR-CALDESC:Eventos para Universidad Finis Terrae
REFRESH-INTERVAL;VALUE=DURATION:PT1H
X-Robots-Tag:noindex
X-PUBLISHED-TTL:PT1H
BEGIN:VTIMEZONE
TZID:America/Santiago
BEGIN:STANDARD
TZOFFSETFROM:-0300
TZOFFSETTO:-0400
TZNAME:-04
DTSTART:20250406T030000
END:STANDARD
BEGIN:DAYLIGHT
TZOFFSETFROM:-0400
TZOFFSETTO:-0300
TZNAME:-03
DTSTART:20250907T040000
END:DAYLIGHT
BEGIN:STANDARD
TZOFFSETFROM:-0300
TZOFFSETTO:-0400
TZNAME:-04
DTSTART:20260405T030000
END:STANDARD
BEGIN:DAYLIGHT
TZOFFSETFROM:-0400
TZOFFSETTO:-0300
TZNAME:-03
DTSTART:20260906T040000
END:DAYLIGHT
BEGIN:STANDARD
TZOFFSETFROM:-0300
TZOFFSETTO:-0400
TZNAME:-04
DTSTART:20270404T030000
END:STANDARD
BEGIN:DAYLIGHT
TZOFFSETFROM:-0400
TZOFFSETTO:-0300
TZNAME:-03
DTSTART:20270905T040000
END:DAYLIGHT
END:VTIMEZONE
BEGIN:VEVENT
DTSTART;TZID=America/Santiago:20260105T080000
DTEND;TZID=America/Santiago:20260111T170000
DTSTAMP:20260422T130819
CREATED:20251007T191705Z
LAST-MODIFIED:20251223T234852Z
UID:44470-1767600000-1768150800@finis.cl
SUMMARY:Trabajos de Verano 2026
DESCRIPTION:Los Trabajos de Verano son una experiencia de servicio y aprendizaje en terreno\, donde estudiantes de distintas carreras se reúnen para aportar en labores de reconstrucción\, talleres y trabajo comunitario\, fortaleciendo su formación integral y compromiso social. \nOrganizados por la Dirección de Compromiso Social y la Acción Social Finis Terrae ASUFINIS\, este año los Trabajos de Verano 2026 consideran diversos trabajos\, operativos de salud\, talleres\, actividades lúdicas y mucho más desde el 05 al 11 de enero\, en Curacaví. \nEsperamos puedas ser parte de esta iniciativa que busca poner nuestros talentos al servicio de distintas comunidades de nuestro país.
URL:https://finis.cl/agenda/trabajos-de-verano-2026/
CATEGORIES:Compromiso Social,Compromiso Social,Comunidad Finis Terrae,Estudiantes,Vicerrectoría Formación Integral
ATTACH;FMTTYPE=image/jpeg:https://finis.cl/wp-content/uploads/2025/10/Agenda-web-100.jpg
END:VEVENT
BEGIN:VEVENT
DTSTART;TZID=America/Santiago:20260105T080000
DTEND;TZID=America/Santiago:20260111T170000
DTSTAMP:20260422T130819
CREATED:20251021T170448Z
LAST-MODIFIED:20251223T235411Z
UID:45077-1767600000-1768150800@finis.cl
SUMMARY:Misiones de verano 2026
DESCRIPTION:Las Misiones de Verano son una experiencia de encuentro\, servicio y crecimiento personal\, donde estudiantes de distintas carreras comparten durante siete días con comunidades locales\, realizando talleres\, acompañamiento y vida comunitaria. \nOrganizadas por la Dirección de Pastoral\, las Misiones de Verano 2026\, que se desarrollarán del 5 al 11 de enero\, en las cercanías de Curicó\, Región del Maule\, son una invitación a poner los dones personales al servicio de los demás y a vivir una experiencia que deja huella en el camino formativo de cada estudiante. \nEsperamos puedas ser parte de esta iniciativa que propone vivir el verano desde el encuentro\, el servicio y la comunidad.
URL:https://finis.cl/agenda/misiones-de-verano-2026/
CATEGORIES:Estudiantes,Pastoral,Vicerrectoría de Vinculación,Vicerrectoría Formación Integral,Vinculación con el Medio
ATTACH;FMTTYPE=image/jpeg:https://finis.cl/wp-content/uploads/2025/10/Agenda-web-2025-10-21T140423.935.jpg
END:VEVENT
BEGIN:VEVENT
DTSTART;TZID=America/Santiago:20260107T080000
DTEND;TZID=America/Santiago:20260115T170000
DTSTAMP:20260422T130819
CREATED:20251229T182722Z
LAST-MODIFIED:20251229T182722Z
UID:48542-1767772800-1768496400@finis.cl
SUMMARY:Misiones Médicas 2026
DESCRIPTION:Estudiantes y docentes de las carreras de Medicina\, Odontología\, Enfermería\, Nutrición y Dietética\, Psicología y Kinesiología participarán en Misiones Médicas\, una experiencia interdisciplinaria de atención en terreno en seis localidades de Coyhaique\, Región de Aysén. \nLa instancia contempla operativos de salud y talleres educativos con una mirada integral de la persona\, poniendo los conocimientos al servicio de la comunidad y fortaleciendo la formación profesional y espiritual\, acorde a nuestro ideario institucional. \nProgramación: \n\nJueves 08 enero: Balmaceda\nViernes 09 enero: Valle Simpson\nSábado 10 enero: Villa Frei\nLunes 12 enero: Ñirehuao\nMartes 13 enero: Coyhaique\nMiércoles 14 enero: Alto Mañihuales
URL:https://finis.cl/agenda/misiones-medicas-2026/
LOCATION:Universidad Finis Terrae
CATEGORIES:Enfermería,Kinesiología,Medicina,Nutrición y Dietética,Odontología,Pastoral,Psicología,Universidad,Vicerrectoría de Vinculación,Vicerrectoría Formación Integral,Vicerrectoría Vinculación con el Medio,Vida universitaria,Vinculación con el Medio
ATTACH;FMTTYPE=image/jpeg:https://finis.cl/wp-content/uploads/2025/12/Agenda-web-2025-12-29T152716.288.jpg
END:VEVENT
END:VCALENDAR