BEGIN:VCALENDAR
VERSION:2.0
PRODID:-//Universidad Finis Terrae - ECPv6.15.17.1//NONSGML v1.0//EN
CALSCALE:GREGORIAN
METHOD:PUBLISH
X-WR-CALNAME:Universidad Finis Terrae
X-ORIGINAL-URL:https://finis.cl
X-WR-CALDESC:Eventos para Universidad Finis Terrae
REFRESH-INTERVAL;VALUE=DURATION:PT1H
X-Robots-Tag:noindex
X-PUBLISHED-TTL:PT1H
BEGIN:VTIMEZONE
TZID:America/Santiago
BEGIN:STANDARD
TZOFFSETFROM:-0300
TZOFFSETTO:-0400
TZNAME:-04
DTSTART:20240407T030000
END:STANDARD
BEGIN:DAYLIGHT
TZOFFSETFROM:-0400
TZOFFSETTO:-0300
TZNAME:-03
DTSTART:20240908T040000
END:DAYLIGHT
BEGIN:STANDARD
TZOFFSETFROM:-0300
TZOFFSETTO:-0400
TZNAME:-04
DTSTART:20250406T030000
END:STANDARD
BEGIN:DAYLIGHT
TZOFFSETFROM:-0400
TZOFFSETTO:-0300
TZNAME:-03
DTSTART:20250907T040000
END:DAYLIGHT
BEGIN:STANDARD
TZOFFSETFROM:-0300
TZOFFSETTO:-0400
TZNAME:-04
DTSTART:20260405T030000
END:STANDARD
BEGIN:DAYLIGHT
TZOFFSETFROM:-0400
TZOFFSETTO:-0300
TZNAME:-03
DTSTART:20260906T040000
END:DAYLIGHT
END:VTIMEZONE
BEGIN:VEVENT
DTSTART;TZID=America/Santiago:20251224T100000
DTEND;TZID=America/Santiago:20251224T113000
DTSTAMP:20260422T143831
CREATED:20251210T183333Z
LAST-MODIFIED:20251223T183320Z
UID:47919-1766570400-1766575800@finis.cl
SUMMARY:Prepara el corazón para esta Navidad
DESCRIPTION:En este tiempo de Adviento\, queremos hacer una pausa en medio de nuestras labores para disponernos\, como comunidad\, a vivir la Navidad con mayor profundidad.\nEs una oportunidad para regresar a lo esencial: la esperanza\, la paz y la certeza de un Dios que viene a nuestro encuentro. \nPor ello\, te invitamos a participar este miércoles 24 de diciembre a dos momentos especialmente preparados para acompañar este camino: \n\nReflexión junto al pesebre\n10:00 hrs. — Pesebre\nSanta Misa de preparación para la Navidad\n11:00 hrs. — Capilla\n\nSerá una instancia significativa para reunirnos\, renovar el espíritu y permitir que la luz del Niño Dios ilumine nuestra vida y nuestro quehacer diario. \n¡Te esperamos con mucha alegría!
URL:https://finis.cl/agenda/prepara-el-corazon-para-esta-navidad/
LOCATION:Capilla Finis Terrae
CATEGORIES:Comunidad Finis Terrae,Pastoral,Vicerrectoría Formación Integral
ATTACH;FMTTYPE=image/jpeg:https://finis.cl/wp-content/uploads/2025/12/Agenda-web-2025-12-10T153228.087.jpg
END:VEVENT
END:VCALENDAR