BEGIN:VCALENDAR
VERSION:2.0
PRODID:-//Universidad Finis Terrae - ECPv6.15.17.1//NONSGML v1.0//EN
CALSCALE:GREGORIAN
METHOD:PUBLISH
X-ORIGINAL-URL:https://finis.cl
X-WR-CALDESC:Eventos para Universidad Finis Terrae
REFRESH-INTERVAL;VALUE=DURATION:PT1H
X-Robots-Tag:noindex
X-PUBLISHED-TTL:PT1H
BEGIN:VTIMEZONE
TZID:America/Santiago
BEGIN:STANDARD
TZOFFSETFROM:-0300
TZOFFSETTO:-0400
TZNAME:-04
DTSTART:20240407T030000
END:STANDARD
BEGIN:DAYLIGHT
TZOFFSETFROM:-0400
TZOFFSETTO:-0300
TZNAME:-03
DTSTART:20240908T040000
END:DAYLIGHT
BEGIN:STANDARD
TZOFFSETFROM:-0300
TZOFFSETTO:-0400
TZNAME:-04
DTSTART:20250406T030000
END:STANDARD
BEGIN:DAYLIGHT
TZOFFSETFROM:-0400
TZOFFSETTO:-0300
TZNAME:-03
DTSTART:20250907T040000
END:DAYLIGHT
BEGIN:STANDARD
TZOFFSETFROM:-0300
TZOFFSETTO:-0400
TZNAME:-04
DTSTART:20260405T030000
END:STANDARD
BEGIN:DAYLIGHT
TZOFFSETFROM:-0400
TZOFFSETTO:-0300
TZNAME:-03
DTSTART:20260906T040000
END:DAYLIGHT
END:VTIMEZONE
BEGIN:VEVENT
DTSTART;TZID=America/Santiago:20251217T093000
DTEND;TZID=America/Santiago:20251219T133000
DTSTAMP:20260422T143957
CREATED:20251126T181342Z
LAST-MODIFIED:20251201T163221Z
UID:47002-1765963800-1766151000@finis.cl
SUMMARY:Taller: Formación Acompañamiento Integral
DESCRIPTION:La Dirección de Acompañamiento invita a todos los docentes y funcionarios a formarse en los fundamentos y herramientas del Acompañamiento Integral. Este taller es ideal para aquellos que quieran participar como futuros mentores o convertirse en voluntarios del programa Conectados Contigo\, o simplemente para quienes quieran conocer sobre el acompañamiento integral sin participar directamente en esos programas. \n\nExponen:\n\nRegina Acedo: Directora del área de Acompañamiento\nMacarena de Castro: Mentora y Formadora en Acompañamiento\nMariana Sedano: Coordinadora de programas de Acompañamiento \nVER MÁS \nINSCRIPCIONES ACÁ
URL:https://finis.cl/agenda/taller-formacion-en-acompanamiento-integral-para-colaboradores/
LOCATION:Sala B404
CATEGORIES:Acompañamiento,Comunidad Finis Terrae,Funcionarios,Vicerrectoría Formación Integral
ATTACH;FMTTYPE=image/jpeg:https://finis.cl/wp-content/uploads/2025/11/Agenda-web-2025-11-26T132756.897.jpg
END:VEVENT
BEGIN:VEVENT
DTSTART;TZID=America/Santiago:20251219T140000
DTEND;TZID=America/Santiago:20251219T150000
DTSTAMP:20260422T143957
CREATED:20251203T150225Z
LAST-MODIFIED:20251215T143435Z
UID:47517-1766152800-1766156400@finis.cl
SUMMARY:Navidad Solidaria 2025
DESCRIPTION:Este año\, nos unimos nuevamente para hacer una Navidad más linda a 50 niños de la comuna de Lampa que están en situación de vulnerabilidad. \n¿Te sumas a nuestra campaña de regalos? \nPodemos hacer sonreír a estos niños con un detalle\, y todo lo que necesitamos es tu colaboración. Para sumarte debes inscribirte en el siguiente link para que te enviemos la información y así aportar con algún regalo para hacer de esta Navidad sea especial para ellos. \n INSCRIPCIONES ACÁ \nPlazo: hasta el 12 de diciembre.
URL:https://finis.cl/agenda/navidad-solidaria-2025/
LOCATION:Patio Amberes Norte
CATEGORIES:Compromiso social,Pastoral,Vicerrectoría Formación Integral
ATTACH;FMTTYPE=image/jpeg:https://finis.cl/wp-content/uploads/2025/12/Agenda-web-2025-12-03T120104.641.jpg
END:VEVENT
END:VCALENDAR