BEGIN:VCALENDAR
VERSION:2.0
PRODID:-//Universidad Finis Terrae - ECPv6.15.17.1//NONSGML v1.0//EN
CALSCALE:GREGORIAN
METHOD:PUBLISH
X-WR-CALNAME:Universidad Finis Terrae
X-ORIGINAL-URL:https://finis.cl
X-WR-CALDESC:Eventos para Universidad Finis Terrae
REFRESH-INTERVAL;VALUE=DURATION:PT1H
X-Robots-Tag:noindex
X-PUBLISHED-TTL:PT1H
BEGIN:VTIMEZONE
TZID:America/Santiago
BEGIN:STANDARD
TZOFFSETFROM:-0300
TZOFFSETTO:-0400
TZNAME:-04
DTSTART:20240407T030000
END:STANDARD
BEGIN:DAYLIGHT
TZOFFSETFROM:-0400
TZOFFSETTO:-0300
TZNAME:-03
DTSTART:20240908T040000
END:DAYLIGHT
BEGIN:STANDARD
TZOFFSETFROM:-0300
TZOFFSETTO:-0400
TZNAME:-04
DTSTART:20250406T030000
END:STANDARD
BEGIN:DAYLIGHT
TZOFFSETFROM:-0400
TZOFFSETTO:-0300
TZNAME:-03
DTSTART:20250907T040000
END:DAYLIGHT
BEGIN:STANDARD
TZOFFSETFROM:-0300
TZOFFSETTO:-0400
TZNAME:-04
DTSTART:20260405T030000
END:STANDARD
BEGIN:DAYLIGHT
TZOFFSETFROM:-0400
TZOFFSETTO:-0300
TZNAME:-03
DTSTART:20260906T040000
END:DAYLIGHT
END:VTIMEZONE
BEGIN:VEVENT
DTSTART;TZID=America/Santiago:20250714T000100
DTEND;TZID=America/Santiago:20250720T235900
DTSTAMP:20260422T224719
CREATED:20250715T153558Z
LAST-MODIFIED:20250715T153558Z
UID:39428-1752451260-1753055940@finis.cl
SUMMARY:Trabajos de invierno
DESCRIPTION:La Dirección de Compromiso Social y ASUFINIS\, te invitan a vivir una experiencia de gran impacto para ti y la sociedad. Siete días donde podrás poner tus manos al servicio de la comunidad\, reconstruyendo\, realizando talleres educativos de tu expertise y además vivir momentos interdisciplinarios únicos con todos los de la finis. \nFecha: 14 al 20 de julio.\n¡Si quieres ser voluntario e impartir un taller\, solo inscríbete y sé protagonista del cambio que Chile necesita! \nPlazo inscripción: 04 de julio. \nINSCRIPCIONES ACÁ
URL:https://finis.cl/agenda/trabajos-de-invierno/
CATEGORIES:Compromiso social,Vicerrectoría Formación Integral
END:VEVENT
END:VCALENDAR