BEGIN:VCALENDAR
VERSION:2.0
PRODID:-//Universidad Finis Terrae - ECPv6.15.17.1//NONSGML v1.0//EN
CALSCALE:GREGORIAN
METHOD:PUBLISH
X-WR-CALNAME:Universidad Finis Terrae
X-ORIGINAL-URL:https://finis.cl
X-WR-CALDESC:Eventos para Universidad Finis Terrae
REFRESH-INTERVAL;VALUE=DURATION:PT1H
X-Robots-Tag:noindex
X-PUBLISHED-TTL:PT1H
BEGIN:VTIMEZONE
TZID:America/Santiago
BEGIN:STANDARD
TZOFFSETFROM:-0300
TZOFFSETTO:-0400
TZNAME:-04
DTSTART:20240407T030000
END:STANDARD
BEGIN:DAYLIGHT
TZOFFSETFROM:-0400
TZOFFSETTO:-0300
TZNAME:-03
DTSTART:20240908T040000
END:DAYLIGHT
BEGIN:STANDARD
TZOFFSETFROM:-0300
TZOFFSETTO:-0400
TZNAME:-04
DTSTART:20250406T030000
END:STANDARD
BEGIN:DAYLIGHT
TZOFFSETFROM:-0400
TZOFFSETTO:-0300
TZNAME:-03
DTSTART:20250907T040000
END:DAYLIGHT
BEGIN:STANDARD
TZOFFSETFROM:-0300
TZOFFSETTO:-0400
TZNAME:-04
DTSTART:20260405T030000
END:STANDARD
BEGIN:DAYLIGHT
TZOFFSETFROM:-0400
TZOFFSETTO:-0300
TZNAME:-03
DTSTART:20260906T040000
END:DAYLIGHT
END:VTIMEZONE
BEGIN:VEVENT
DTSTART;TZID=America/Santiago:20251105T123000
DTEND;TZID=America/Santiago:20251106T153000
DTSTAMP:20260422T143709
CREATED:20251028T205759Z
LAST-MODIFIED:20251103T125503Z
UID:45403-1762345800-1762443000@finis.cl
SUMMARY:Semana del Bienestar
DESCRIPTION:La Semana de Bienestar tiene como objetivo promover y prevenir en materia de bienestar y salud mental de nuestros estudiantes y de toda la comunidad universitaria\, a través de actividades participativas\, educativas y lúdicas. \nExpositor invitado:\nBruno Solari\, psicólogo\, asesor del Ministerio de Salud y coordinador del Equipo de Mindfulness del Instituto del Bienestar de Chile\, dictará una charla para reflexionar en torno al bienestar emocional y el cuidado de la salud mental. \nPrograma \n📅 Martes 5 de noviembre \n\nStand Embajadores de Bienestar\nVen a conocer e inscribirte en el rol de Embajadores de Bienestar en tu Escuela\, fomentando el cuidado y vínculo entre pares.\n🕰 12:30 h • 📍 Patio Central\nActivación Pluxee\nActividades lúdicas orientadas a promover el bienestar y la salud mental\, facilitadas por el Programa Vida Saludable de Pluxee.\n🕰 12:30 h • 📍 Patio Central\nActivación Fútbol: “Tu salud mental es tu mejor defensa”\nDinámicas recreativas enfocadas en la promoción de la salud mental a través del deporte.\nAdemás\, podrás participar en una encuesta breve de bienestar estudiantil escaneando el siguiente código QR.\n🕰 12:30 h • 📍 Patio Central\n\n \n📅 Miércoles 6 de noviembre \n\nCharla: “Bienestar emocional en la vida universitaria”\nExpone: Bruno Solari\, psicólogo y especialista en mindfulness.\n🕰 12:30 h • 📍 Patio Central\nPatio de las Emociones\nDiversos stands orientados a promover la regulación emocional\, dirigidos por la Unidad de Bienestar y Salud Mental.\n🕰 12:30 h • 📍 Patio Central
URL:https://finis.cl/agenda/semana-del-bienestar/
LOCATION:Patio central
CATEGORIES:Asuntos Estudiantiles,Estudiantes,Funcionarios,Universidad,Vicerrectoría Formación Integral,Vida universitaria
ATTACH;FMTTYPE=image/jpeg:https://finis.cl/wp-content/uploads/2025/10/Agenda-web-2025-10-28T175542.093.jpg
END:VEVENT
BEGIN:VEVENT
DTSTART;TZID=America/Santiago:20251108T083000
DTEND;TZID=America/Santiago:20251108T123000
DTSTAMP:20260422T143709
CREATED:20251020T144946Z
LAST-MODIFIED:20251020T163107Z
UID:45014-1762590600-1762605000@finis.cl
SUMMARY:Caminata Finis al Cerro San Cristóbal
DESCRIPTION:La Dirección de Deportes invita a toda la comunidad Finis Terrae estudiantes\, funcionarios y amistades a participar en una caminata recreativa al Cerro San Cristóbal. \nPartiremos desde la Universidad\, ascenderemos juntos hasta la cúspide y luego regresaremos al punto de inicio. Será una jornada para disfrutar el entorno natural\, compartir en grupo y fortalecer el sentido de comunidad que nos une. \nLugar: En la entrada de la Universidad. \nPlazo: Inscripciones hasta el 06 de noviembre. \nINSCRIPCIONES ACÁ
URL:https://finis.cl/agenda/caminata-finis-al-cerro-san-cristobal/
LOCATION:Cerro San Cristóbal
CATEGORIES:Dirección de Deportes,Estudiantes,Vicerrectoría Formación Integral
ATTACH;FMTTYPE=image/jpeg:https://finis.cl/wp-content/uploads/2025/10/Agenda-web-2025-10-20T114902.621.jpg
END:VEVENT
BEGIN:VEVENT
DTSTART;TZID=America/Santiago:20251120T100000
DTEND;TZID=America/Santiago:20251122T140000
DTSTAMP:20260422T143709
CREATED:20251103T131417Z
LAST-MODIFIED:20251103T131742Z
UID:45493-1763632800-1763820000@finis.cl
SUMMARY:Primer Congreso Internacional sobre Acompañamiento
DESCRIPTION:Los días 20\, 21 y 22 de noviembre de 2025 se celebrará el Primer Congreso Internacional de Acompañamiento\, organizado por el Instituto da Familia y el Instituto Internacional de Acompañamiento. Este evento busca consolidarse como un espacio académico de reflexión\, formación e intercambio en torno al acompañamiento personal y espiritual\, entendido como una práctica rigurosa\, metódica y reglada. \nEl congreso contará con la participación activa de la Universidad Finis Terrae\, representada por Regina Acedo\, Directora de Acompañamiento\, quien presentará la ponencia titulada: “Acompañamiento y experiencia interior”\, una exploración profunda sobre el vínculo entre el acompañamiento y la vivencia interna en la persona que acompaña. \nDurante el encuentro\, se abordarán los fundamentos teóricos del acompañamiento\, su metodología y herramientas prácticas\, ofreciendo a los asistentes una visión integral y actualizada sobre esta disciplina emergente en el ámbito académico y profesional. \nEl evento se realizará en la ciudad de Ourense\, España\, y también estará disponible en modalidad online\, permitiendo la participación de académicos e investigadores de todo el mundo. \nPara inscribirse y ver el programa de los tres días\, ingresar AQUÍ
URL:https://finis.cl/agenda/primer-congreso-internacional-sobre-acompanamiento/
LOCATION:Online
CATEGORIES:Acompañamiento,Acompañamiento,Estudiantes,U. Finis Terrae,Vicerrectoría Formación Integral
ATTACH;FMTTYPE=image/jpeg:https://finis.cl/wp-content/uploads/2025/11/Agenda-web-2025-11-03T095818.841.jpg
END:VEVENT
END:VCALENDAR