BEGIN:VCALENDAR
VERSION:2.0
PRODID:-//Universidad Finis Terrae - ECPv6.15.17.1//NONSGML v1.0//EN
CALSCALE:GREGORIAN
METHOD:PUBLISH
X-WR-CALNAME:Universidad Finis Terrae
X-ORIGINAL-URL:https://finis.cl
X-WR-CALDESC:Eventos para Universidad Finis Terrae
REFRESH-INTERVAL;VALUE=DURATION:PT1H
X-Robots-Tag:noindex
X-PUBLISHED-TTL:PT1H
BEGIN:VTIMEZONE
TZID:America/Santiago
BEGIN:STANDARD
TZOFFSETFROM:-0300
TZOFFSETTO:-0400
TZNAME:-04
DTSTART:20220403T030000
END:STANDARD
BEGIN:DAYLIGHT
TZOFFSETFROM:-0400
TZOFFSETTO:-0300
TZNAME:-03
DTSTART:20220911T040000
END:DAYLIGHT
BEGIN:STANDARD
TZOFFSETFROM:-0300
TZOFFSETTO:-0400
TZNAME:-04
DTSTART:20230402T030000
END:STANDARD
BEGIN:DAYLIGHT
TZOFFSETFROM:-0400
TZOFFSETTO:-0300
TZNAME:-03
DTSTART:20230903T040000
END:DAYLIGHT
BEGIN:STANDARD
TZOFFSETFROM:-0300
TZOFFSETTO:-0400
TZNAME:-04
DTSTART:20240407T030000
END:STANDARD
BEGIN:DAYLIGHT
TZOFFSETFROM:-0400
TZOFFSETTO:-0300
TZNAME:-03
DTSTART:20240908T040000
END:DAYLIGHT
END:VTIMEZONE
BEGIN:VEVENT
DTSTART;TZID=America/Santiago:20231213T183000
DTEND;TZID=America/Santiago:20231213T235900
DTSTAMP:20260424T020222
CREATED:20250715T154837Z
LAST-MODIFIED:20250715T154837Z
UID:40058-1702492200-1702511940@finis.cl
SUMMARY:Lanzamiento del libro: “Formación integral universitaria. Una respuesta a los desafíos de hoy”
DESCRIPTION:Es necesario entender el horizonte del trabajo en la universidad desde la perspectiva de la formación integral. Es esta una formación que abarca la dimensión profesional\, pero que aspira también a influir en la totalidad de la persona\, de modo que el estudiante descubra la grandeza de su vocación y las consecuencias transformadoras que puede tener su vida para el mundo. La universidad ha de entenderse\, por tanto\, como el lugar de origen de la revolución humana. \nEl presente libro\, Formación integral universitaria. Una respuesta a los desafíos de hoy\, editado por James Cleary\, L.C. y Vicente Pérez Moreira\, es una aproximación a este ideal\, aplicándolo a la realidad de Chile y\, desde allí\, al mundo entero.” Daniel Sada\, Rector de la Universidad Francisco de Vitoria\, Madrid. \nRELATOR: \nThomas Rego\, doctor en filosofía. \nEDITORES: \nP. James Cleary\, L.C. y Vicente Pérez Moreira \nINSCRIPCIONES ACÁ
URL:https://finis.cl/agenda/lanzamiento-del-libro-formacion-integral-universitaria-una-respuesta-a-los-desafios-de-hoy/
CATEGORIES:Vicerrectoría Formación Integral
END:VEVENT
END:VCALENDAR