BEGIN:VCALENDAR
VERSION:2.0
PRODID:-//Universidad Finis Terrae - ECPv6.15.17.1//NONSGML v1.0//EN
CALSCALE:GREGORIAN
METHOD:PUBLISH
X-WR-CALNAME:Universidad Finis Terrae
X-ORIGINAL-URL:https://finis.cl
X-WR-CALDESC:Eventos para Universidad Finis Terrae
REFRESH-INTERVAL;VALUE=DURATION:PT1H
X-Robots-Tag:noindex
X-PUBLISHED-TTL:PT1H
BEGIN:VTIMEZONE
TZID:America/Santiago
BEGIN:STANDARD
TZOFFSETFROM:-0300
TZOFFSETTO:-0400
TZNAME:-04
DTSTART:20240407T030000
END:STANDARD
BEGIN:DAYLIGHT
TZOFFSETFROM:-0400
TZOFFSETTO:-0300
TZNAME:-03
DTSTART:20240908T040000
END:DAYLIGHT
BEGIN:STANDARD
TZOFFSETFROM:-0300
TZOFFSETTO:-0400
TZNAME:-04
DTSTART:20250406T030000
END:STANDARD
BEGIN:DAYLIGHT
TZOFFSETFROM:-0400
TZOFFSETTO:-0300
TZNAME:-03
DTSTART:20250907T040000
END:DAYLIGHT
BEGIN:STANDARD
TZOFFSETFROM:-0300
TZOFFSETTO:-0400
TZNAME:-04
DTSTART:20260405T030000
END:STANDARD
BEGIN:DAYLIGHT
TZOFFSETFROM:-0400
TZOFFSETTO:-0300
TZNAME:-03
DTSTART:20260906T040000
END:DAYLIGHT
END:VTIMEZONE
BEGIN:VEVENT
DTSTART;TZID=America/Santiago:20250508T193000
DTEND;TZID=America/Santiago:20250508T235900
DTSTAMP:20260425T091841
CREATED:20250715T153604Z
LAST-MODIFIED:20260331T193658Z
UID:39439-1746732600-1746748740@finis.cl
SUMMARY:Webinar: “Comunicación de malas noticias”
DESCRIPTION:La Comisión de Bioética de la Facultad de Odontología te invita a participar en la primera charla del ciclo de webinars de comunicación: “Comunicación de malas noticias”\, dictada por la psic. Patricia Rojas. Este webinar está dirigido a la comunidad académica y odontológica\, con un enfoque especial en estudiantes y profesionales de la salud interesados en fortalecer sus habilidades de comunicación con pacientes\, colegas e industria. La sesión combinará teoría y práctica. Se entregará constancia de asistencia a esta charla y certificación a quienes participen en las 4 sesiones del ciclo. Invitamos especialmente a los docentes a sumarse\, como un valioso aporte a sus compromisos académicos. \nLas siguientes charlas que complementan este ciclo son: \n\nInnovación en Odontología (5 de junio\, Dra. María Renard)\nDivulgación de ciencias a público y medios masivos (3 de julio\, Claudio Broitman)\nComunicación científica con revistas e industria (7 de agosto\, Dra. Marcela Hernández)\n\n\nEXPONEN:\n\nPPatricia Rojas. Psicóloga clínica. Coach ontológica especialista en relaciones afectivas. Máster en educación en ciencias de la salud y magíster en gestión de salud. Diplomada en bioética clínica y fundamental.\n\nINSCRIPCIÓN ACÁ\n\nORGANIZA: Comisión de Bioética de la Facultad de Odontología
URL:https://finis.cl/agenda/webinar-comunicacion-de-malas-noticias/
CATEGORIES:Ciclos,Facultad de Odontología
END:VEVENT
BEGIN:VEVENT
DTSTART;TZID=America/Santiago:20250512T100000
DTEND;TZID=America/Santiago:20250512T235900
DTSTAMP:20260425T091841
CREATED:20250715T153557Z
LAST-MODIFIED:20250715T153557Z
UID:39426-1747044000-1747094340@finis.cl
SUMMARY:Semana de la encía
DESCRIPTION:¿Sabías que la salud de tus encías es fundamental para tu bienestar bucal general? Por eso te invitamos a participar del 12 al 16 de mayo en las actividades de la Semana de la Encía! Infórmate y concientiza sobre la importancia de cuidar tus encías. Participa en nuestras actividades para aprender y procurar tu salud bucal. ¡Una encía sana es una sonrisa feliz! \nPROGRAMA: \nPosters educativos\, con entrega de información sobre salud bucal a los estudiantes \nEstudiantes de la Facultad de Odontología tomarán el Patio Central de la Finis\, en una jornada de promoción de la salud bucal\, en particular la salud de las encías\, para la comunidad académica en general.\n10:00 a 12:00 hrs.\nLugar: Patio Central de la Universidad Finis Terrae\nFecha: 12 de mayo de 2025\nInvita la Facultad de Odontología\, el Centro de Estudiantes de la Facultad de Odontología y la Sociedad de Periodoncia de Chile. \nStands educativos con entrega de material educativo\, concursos y premios a los estudiantes \nLos estudiantes de Odontología instalarán 8 stands educativos en la Terraza de Pastoral\, en una actividad interactiva en la que se entregará información a través de preguntas\, concursos y premios a los estudiantes de la Finis.\n10:00 a 12:00 hrs.\nLugar: Terraza de Pastoral\nFecha: 14 de mayo de 2025\nInvita la Facultad de Odontología\, el Centro de Estudiantes de la Facultad de Odontología y la Sociedad de Periodoncia de Chile. \nVisita a la Residencia de Adultos mayores Los Nonnos\, donde realizarán educación a cuidadoras y residentes \nInternos de 6to Año de la Carrera de Odontología realizarán una visita a la Residencia de Adultos Mayores Los Nonnos\, con la intención de realizar una jornada de promoción de la salud bucal y de las encías\, para las cuidadoras del hogar y sus residentes.\n14:30 a 15:30 hrs.\nLugar: Residencia de Adultos Mayores Los Nonnos\nFecha: 15 de mayo de 2025\nInvita la Facultad de Odontología\, el Centro de Estudiantes de la Facultad de Odontología y la Sociedad de Periodoncia de Chile. \nJornada de atención\, higiene y educación en el Centro Odontológico de la Universidad Finis Terrae a Adultos Mayores de la Comuna de Lampa \nLos estudiantes de la Clínica del Adulto Senescente (CAS) de 5to Año\, acompañados por docentes de Odontopediatría\, recibirán a 24 adultos mayores de la Comuna de Lampa\, en las instalaciones del Centro Odontológico de la Universidad Finis Terrae\, para una jornada de educación e higiene.\n10:00 a 12:00 hrs.\nLugar: Centro Odontológico de la Universidad Finis Terrae\nFecha: 16 de mayo de 2025\nInvita la Facultad de Odontología\, el Centro de Estudiantes de la Facultad de Odontología y la Sociedad de Periodoncia de Chile.
URL:https://finis.cl/agenda/semana-de-la-encia/
CATEGORIES:Facultad de Odontología
END:VEVENT
END:VCALENDAR