BEGIN:VCALENDAR
VERSION:2.0
PRODID:-//Universidad Finis Terrae - ECPv6.15.17.1//NONSGML v1.0//EN
CALSCALE:GREGORIAN
METHOD:PUBLISH
X-WR-CALNAME:Universidad Finis Terrae
X-ORIGINAL-URL:https://finis.cl
X-WR-CALDESC:Eventos para Universidad Finis Terrae
REFRESH-INTERVAL;VALUE=DURATION:PT1H
X-Robots-Tag:noindex
X-PUBLISHED-TTL:PT1H
BEGIN:VTIMEZONE
TZID:America/Santiago
BEGIN:STANDARD
TZOFFSETFROM:-0300
TZOFFSETTO:-0400
TZNAME:-04
DTSTART:20240407T030000
END:STANDARD
BEGIN:DAYLIGHT
TZOFFSETFROM:-0400
TZOFFSETTO:-0300
TZNAME:-03
DTSTART:20240908T040000
END:DAYLIGHT
BEGIN:STANDARD
TZOFFSETFROM:-0300
TZOFFSETTO:-0400
TZNAME:-04
DTSTART:20250406T030000
END:STANDARD
BEGIN:DAYLIGHT
TZOFFSETFROM:-0400
TZOFFSETTO:-0300
TZNAME:-03
DTSTART:20250907T040000
END:DAYLIGHT
BEGIN:STANDARD
TZOFFSETFROM:-0300
TZOFFSETTO:-0400
TZNAME:-04
DTSTART:20260405T030000
END:STANDARD
BEGIN:DAYLIGHT
TZOFFSETFROM:-0400
TZOFFSETTO:-0300
TZNAME:-03
DTSTART:20260906T040000
END:DAYLIGHT
BEGIN:STANDARD
TZOFFSETFROM:-0300
TZOFFSETTO:-0400
TZNAME:-04
DTSTART:20270404T030000
END:STANDARD
BEGIN:DAYLIGHT
TZOFFSETFROM:-0400
TZOFFSETTO:-0300
TZNAME:-03
DTSTART:20270905T040000
END:DAYLIGHT
END:VTIMEZONE
BEGIN:VEVENT
DTSTART;TZID=America/Santiago:20251204T080000
DTEND;TZID=America/Santiago:20260115T170000
DTSTAMP:20260423T130526
CREATED:20260105T155205Z
LAST-MODIFIED:20260105T155205Z
UID:48721-1764835200-1768496400@finis.cl
SUMMARY:Colores Ancestrales de Chiloé
DESCRIPTION:Actualmente se encuentra en exhibición la exposición “Colores Ancestrales de Chiloé” en el espacio expositivo Capilla Azul\, de la Corporación Socio Cultural Comarca Contuy. \nLa muestra reúne los procesos desarrollados durante el año por niñas y niños de las escuelas rurales del Estero de Paildad\, en un trabajo guiado por el Proyecto Caudales\, en colaboración con CIANS. \nLa exposición puede visitarse hasta el 15 de enero de 2026 y próximamente será presentada en la sala de exposiciones de la Universidad Finis Terrae. \n\nHasta el 15 de enero 2026. Espacio Expositivo Capilla Azul\, en Comarca Contuy\, Chiloé.
URL:https://finis.cl/agenda/colores-ancestrales-de-chiloe/
LOCATION:Chiloé
CATEGORIES:Facultad de Artes,Facultad de Medicina
ATTACH;FMTTYPE=image/webp:https://finis.cl/wp-content/uploads/2026/01/Caudales-agenda.webp
END:VEVENT
BEGIN:VEVENT
DTSTART;TZID=America/Santiago:20251215T140000
DTEND;TZID=America/Santiago:20251215T160000
DTSTAMP:20260423T130527
CREATED:20251210T135708Z
LAST-MODIFIED:20251210T135708Z
UID:47845-1765807200-1765814400@finis.cl
SUMMARY:Seminario "Del movimiento al envejecimiento: control neuromuscular de la marcha y rol de la actividad física"
DESCRIPTION:Este seminario explora cómo la locomoción humana cambia a lo largo de la vida y cómo la actividad física puede modular estos procesos. Se presentarán estrategias neuromecánicas que sostienen el caminar desde la juventud hasta la vejez\, así como los ajustes en el control neuromuscular asociados al envejecimiento. Finalmente\, se discutirán enfoques basados en actividad física capaces de mitigar estos cambios y optimizar la estabilidad\, postura y eficiencia durante la marcha. \n\nEXPONEN:\n\nProf. Arthur Dewolf: Doctor en neuromecánica de la locomoción humana (PhD) por UCLouvain. Profesor en la Catholic University of Louvain (UCLouvain)\, en el Instituto de Neurociencia\, donde dirige el Laboratorio de Fisiología y Biomecánica de la Locomoción.\n\nDr. Mario Núñez-Lisboa: Académico investigador postdoctoral en la Escuela de Kinesiología de la U. Finis Terrae. Sus áreas de especialidad incluyen biomecánica de la locomoción asociado a su control motor y envejecimiento.\n\nPROGRAMA:\n\n\n13:30: Acreditación.\n\n14:00: Ponencia 1: Walking Through Life: Neuromechanical Strategies of Human Locomotion Across the Lifespan. – Prof. Arthur Dewolf.\n\n14:45: Preguntas.\n\n15:00: Ponencia 2: The Role of Physical Activity in Mitigating Age-Related Changes in the Neuromuscular Control of Gait.\n\n15:45: Preguntas.\n\n16:00: Cierre\n\n\nINSCRIPCIONES ACÁ
URL:https://finis.cl/agenda/seminario-del-movimiento-al-envejecimiento-control-neuromuscular-de-la-marcha-y-rol-de-la-actividad-fisica/
LOCATION:Sala C101
CATEGORIES:Estudiantes,Facultad de Medicina,Medicina
ATTACH;FMTTYPE=image/jpeg:https://finis.cl/wp-content/uploads/2025/12/Agenda-web-2025-12-10T105628.454.jpg
END:VEVENT
END:VCALENDAR