BEGIN:VCALENDAR
VERSION:2.0
PRODID:-//Universidad Finis Terrae - ECPv6.15.17.1//NONSGML v1.0//EN
CALSCALE:GREGORIAN
METHOD:PUBLISH
X-ORIGINAL-URL:https://finis.cl
X-WR-CALDESC:Eventos para Universidad Finis Terrae
REFRESH-INTERVAL;VALUE=DURATION:PT1H
X-Robots-Tag:noindex
X-PUBLISHED-TTL:PT1H
BEGIN:VTIMEZONE
TZID:America/Santiago
BEGIN:STANDARD
TZOFFSETFROM:-0300
TZOFFSETTO:-0400
TZNAME:-04
DTSTART:20240407T030000
END:STANDARD
BEGIN:DAYLIGHT
TZOFFSETFROM:-0400
TZOFFSETTO:-0300
TZNAME:-03
DTSTART:20240908T040000
END:DAYLIGHT
BEGIN:STANDARD
TZOFFSETFROM:-0300
TZOFFSETTO:-0400
TZNAME:-04
DTSTART:20250406T030000
END:STANDARD
BEGIN:DAYLIGHT
TZOFFSETFROM:-0400
TZOFFSETTO:-0300
TZNAME:-03
DTSTART:20250907T040000
END:DAYLIGHT
BEGIN:STANDARD
TZOFFSETFROM:-0300
TZOFFSETTO:-0400
TZNAME:-04
DTSTART:20260405T030000
END:STANDARD
BEGIN:DAYLIGHT
TZOFFSETFROM:-0400
TZOFFSETTO:-0300
TZNAME:-03
DTSTART:20260906T040000
END:DAYLIGHT
END:VTIMEZONE
BEGIN:VEVENT
DTSTART;TZID=America/Santiago:20250318T110000
DTEND;TZID=America/Santiago:20250318T235900
DTSTAMP:20260424T190151
CREATED:20250715T153812Z
LAST-MODIFIED:20250715T153812Z
UID:39497-1742295600-1742342340@finis.cl
SUMMARY:Isaac Scherson: “Experiencia y aporte desde la academia y la Ingeniería”
DESCRIPTION:La Facultad de Ingeniería de la Universidad Finis Terrae\, trae al ingeniero y académico chileno de la Universidad de California\, Isaac Scherson\, creador del algoritmo de ordenamiento numérico Shear-Sort. \nEXPONE: \nIsaac Scherson\, Doctor en Ciencias de la Computación del Weizman Institute of Science y académico de la Universidad de California.
URL:https://finis.cl/agenda/isaac-scherson-experiencia-y-aporte-desde-la-academia-y-la-ingenieria/
CATEGORIES:Facultad de Ingeniería
END:VEVENT
END:VCALENDAR