BEGIN:VCALENDAR
VERSION:2.0
PRODID:-//Universidad Finis Terrae - ECPv6.15.17.1//NONSGML v1.0//EN
CALSCALE:GREGORIAN
METHOD:PUBLISH
X-WR-CALNAME:Universidad Finis Terrae
X-ORIGINAL-URL:https://finis.cl
X-WR-CALDESC:Eventos para Universidad Finis Terrae
REFRESH-INTERVAL;VALUE=DURATION:PT1H
X-Robots-Tag:noindex
X-PUBLISHED-TTL:PT1H
BEGIN:VTIMEZONE
TZID:America/Santiago
BEGIN:STANDARD
TZOFFSETFROM:-0300
TZOFFSETTO:-0400
TZNAME:-04
DTSTART:20240407T030000
END:STANDARD
BEGIN:DAYLIGHT
TZOFFSETFROM:-0400
TZOFFSETTO:-0300
TZNAME:-03
DTSTART:20240908T040000
END:DAYLIGHT
BEGIN:STANDARD
TZOFFSETFROM:-0300
TZOFFSETTO:-0400
TZNAME:-04
DTSTART:20250406T030000
END:STANDARD
BEGIN:DAYLIGHT
TZOFFSETFROM:-0400
TZOFFSETTO:-0300
TZNAME:-03
DTSTART:20250907T040000
END:DAYLIGHT
BEGIN:STANDARD
TZOFFSETFROM:-0300
TZOFFSETTO:-0400
TZNAME:-04
DTSTART:20260405T030000
END:STANDARD
BEGIN:DAYLIGHT
TZOFFSETFROM:-0400
TZOFFSETTO:-0300
TZNAME:-03
DTSTART:20260906T040000
END:DAYLIGHT
END:VTIMEZONE
BEGIN:VEVENT
DTSTART;TZID=America/Santiago:20251128T080000
DTEND;TZID=America/Santiago:20251128T170000
DTSTAMP:20260423T031022
CREATED:20251128T133616Z
LAST-MODIFIED:20251128T133752Z
UID:47276-1764316800-1764349200@finis.cl
SUMMARY:Curso de formación en intervención parental: Estrategias breves para lograr cambios profundos
DESCRIPTION:Curso dirigido a psicólogos que buscan fortalecer sus habilidades para acompañar a padres mediante intervenciones breves y estratégicas. El programa enseña un modelo estructurado y basado en evidencia para promover cambios en la crianza\, la comunicación familiar\, la resolución de conflictos y el vínculo padres–hijos\, entregando herramientas prácticas para abordar los principales motivos de consulta y generar mejoras sostenibles en la dinámica familiar. \n\nImparte:\n\nCarla Andrea Vivanco M. Psicóloga clínica\, Pontificia Universidad Católica de Chile. Magíster en psicología clínica\, Universidad del Desarrollo. Directora y fundadora de Padres Creciendo y el modelo pionero de Coaching Parental. Psicóloga clínica con consulta independiente. \n\nInicio: 4 de mayo de 2026. Término: 6 de julio de 2026. 10 sesiones todos los lunes de 17:00 a 19:00 hrs.\n\nINSCRIPCIONES ACÁ
URL:https://finis.cl/agenda/curso-de-formacion-en-intervencion-parental-estrategias-breves-para-lograr-cambios-profundos/
LOCATION:Online
CATEGORIES:Facultad de Educación y Ciencias Sociales,Psicología
ATTACH;FMTTYPE=image/jpeg:https://finis.cl/wp-content/uploads/2025/11/Agenda-web-2025-11-28T103511.511.jpg
END:VEVENT
END:VCALENDAR