BEGIN:VCALENDAR
VERSION:2.0
PRODID:-//Universidad Finis Terrae - ECPv6.15.17.1//NONSGML v1.0//EN
CALSCALE:GREGORIAN
METHOD:PUBLISH
X-WR-CALNAME:Universidad Finis Terrae
X-ORIGINAL-URL:https://finis.cl
X-WR-CALDESC:Eventos para Universidad Finis Terrae
REFRESH-INTERVAL;VALUE=DURATION:PT1H
X-Robots-Tag:noindex
X-PUBLISHED-TTL:PT1H
BEGIN:VTIMEZONE
TZID:America/Santiago
BEGIN:STANDARD
TZOFFSETFROM:-0300
TZOFFSETTO:-0400
TZNAME:-04
DTSTART:20240407T030000
END:STANDARD
BEGIN:DAYLIGHT
TZOFFSETFROM:-0400
TZOFFSETTO:-0300
TZNAME:-03
DTSTART:20240908T040000
END:DAYLIGHT
BEGIN:STANDARD
TZOFFSETFROM:-0300
TZOFFSETTO:-0400
TZNAME:-04
DTSTART:20250406T030000
END:STANDARD
BEGIN:DAYLIGHT
TZOFFSETFROM:-0400
TZOFFSETTO:-0300
TZNAME:-03
DTSTART:20250907T040000
END:DAYLIGHT
BEGIN:STANDARD
TZOFFSETFROM:-0300
TZOFFSETTO:-0400
TZNAME:-04
DTSTART:20260405T030000
END:STANDARD
BEGIN:DAYLIGHT
TZOFFSETFROM:-0400
TZOFFSETTO:-0300
TZNAME:-03
DTSTART:20260906T040000
END:DAYLIGHT
END:VTIMEZONE
BEGIN:VEVENT
DTSTART;TZID=America/Santiago:20251107T083000
DTEND;TZID=America/Santiago:20251107T093000
DTSTAMP:20260423T031021
CREATED:20251023T193347Z
LAST-MODIFIED:20251023T193347Z
UID:45237-1762504200-1762507800@finis.cl
SUMMARY:Primer Seminario Nacional de Trabajos de Investigación de estudiantes de Pedagogía en Educación Parvularia
DESCRIPTION:La carrera de Pedagogía en Educación Parvularia y el Centro de Investigación en Psicología\, Educación y Familia (CIPEF) de la Facultad de Educación y Ciencias Sociales\, junto con la Red Nacional de Pedagogía en Educación Parvularia (REDNAPEP)\, invitan a las y los estudiantes a participar en un espacio de diálogo sobre los desafíos y avances que enfrenta actualmente la Educación Parvularia. \nEl encuentro busca fomentar la reflexión colectiva en torno a los temas que hoy marcan y transforman este nivel educativo\, promoviendo el intercambio de saberes\, experiencias y perspectivas que contribuyan al fortalecimiento de la formación docente. \n\nParticipan: Estudiantes de la carrera de Pedagogía en Educación Parvularia\nOrganizan: Facultad de Educación y Ciencias Sociales\, Centro de Investigación en Psicología\, Educación y Familia (CIPEF) y la Red Nacional de Pedagogía en Educación Parvularia (REDNAPEP)\nInscripciones ACÁ 
URL:https://finis.cl/agenda/primer-seminario-nacional-de-trabajos-de-investigacion-de-estudiantes-de-pedagogia-en-educacion-parvularia/
LOCATION:Sala de Exposiciones
CATEGORIES:CIPEF,Estudiantes,Facultad de Educación y Ciencias Sociales
ATTACH;FMTTYPE=image/jpeg:https://finis.cl/wp-content/uploads/2025/10/Agenda-web-2025-10-23T163330.045.jpg
END:VEVENT
BEGIN:VEVENT
DTSTART;TZID=America/Santiago:20251107T123000
DTEND;TZID=America/Santiago:20251107T133000
DTSTAMP:20260423T031021
CREATED:20251023T195603Z
LAST-MODIFIED:20251023T195644Z
UID:45241-1762518600-1762522200@finis.cl
SUMMARY:Conversatorio interfacultades: Mujeres en Ingeniería
DESCRIPTION:El Conversatorio Interfacultades: Mujeres en Ingeniería busca promover el diálogo y la reflexión en torno a la participación de las mujeres en las áreas STEM\, visibilizando las desigualdades de género que persisten en la educación superior y destacando experiencias de liderazgo\, investigación y gestión académica en el ámbito de la ingeniería. \nA través de distintas miradas\, se abordarán los desafíos\, avances y aportes que contribuyen a una formación más equitativa e inclusiva dentro de la universidad y del campo científico-tecnológico. \nExponen: \n\nDr. Mateus Coelho\, Doctor en Ciencias Humanas por la Universidad Federal de Santa Catarina (UFSC). Investigador Postdoctoral en el proyecto Anillo Descentrando\, Universidad de Valparaíso\, Chile.\nDra. Angélica Urrutia\, Doctora en Ingeniería Informática\, Universidad de Castilla. Decana de la Facultad de Ingeniería\, Universidad Finis Terrae.\nDra. Rosario Undurraga\, Doctora en Sociología\, Universidad de Warwick. Profesora Titular de la Escuela de Ciencias de la Familia\, Facultad en Educación y Ciencias Sociales\, Universidad Finis Terrae. Investigadora principal en el proyecto Anillo Descentrando.\n\nInscripciones ACÁ
URL:https://finis.cl/agenda/conversatorio-interfacultades-mujeres-en-ingenieria/
LOCATION:Sala B301
CATEGORIES:Estudiantes,Facultad de Educación y Ciencias Sociales,Facultad de Ingeniería,U. Finis Terrae
ATTACH;FMTTYPE=image/jpeg:https://finis.cl/wp-content/uploads/2025/10/Agenda-web-2025-10-23T165534.861.jpg
END:VEVENT
END:VCALENDAR