BEGIN:VCALENDAR
VERSION:2.0
PRODID:-//Universidad Finis Terrae - ECPv6.15.17.1//NONSGML v1.0//EN
CALSCALE:GREGORIAN
METHOD:PUBLISH
X-ORIGINAL-URL:https://finis.cl
X-WR-CALDESC:Eventos para Universidad Finis Terrae
REFRESH-INTERVAL;VALUE=DURATION:PT1H
X-Robots-Tag:noindex
X-PUBLISHED-TTL:PT1H
BEGIN:VTIMEZONE
TZID:America/Santiago
BEGIN:STANDARD
TZOFFSETFROM:-0300
TZOFFSETTO:-0400
TZNAME:-04
DTSTART:20240407T030000
END:STANDARD
BEGIN:DAYLIGHT
TZOFFSETFROM:-0400
TZOFFSETTO:-0300
TZNAME:-03
DTSTART:20240908T040000
END:DAYLIGHT
BEGIN:STANDARD
TZOFFSETFROM:-0300
TZOFFSETTO:-0400
TZNAME:-04
DTSTART:20250406T030000
END:STANDARD
BEGIN:DAYLIGHT
TZOFFSETFROM:-0400
TZOFFSETTO:-0300
TZNAME:-03
DTSTART:20250907T040000
END:DAYLIGHT
BEGIN:STANDARD
TZOFFSETFROM:-0300
TZOFFSETTO:-0400
TZNAME:-04
DTSTART:20260405T030000
END:STANDARD
BEGIN:DAYLIGHT
TZOFFSETFROM:-0400
TZOFFSETTO:-0300
TZNAME:-03
DTSTART:20260906T040000
END:DAYLIGHT
END:VTIMEZONE
BEGIN:VEVENT
DTSTART;TZID=America/Santiago:20251028T180000
DTEND;TZID=America/Santiago:20251029T170000
DTSTAMP:20260423T030943
CREATED:20251017T141227Z
LAST-MODIFIED:20251017T153418Z
UID:44920-1761674400-1761757200@finis.cl
SUMMARY:Congreso Virtual 2025: “Diálogos Académicos de Educación Religiosa Escolar”
DESCRIPTION:  \nLa Universidad Finis Terrae\, a través del Instituto Escuela de la Fe de la Facultad de Educación y Ciencias Sociales\, invita a una nueva versión del Congreso Virtual “Diálogos Académicos de Educación Religiosa Escolar 2025”\, un espacio de reflexión y encuentro internacional entre docentes\, investigadores y comunidades educativas dedicadas a la enseñanza religiosa escolar en América Latina. \nEsta edición se desarrollará los días martes 28 y miércoles 29 de octubre\, a partir de las 18:00 hrs (Chile)\, y será transmitida en directo por los canales Live de YouTube\, Facebook y LinkedIn de @religionfinis. \nEl Congreso no requiere inscripción previa\, y quienes participen podrán solicitar su certificado de asistencia por uno o ambos días. \n\nUn espacio académico en diálogo continental\n\nLa Educación Religiosa Escolar (ERE) se enfrenta hoy a nuevos desafíos pedagógicos\, culturales y tecnológicos. En este contexto\, el Congreso busca fortalecer el diálogo académico interuniversitario y proponer caminos de actualización para la enseñanza de la religión en la escuela\, desde una mirada abierta\, crítica y contextual. \nEl encuentro reúne nuevamente a diversas universidades latinoamericanas comprometidas con el desarrollo de la ERE: \n\nUniversidad Finis Terrae (Chile)\nUniversidad Católica de Pereira (Colombia)\nPontificia Universidad Católica de México (México)\nPontificia Universidad Católica de Río de Janeiro (Brasil)\nUniversidad Católica de Costa Rica (Costa Rica)\nUniversidad de La Salle (Colombia)\n\nPrograma 2025 \nMartes 28 de octubre \n\nRodolfo Núñez Hernández & Patricio Jaramillo Fernández (Chile)\n\n“Rasgos de los profesores de Religión de la arquidiócesis de Santiago” \n\nLuis Alarcón Ricaurte (Colombia)\n\n“Aportes de la ERE a la paz en contextos no confesionales” \n\nMarcia Pocasangre Fonseca & Marco A. Fernández Picado (Costa Rica)\n\n“Aspectos innovadores del programa de estudio de ERE en el sistema educativo público de Costa Rica” \nMiércoles 29 de octubre \n\nGonzalo Quivira Armijo (Chile)\n\n“Imaginación y tecnología: caminos para actualizar la ERE en Chile” \n\nWilliam Guillín Díaz & Luis Ramírez Trujillo (Colombia)\n\n“Creación de ambientes de aprendizaje en ERE. Un ejemplo” \nReflexionar\, compartir y renovar \n\nCon esta quinta edición\, los Diálogos Académicos de Educación Religiosa Escolar se consolidan como un referente internacional en la reflexión contemporánea sobre la enseñanza de la religión\, promoviendo la formación integral del profesorado\, la innovación pedagógica y la colaboración entre universidades latinoamericanas.\n\nSigue la transmisión en vivo: \n\nYouTube: @religionfinis\nFacebook: @religionfinis\nLinkedIn: @religionfinis
URL:https://finis.cl/agenda/congreso-virtual-2025-dialogos-academicos-de-educacion-religiosa-escolar/
LOCATION:Online
CATEGORIES:Escuela de la Fe,Estudiantes,Facultad de Educación y Ciencias Sociales
ATTACH;FMTTYPE=image/jpeg:https://finis.cl/wp-content/uploads/2025/10/Agenda-web-2025-10-17T111138.182.jpg
END:VEVENT
END:VCALENDAR