BEGIN:VCALENDAR
VERSION:2.0
PRODID:-//Universidad Finis Terrae - ECPv6.15.17.1//NONSGML v1.0//EN
CALSCALE:GREGORIAN
METHOD:PUBLISH
X-ORIGINAL-URL:https://finis.cl
X-WR-CALDESC:Eventos para Universidad Finis Terrae
REFRESH-INTERVAL;VALUE=DURATION:PT1H
X-Robots-Tag:noindex
X-PUBLISHED-TTL:PT1H
BEGIN:VTIMEZONE
TZID:America/Santiago
BEGIN:STANDARD
TZOFFSETFROM:-0300
TZOFFSETTO:-0400
TZNAME:-04
DTSTART:20240407T030000
END:STANDARD
BEGIN:DAYLIGHT
TZOFFSETFROM:-0400
TZOFFSETTO:-0300
TZNAME:-03
DTSTART:20240908T040000
END:DAYLIGHT
BEGIN:STANDARD
TZOFFSETFROM:-0300
TZOFFSETTO:-0400
TZNAME:-04
DTSTART:20250406T030000
END:STANDARD
BEGIN:DAYLIGHT
TZOFFSETFROM:-0400
TZOFFSETTO:-0300
TZNAME:-03
DTSTART:20250907T040000
END:DAYLIGHT
BEGIN:STANDARD
TZOFFSETFROM:-0300
TZOFFSETTO:-0400
TZNAME:-04
DTSTART:20260405T030000
END:STANDARD
BEGIN:DAYLIGHT
TZOFFSETFROM:-0400
TZOFFSETTO:-0300
TZNAME:-03
DTSTART:20260906T040000
END:DAYLIGHT
END:VTIMEZONE
BEGIN:VEVENT
DTSTART;TZID=America/Santiago:20251025T093000
DTEND;TZID=America/Santiago:20251025T133000
DTSTAMP:20260423T045750
CREATED:20250922T182846Z
LAST-MODIFIED:20251017T143725Z
UID:43498-1761384600-1761399000@finis.cl
SUMMARY:"Conectando Saberes\, Proyectando Futuro”: Encuentro Anual Red Alumni U. Finis Terrae 2025
DESCRIPTION:Esta iniciativa tiene como objetivo encontrarnos como comunidad Alumni de la Facultad de Educación y Ciencias Sociales de la Universidad Finis Terrae para actualizar nuestros conocimientos\, compartir experiencias y generar redes que inspiren nuevas oportunidades de desarrollo profesional y colaboración\, manteniendo una vinculación activa y significativa con nuestra Universidad. \nINSCRIPCIONES ACÁ
URL:https://finis.cl/agenda/conectando-saberes-proyectando-futuro-encuentro-anual-red-alumni-u-finis-terrae-2025/
LOCATION:Sala Cowork
CATEGORIES:Alumni,Facultad de Educación y Ciencias Sociales,Postgrados
ATTACH;FMTTYPE=image/png:https://finis.cl/wp-content/uploads/2025/09/Agenda-web.png
END:VEVENT
END:VCALENDAR