BEGIN:VCALENDAR
VERSION:2.0
PRODID:-//Universidad Finis Terrae - ECPv6.15.17.1//NONSGML v1.0//EN
CALSCALE:GREGORIAN
METHOD:PUBLISH
X-WR-CALNAME:Universidad Finis Terrae
X-ORIGINAL-URL:https://finis.cl
X-WR-CALDESC:Eventos para Universidad Finis Terrae
REFRESH-INTERVAL;VALUE=DURATION:PT1H
X-Robots-Tag:noindex
X-PUBLISHED-TTL:PT1H
BEGIN:VTIMEZONE
TZID:America/Santiago
BEGIN:STANDARD
TZOFFSETFROM:-0300
TZOFFSETTO:-0400
TZNAME:-04
DTSTART:20240407T030000
END:STANDARD
BEGIN:DAYLIGHT
TZOFFSETFROM:-0400
TZOFFSETTO:-0300
TZNAME:-03
DTSTART:20240908T040000
END:DAYLIGHT
BEGIN:STANDARD
TZOFFSETFROM:-0300
TZOFFSETTO:-0400
TZNAME:-04
DTSTART:20250406T030000
END:STANDARD
BEGIN:DAYLIGHT
TZOFFSETFROM:-0400
TZOFFSETTO:-0300
TZNAME:-03
DTSTART:20250907T040000
END:DAYLIGHT
BEGIN:STANDARD
TZOFFSETFROM:-0300
TZOFFSETTO:-0400
TZNAME:-04
DTSTART:20260405T030000
END:STANDARD
BEGIN:DAYLIGHT
TZOFFSETFROM:-0400
TZOFFSETTO:-0300
TZNAME:-03
DTSTART:20260906T040000
END:DAYLIGHT
END:VTIMEZONE
BEGIN:VEVENT
DTSTART;TZID=America/Santiago:20251015T100000
DTEND;TZID=America/Santiago:20251015T110000
DTSTAMP:20260423T052004
CREATED:20251007T184645Z
LAST-MODIFIED:20251007T185610Z
UID:44466-1760522400-1760526000@finis.cl
SUMMARY:Simposio: “Educación ciudadana\, intercultural e inclusiva en América Latina: Miradas y aportes de estudiantes investigadores”
DESCRIPTION:La Escuela de Educación de la Facultad de Educación y Ciencias Sociales\, junto al Centro de Investigación en Psicología\, Educación y Familia (CIPEF)\, invita a la comunidad académica de la Universidad Finis Terrae a participar en el Simposio “Educación Ciudadana\, Intercultural e Inclusiva en América Latina: Miradas y Aportes de Estudiantes Investigadores”. \nEl encuentro busca generar un espacio académico de diálogo y reflexión donde confluyan investigaciones emergentes y perspectivas expertas en torno a la educación intercultural e inclusiva en América Latina. A través de un enfoque interdisciplinario\, se propone fortalecer la formación y práctica docente mediante el intercambio de saberes y experiencias. \nDurante la actividad se presentará el libro Educación Intercultural e Inclusiva en América Latina: Trayectorias\, perspectivas y desafíos. El simposio contará con la participación de la Dra. Silvia Romero (Universidad Autónoma de San Luis Potosí\, UASLP) y la Dra. Patricia Soto\, directora de la carrera de Pedagogía en Educación Parvularia de la Facultad de Educación y Ciencias Sociales. \nEXPONEN: \nDra. Silvia Romero: Académica de la Facultad de Psicología de la Universidad Autónoma de San Luis Potosí (UASLP) y miembro del Sistema Nacional de Investigadores. Doctora en Educación por la Universidad de Harvard\, con amplia trayectoria en desarrollo del lenguaje\, alfabetización e inclusión educativa\, y consultora para organismos internacionales como UNESCO y Save the Children. \nDra. Patricia Soto: Directora de la carrera de Pedagogía en Educación Parvularia de la Universidad Finis Terrae. Educadora de Párvulos. Licenciada en Educación y Psicopedagoga por la Pontificia Universidad Católica de Chile. Magíster en Desarrollo Cognitivo (UDP) y en Docencia Universitaria (U. Finis Terrae). Doctora en Ciencias Sociales por FLACSO Argentina. \nINSCRIPCIONES ACÁ 
URL:https://finis.cl/agenda/simposio-educacion-ciudadana-intercultural-e-inclusiva-en-america-latina-miradas-y-aportes-de-estudiantes-investigadores/
LOCATION:Teatro Finis Terrae\, Av. Pedro de Valdivia 1509\, Santiago\, Providencia\, 7500986\, Chile
CATEGORIES:CIPEF,Educación Básica,Educación Parvularia,Estudiantes,Facultad de Educación y Ciencias Sociales
ATTACH;FMTTYPE=image/jpeg:https://finis.cl/wp-content/uploads/2025/10/Agenda-web-99.jpg
END:VEVENT
END:VCALENDAR