BEGIN:VCALENDAR
VERSION:2.0
PRODID:-//Universidad Finis Terrae - ECPv6.15.17.1//NONSGML v1.0//EN
CALSCALE:GREGORIAN
METHOD:PUBLISH
X-ORIGINAL-URL:https://finis.cl
X-WR-CALDESC:Eventos para Universidad Finis Terrae
REFRESH-INTERVAL;VALUE=DURATION:PT1H
X-Robots-Tag:noindex
X-PUBLISHED-TTL:PT1H
BEGIN:VTIMEZONE
TZID:America/Santiago
BEGIN:STANDARD
TZOFFSETFROM:-0300
TZOFFSETTO:-0400
TZNAME:-04
DTSTART:20250406T030000
END:STANDARD
BEGIN:DAYLIGHT
TZOFFSETFROM:-0400
TZOFFSETTO:-0300
TZNAME:-03
DTSTART:20250907T040000
END:DAYLIGHT
BEGIN:STANDARD
TZOFFSETFROM:-0300
TZOFFSETTO:-0400
TZNAME:-04
DTSTART:20260405T030000
END:STANDARD
BEGIN:DAYLIGHT
TZOFFSETFROM:-0400
TZOFFSETTO:-0300
TZNAME:-03
DTSTART:20260906T040000
END:DAYLIGHT
BEGIN:STANDARD
TZOFFSETFROM:-0300
TZOFFSETTO:-0400
TZNAME:-04
DTSTART:20270404T030000
END:STANDARD
BEGIN:DAYLIGHT
TZOFFSETFROM:-0400
TZOFFSETTO:-0300
TZNAME:-03
DTSTART:20270905T040000
END:DAYLIGHT
END:VTIMEZONE
BEGIN:VEVENT
DTSTART;TZID=America/Santiago:20260310T180000
DTEND;TZID=America/Santiago:20260310T190000
DTSTAMP:20260422T181358
CREATED:20260129T161701Z
LAST-MODIFIED:20260129T161728Z
UID:49589-1773165600-1773169200@finis.cl
SUMMARY:Charla: "Enseñar desde la diversidad: migración\, etnia y necesidades educativas"
DESCRIPTION:La Unidad de Postgrado y Educación Continua de la Facultad de Educación y Ciencias Sociales invita a profesionales interesados en fortalecer sus competencias para comprender y transformar contextos educativos diversos a participar en la charla informativa “Enseñar desde la diversidad: migración\, etnia y necesidades educativas”. \nLa actividad propone un espacio de análisis y actualización profesional orientado a problematizar las desigualdades presentes en los contextos educativos actuales\, entregando marcos de comprensión y orientaciones pedagógicas que favorecen el desarrollo de prácticas inclusivas\, situadas y coherentes con las trayectorias y experiencias de los y las estudiantes. \nLa charla se enmarca en el Magíster en Educación con menciones de la Facultad de Educación y Ciencias Sociales de la Universidad Finis Terrae\, integrando perspectivas formativas orientadas al fortalecimiento profesional y a la mejora de las prácticas educativas en contextos diversos. \n\nEXPONEN:\n\nDra. Carola Zañartu: Coordinadora de la mención en Educación Inclusiva del Magíster en Educación con menciones\, U. Finis Terrae. Doctora en Ciencias Sociales por la Universidad Católica San Antonio de Murcia (España); Magíster en Desarrollo Humano de la Universidad Austral de Chile; Educadora de Párvulos y licenciada en Educación de la Universidad Católica de Temuco. \nCésar Maldonado Díaz: Doctor en Educación por la Universidad Alberto Hurtado y la Universidad Diego Portales; Magíster en Educación mención Currículo y Comunidad Educativa de la Universidad de Chile. Se desempeña como investigador\, focalizando sus líneas de investigación en currículo\, profesión docente y contextos de aula. \nINSCRIPCIONES ACÁ
URL:https://finis.cl/agenda/charla-ensenar-desde-la-diversidad-migracion-etnia-y-necesidades-educativas/
LOCATION:Online
CATEGORIES:Facultad de Educación y Ciencias Sociales,Funcionarios,Postgrados,Universidad
ATTACH;FMTTYPE=image/webp:https://finis.cl/wp-content/uploads/2026/01/Agenda-web-_7_.webp
END:VEVENT
BEGIN:VEVENT
DTSTART;TZID=America/Santiago:20260319T080000
DTEND;TZID=America/Santiago:20260702T170000
DTSTAMP:20260422T181358
CREATED:20260126T144405Z
LAST-MODIFIED:20260331T193613Z
UID:49377-1773907200-1783011600@finis.cl
SUMMARY:Ciclo de charlas 2026 "La experiencia humana en crisis y plenitud: Una mirada desde una psicología integral"
DESCRIPTION:El ciclo de charlas “La experiencia humana en crisis y plenitud: una mirada desde la psicología integral” propone un espacio de reflexión interdisciplinar en torno a algunos de los padecimientos psicológicos más frecuentes de la experiencia humana en la actualidad. Desde el diálogo entre filosofía y psicología\, busca comprender y distinguir los desórdenes sensibles y racionales\, así como los caminos hacia la plenitud y trascendencia. El ciclo será desarrollado por psicólogos y académicos nacionales e internacionales\, con experiencia en los ámbitos clínico y educacional. \nINSCRIPCIONES ACÁ \n*Puedes acceder a cada coloquio por separado\, por un valor de $10.000 o al ciclo completo de 13 por $100.000. \nPROGRAMA: \nJueves 19 de marzo: “La enfermedad de la cultura: Ideología y psicopatología”\nJoan Joanola\nUniversidad Abat Oliva \nJueves 26 de marzo: “Adicciones del siglo XXI: El deseo en la pornografía y las pantallas”\nStefano Parenti / Victoria Saver\nFundación Family Care / Universidad Finis Terrae \nJueves 09 de abril: “¿Qué es el trauma?: Una mirada desde la Psicología Integral de la Persona”\nManuela Pinzón\nUniversidad Finis Terrae \nJueves 16 de abril: “Ser o no ser: El dilema de la obsesión”\nPablo Verdier\nUniversidad Finis Terrae \nJueves 23 de abril: “El desorden de la ira y el rol de los impulsos: una comprensión desde la psicología integral”\nKlaus Droste\nUniversidad San Sebastián \nJueves 30 de abril: “Más allá del diagnóstico de Trastorno de Personalidad: una mirada desde la psicología integral”\nBenjamín Suazo\nUniversidad Finis Terrae \nJueves 07 de mayo: “El deseo de desaparecer: Comprensión integral de la ideación suicida”\nPatricio Gutiérrez\nUniversidad Finis Terrae \nJueves 14 de mayo: “La fatiga de existir: De la acedia a la neurosis noógena”\nSantiago Vázquez\nUniversidad Nacional de Cuyo \nJueves 28 de mayo: “La decisión de perdonar: Afectividad\, razón y voluntad”\nMaría Jesús Quiroga\nUniversidad Finis Terrae \nJueves 11 de junio: “¿Somos realmente felices?: Un análisis desde la cultura contemporánea”\nRomain de Chateauvieux\nFundación Misericordia \nJueves 18 de junio: “El sufrimiento humano y el valor de la esperanza”\nP. Basil Darker\nOrden de los Ministros de los Enfermos \nJueves 25 de junio: “Cuidar para sanar: Psicología clínica al servicio de la Iglesia”\nJosefina Cañas\nUniversidad Finis Terrae \nJueves 02 de julio: “La amistad matrimonial como plenitud de la existencia humana”\nKlaus Droste\nUniversidad San Sebastián
URL:https://finis.cl/agenda/ciclo-de-charlas-2026-la-experiencia-humana-en-crisis-y-plenitud-una-mirada-desde-una-psicologia-integral/
LOCATION:Online
CATEGORIES:Ciclos,Facultad de Educación y Ciencias Sociales,Psicología,Universidad
ATTACH;FMTTYPE=image/jpeg:https://finis.cl/wp-content/uploads/2026/01/Agenda-web-3.jpg
END:VEVENT
BEGIN:VEVENT
DTSTART;TZID=America/Santiago:20260324T180000
DTEND;TZID=America/Santiago:20260324T183000
DTSTAMP:20260422T181358
CREATED:20260316T190133Z
LAST-MODIFIED:20260316T190150Z
UID:50446-1774375200-1774377000@finis.cl
SUMMARY:Charla: "Formación y transformación en psicomotricidad: aprender desde la experiencia"
DESCRIPTION:La Unidad de Postgrado y Educación Continua de la Facultad de Educación y Ciencias Sociales invita a profesionales interesados en fortalecer sus competencias y explorar nuevas formas de pensar y habitar la práctica educativa a participar en la charla “Formación y transformación en psicomotricidad: aprender desde la experiencia”. \nLa actividad propone abrir un espacio de reflexión sobre la formación en psicomotricidad y el valor de la experiencia corporal en los procesos de desarrollo\, aprendizaje y práctica profesional. \nLa charla se enmarca en el Magíster en Educación con menciones de la Facultad de Educación y Ciencias Sociales de la Universidad Finis Terrae\, integrando perspectivas formativas orientadas al desarrollo de una práctica educativa más consciente\, situada y transformadora. \nEXPONEN: \n\nDra. Ana Valls: Doctora en Innovación e Intervención Educativas. Maestra de Educación Especial con especialidad en Pedagogía Terapéutica por la Universidad de Barcelona. Psicóloga\, licenciada en Psicología por la misma universidad. Psicomotricista formada en la Escola d’Expressió i Psicomotricitat de Barcelona. Cuenta con amplia experiencia en el ámbito de la psicomotricidad\, la formación de profesionales y la intervención educativa.\nDr. Joaquín Serrabona Mas: Doctor en Psicología. Máster en Terapia Familiar y Máster en Práctica Psicomotriz. Psicomotricista del Espai de Psicomotricitat Luden. Profesor en la Universidad Internacional de Catalunya y en la Universitat Ramon Llull\, donde además es coordinador y docente de los programas de postgrado “Especialista en Psicomotricidad” y “Terapia Psicomotriz”. Presidente de la Sección de Educación del Colegio Oficial de Psicólogos de Cataluña y autor de diversas publicaciones en el ámbito de la psicomotricidad.\n\nINSCRIPCIONES ACÁ 
URL:https://finis.cl/agenda/charla-formacion-y-transformacion-en-psicomotricidad-aprender-desde-la-experiencia/
LOCATION:Online
CATEGORIES:Estudiantes,Facultad de Educación y Ciencias Sociales,Postgrado y Educación Continua,Postgrados
ATTACH;FMTTYPE=image/webp:https://finis.cl/wp-content/uploads/2026/03/Agenda-web-_17_.webp
END:VEVENT
END:VCALENDAR