BEGIN:VCALENDAR
VERSION:2.0
PRODID:-//Universidad Finis Terrae - ECPv6.15.17.1//NONSGML v1.0//EN
CALSCALE:GREGORIAN
METHOD:PUBLISH
X-ORIGINAL-URL:https://finis.cl
X-WR-CALDESC:Eventos para Universidad Finis Terrae
REFRESH-INTERVAL;VALUE=DURATION:PT1H
X-Robots-Tag:noindex
X-PUBLISHED-TTL:PT1H
BEGIN:VTIMEZONE
TZID:America/Santiago
BEGIN:STANDARD
TZOFFSETFROM:-0300
TZOFFSETTO:-0400
TZNAME:-04
DTSTART:20240407T030000
END:STANDARD
BEGIN:DAYLIGHT
TZOFFSETFROM:-0400
TZOFFSETTO:-0300
TZNAME:-03
DTSTART:20240908T040000
END:DAYLIGHT
BEGIN:STANDARD
TZOFFSETFROM:-0300
TZOFFSETTO:-0400
TZNAME:-04
DTSTART:20250406T030000
END:STANDARD
BEGIN:DAYLIGHT
TZOFFSETFROM:-0400
TZOFFSETTO:-0300
TZNAME:-03
DTSTART:20250907T040000
END:DAYLIGHT
BEGIN:STANDARD
TZOFFSETFROM:-0300
TZOFFSETTO:-0400
TZNAME:-04
DTSTART:20260405T030000
END:STANDARD
BEGIN:DAYLIGHT
TZOFFSETFROM:-0400
TZOFFSETTO:-0300
TZNAME:-03
DTSTART:20260906T040000
END:DAYLIGHT
END:VTIMEZONE
BEGIN:VEVENT
DTSTART;TZID=America/Santiago:20250522T170000
DTEND;TZID=America/Santiago:20250522T170000
DTSTAMP:20260423T154948
CREATED:20250715T153502Z
LAST-MODIFIED:20260331T193640Z
UID:39399-1747933200-1747933200@finis.cl
SUMMARY:Ciclo de charlas asincrónicas: “Actualización de los tres pilares: Educación\, psicología y familia”
DESCRIPTION:El ciclo de charlas corresponde a una actualización de Saberes\, una iniciativa de la Facultad de Psicología\, Educación y Familia que busca ofrecer un espacio de formación abierta\, reflexión crítica y diálogo interdisciplinario en torno a temáticas de vanguardia. \nA través de la participación de especialistas nacionales e internacionales\, abordamos temas clave para los desafíos actuales\, fortaleciendo la vinculación entre la teoría y la práctica en contextos reales. \nSuscríbete a nuestro canal y activa las notificaciones para no perderte ninguna charla. Sé parte de esta comunidad que aprende\, dialoga y transforma. VER ACÁ \nMayo: Mediación Escolar \nDescubre cómo la mediación escolar puede transformar los conflictos en oportunidades de aprendizaje. Promueve el diálogo\, la empatía y una mejor convivencia en tu comunidad educativa. ¡No te pierdas esta cápsula formativa! \nEXPONE: \nMaría de los Ángeles Garcés: Magister en Gestión y Liderazgo Directivo\, U. Finis Terrae. Diplomado en Gestión de la Convivencia Escolar\, U. Finis Terrae. Diplomado en Gestión de Clima y Convivencia Escolar\, U. de Los Andes. \nJunio: Diversidad\, Convivencia y Aprendizaje para la Transformación Social \nEXPONE: \nDra. Carola Zañartu: Diversidad\, Convivencia y Aprendizaje para la Transformación Social \nJulio: La inclusión de estudiantes con trastorno del espectro autista (TEA) en el sistema de aprendizaje en el aula \nEXPONE: \nJuan José Lecaros: La inclusión de estudiantes con trastorno del espectro autista (TEA) en el sistema de aprendizaje en el aula / \nAgosto: Estrategias de aprendizaje socioemocional en el aula \nEXPONE: \nSergio Monsálvez: Estrategias de aprendizaje socioemocional en el aula \nSeptiembre: Estrategias de innovación curricular: La IA como recurso de aprendizaje \nEXPONE: \nCristian Prado: Estrategias de innovación curricular: La IA como recurso de aprendizaje \nOctubre: El Portafolio de Competencias Pedagógicas\, como instrumento del Sistema de Reconocimiento profesional \nEXPONE: \nAna María Gaete: El Portafolio de Competencias Pedagógicas\, como instrumento del Sistema de Reconocimiento profesional \nNoviembre: Variables de la implementación curricular que inciden en los resultados institucionales en las evaluaciones externas (SIMCE; DIA; PAES) \nEXPONE: \nCristian Cintas – Nicolás Paraud: Variables de la implementación curricular que inciden en los resultados institucionales en las evaluaciones externas (SIMCE; DIA; PAES) / \nDiciembre: Estrategias de interacción en el aula en el desarrollo de habilidades superiores \nEXPONE: \nFelipe Grandón: Estrategias de interacción en el aula en el desarrollo de habilidades superiores
URL:https://finis.cl/agenda/ciclo-de-charlas-asincronicas-actualizacion-de-los-tres-pilares-educacion-psicologia-y-familia/
CATEGORIES:Ciclos,Facultad de Educación, Psicología y Familia,Postgrados
END:VEVENT
END:VCALENDAR