BEGIN:VCALENDAR
VERSION:2.0
PRODID:-//Universidad Finis Terrae - ECPv6.15.17.1//NONSGML v1.0//EN
CALSCALE:GREGORIAN
METHOD:PUBLISH
X-ORIGINAL-URL:https://finis.cl
X-WR-CALDESC:Eventos para Universidad Finis Terrae
REFRESH-INTERVAL;VALUE=DURATION:PT1H
X-Robots-Tag:noindex
X-PUBLISHED-TTL:PT1H
BEGIN:VTIMEZONE
TZID:America/Santiago
BEGIN:STANDARD
TZOFFSETFROM:-0300
TZOFFSETTO:-0400
TZNAME:-04
DTSTART:20240407T030000
END:STANDARD
BEGIN:DAYLIGHT
TZOFFSETFROM:-0400
TZOFFSETTO:-0300
TZNAME:-03
DTSTART:20240908T040000
END:DAYLIGHT
BEGIN:STANDARD
TZOFFSETFROM:-0300
TZOFFSETTO:-0400
TZNAME:-04
DTSTART:20250406T030000
END:STANDARD
BEGIN:DAYLIGHT
TZOFFSETFROM:-0400
TZOFFSETTO:-0300
TZNAME:-03
DTSTART:20250907T040000
END:DAYLIGHT
BEGIN:STANDARD
TZOFFSETFROM:-0300
TZOFFSETTO:-0400
TZNAME:-04
DTSTART:20260405T030000
END:STANDARD
BEGIN:DAYLIGHT
TZOFFSETFROM:-0400
TZOFFSETTO:-0300
TZNAME:-03
DTSTART:20260906T040000
END:DAYLIGHT
END:VTIMEZONE
BEGIN:VEVENT
DTSTART;TZID=America/Santiago:20250513T180000
DTEND;TZID=America/Santiago:20250513T235900
DTSTAMP:20260423T154947
CREATED:20250715T153556Z
LAST-MODIFIED:20250715T153556Z
UID:39424-1747159200-1747180740@finis.cl
SUMMARY:Masterclass: “¿Cómo gestionar adecuadamente la convivencia escolar? Una propuesta colaborativa”
DESCRIPTION:En Chile la convivencia escolar se ve tensionada por múltiples factores. En esta masterclass abordaremos cómo gestionarla adecuadamente a través de una propuesta colaborativa e innovadora. \nAnalizaremos quiénes son los responsables de mantener un clima respetuoso y seguro\, desde directivos\, docentes y asistentes\, hasta estudiantes\, familias\, y presentaremos un modelo integrado de convivencia escolar que articula prevención\, mediación y resolución de conflictos\, para fortalecer vínculos y promover aprendizajes significativos. \nAprovecha esta oportunidad para descubrir estrategias prácticas\, metodologías innovadoras y herramientas colaborativas que transforman el entorno educativo en un espacio de diálogo\, inclusión y bienestar. \nEXPONE: \nMaría de los Ángeles Garcés: Magíster en Gestión y Liderazgo Directivo. Diplomada en Convivencia y Clima Escolar. \nINSCRIPCIONES ACÁ
URL:https://finis.cl/agenda/masterclass-como-gestionar-adecuadamente-la-convivencia-escolar-una-propuesta-colaborativa/
CATEGORIES:Facultad de Educación, Psicología y Familia,Postgrados
END:VEVENT
END:VCALENDAR