BEGIN:VCALENDAR
VERSION:2.0
PRODID:-//Universidad Finis Terrae - ECPv6.15.17.1//NONSGML v1.0//EN
CALSCALE:GREGORIAN
METHOD:PUBLISH
X-WR-CALNAME:Universidad Finis Terrae
X-ORIGINAL-URL:https://finis.cl
X-WR-CALDESC:Eventos para Universidad Finis Terrae
REFRESH-INTERVAL;VALUE=DURATION:PT1H
X-Robots-Tag:noindex
X-PUBLISHED-TTL:PT1H
BEGIN:VTIMEZONE
TZID:America/Santiago
BEGIN:STANDARD
TZOFFSETFROM:-0300
TZOFFSETTO:-0400
TZNAME:-04
DTSTART:20230402T030000
END:STANDARD
BEGIN:DAYLIGHT
TZOFFSETFROM:-0400
TZOFFSETTO:-0300
TZNAME:-03
DTSTART:20230903T040000
END:DAYLIGHT
BEGIN:STANDARD
TZOFFSETFROM:-0300
TZOFFSETTO:-0400
TZNAME:-04
DTSTART:20240407T030000
END:STANDARD
BEGIN:DAYLIGHT
TZOFFSETFROM:-0400
TZOFFSETTO:-0300
TZNAME:-03
DTSTART:20240908T040000
END:DAYLIGHT
BEGIN:STANDARD
TZOFFSETFROM:-0300
TZOFFSETTO:-0400
TZNAME:-04
DTSTART:20250406T030000
END:STANDARD
BEGIN:DAYLIGHT
TZOFFSETFROM:-0400
TZOFFSETTO:-0300
TZNAME:-03
DTSTART:20250907T040000
END:DAYLIGHT
END:VTIMEZONE
BEGIN:VEVENT
DTSTART;TZID=America/Santiago:20241022T090000
DTEND;TZID=America/Santiago:20241022T235900
DTSTAMP:20260424T023619
CREATED:20250715T154113Z
LAST-MODIFIED:20250715T154113Z
UID:39644-1729587600-1729641540@finis.cl
SUMMARY:Conversatorio: “Psicomotricidad a cuatro manos y colaboración con un espacio familiar”
DESCRIPTION:El Centro de Investigación en Psicología\, Educación y Familia (CIPEF) invita a estudiantes de Pedagogía en Educación Parvularia y Básica a participar del Conversatorio sobre colaboración entre la psicomotricidad y el espacio familiar. \nEXPONE: \nDra. Ana Valls Arnau: Doctora en Innovación e Intervención educativas (UVic –UCC). Maestra de educación especial\, diplomada por l’Escola Universitària del Profesorado de EGB\, especialidad en Pedagogía Terapéutica por la Universidad de Barcelona. Licenciada en Psicología por la Universidad de Barcelona. Psicomotricista por l’Escola d’Expressió i Psicomotricitat de Barcelona. \nOrganiza: Centro de Investigación en Psicología\, Educación y Familia (CIPEF).
URL:https://finis.cl/agenda/conversatorio-psicomotricidad-a-cuatro-manos-y-colaboracion-con-un-espacio-familiar/
CATEGORIES:CIPEF,Facultad de Educación, Psicología y Familia
END:VEVENT
BEGIN:VEVENT
DTSTART;TZID=America/Santiago:20241022T113000
DTEND;TZID=America/Santiago:20241022T235900
DTSTAMP:20260424T023619
CREATED:20250715T154105Z
LAST-MODIFIED:20250715T154105Z
UID:39629-1729596600-1729641540@finis.cl
SUMMARY:Encuentro: “Observando el movimiento libre”
DESCRIPTION:Ana Valls\, destacada psicóloga y psicomotricista catalana\, viene a realizar una serie de actividades en la universidad\, entre las cuales destaca la observación de un bebé según el enfoque de Emmi Pikler. Durante esta actividad\, los participantes tendrán la oportunidad de observar cómo el bebé explora su entorno y desarrolla su autonomía motriz y emocional en un ambiente seguro\, siguiendo los principios de respeto y no intervención que caracterizan este enfoque. Además\, Ana guiará la reflexión posterior sobre la importancia de la observación en el desarrollo infantil y la psicomotricidad. \nEXPONE: \nAna Valls: Doctora en Innovación e Intervención educativas. Maestra de educación especial\, diplomada por l’Escola Universitària del Profesorado de EGB\, especialidad en Pedagogia Terapèutica por la Universidad de Barcelona. Psicóloga\, Licenciada en psicología por la Universidad de Barcelona Psicomotricista por l’Escola d’Expressió i Psicomotricitat de Barcelona.
URL:https://finis.cl/agenda/encuentro-observando-el-movimiento-libre/
CATEGORIES:Facultad de Educación, Psicología y Familia
END:VEVENT
BEGIN:VEVENT
DTSTART;TZID=America/Santiago:20241022T163000
DTEND;TZID=America/Santiago:20241022T235900
DTSTAMP:20260424T023619
CREATED:20250715T154118Z
LAST-MODIFIED:20250715T154118Z
UID:39653-1729614600-1729641540@finis.cl
SUMMARY:Seminario: “Paradigmas y enfoques de una educación integral contingente con foco en herramientas para la vida”
DESCRIPTION:Se analizarán los paradigmas y enfoques educativos para mejorar los componentes curriculares que fomenten el desarrollo de habilidades para la vida. El enfoque estará en una educación integral que promueva un aprendizaje significativo y pertinente para los estudiantes en un entorno profesional. \nEXPONE: \nAna Vals Arnau: Doctora en Innovación e Intervención educativas. Maestra de educación especial\, diplomada por l’Escola Universitària del Profesorado de EGB\, especialidad en Pedagogia Terapèutica por la Universidad de Barcelona. Psicóloga\, Licenciada en psicología por la Universidad de Barcelona Psicomotricista por l’Escola d’Expressió i Psicomotricitat de Barcelona. \nINSCRIPCIONES ACÁ \nOrganiza: Postgrados de la Facultad de Educación\, Psicología y Familia.
URL:https://finis.cl/agenda/seminario-paradigmas-y-enfoques-de-una-educacion-integral-contingente-con-foco-en-herramientas-para-la-vida/
CATEGORIES:Facultad de Educación, Psicología y Familia
END:VEVENT
BEGIN:VEVENT
DTSTART;TZID=America/Santiago:20241022T190000
DTEND;TZID=America/Santiago:20241022T235900
DTSTAMP:20260424T023619
CREATED:20250715T154105Z
LAST-MODIFIED:20250715T154105Z
UID:39630-1729623600-1729641540@finis.cl
SUMMARY:II Encuentro Alumni
DESCRIPTION:El encuentro tiene como propósito fortalecer la comunicación y seguimiento para con los egresados (alumni) de los diferentes programas de postgrados\, como también\, ofrecer espacios de desarrollo profesional a los graduados de la unidad y fidelización para con la Universidad. \nEXPONEN: \nDinámica de encuentro: Claudia Donoso y Andrea Aránguiz\nPresentación de AFE aplicados\nDifusión de formas de Participación: Natalia Salas
URL:https://finis.cl/agenda/ii-encuentro-alumni/
CATEGORIES:Facultad de Educación, Psicología y Familia
END:VEVENT
END:VCALENDAR