BEGIN:VCALENDAR
VERSION:2.0
PRODID:-//Universidad Finis Terrae - ECPv6.15.17.1//NONSGML v1.0//EN
CALSCALE:GREGORIAN
METHOD:PUBLISH
X-WR-CALNAME:Universidad Finis Terrae
X-ORIGINAL-URL:https://finis.cl
X-WR-CALDESC:Eventos para Universidad Finis Terrae
REFRESH-INTERVAL;VALUE=DURATION:PT1H
X-Robots-Tag:noindex
X-PUBLISHED-TTL:PT1H
BEGIN:VTIMEZONE
TZID:America/Santiago
BEGIN:STANDARD
TZOFFSETFROM:-0300
TZOFFSETTO:-0400
TZNAME:-04
DTSTART:20230402T030000
END:STANDARD
BEGIN:DAYLIGHT
TZOFFSETFROM:-0400
TZOFFSETTO:-0300
TZNAME:-03
DTSTART:20230903T040000
END:DAYLIGHT
BEGIN:STANDARD
TZOFFSETFROM:-0300
TZOFFSETTO:-0400
TZNAME:-04
DTSTART:20240407T030000
END:STANDARD
BEGIN:DAYLIGHT
TZOFFSETFROM:-0400
TZOFFSETTO:-0300
TZNAME:-03
DTSTART:20240908T040000
END:DAYLIGHT
BEGIN:STANDARD
TZOFFSETFROM:-0300
TZOFFSETTO:-0400
TZNAME:-04
DTSTART:20250406T030000
END:STANDARD
BEGIN:DAYLIGHT
TZOFFSETFROM:-0400
TZOFFSETTO:-0300
TZNAME:-03
DTSTART:20250907T040000
END:DAYLIGHT
END:VTIMEZONE
BEGIN:VEVENT
DTSTART;TZID=America/Santiago:20241004T090000
DTEND;TZID=America/Santiago:20241005T133000
DTSTAMP:20260424T024234
CREATED:20250715T154549Z
LAST-MODIFIED:20250715T154549Z
UID:39895-1728032400-1728135000@finis.cl
SUMMARY:V Jornada de Psicología Integral de la Persona: “Las categorías existenciales de la vida humana en psicoterapia” ¿Puede la psicología iluminar espacios de dolor y sentido compartidos por la humanidad?”
DESCRIPTION:En conjunto con la Universidad San Sebastián y la Asociación de Psicología Integral de la Persona\, la Escuela de Psicología ha organizado la quinta versión de este encuentro académico\, que este año abordará el tema “Las categorías existenciales de la vida humana en psicoterapia”. Contará con conferencias de renombrados expositores\, como Stefano Parenti\, presidente de la Asociación Italiana de Psicología Católica\, Joan D’Ávila Juanola\, de la Universidad Abat Oliba CEU de Barcelona\, la psicóloga chilena Mónica Larraín\, el doctor en Humanidades Klaus Droste\, y la psicoterapeuta e investigadora Josefina Cañas.\n\nLas conferencias están dirigidas a psicólogos\, psiquiatras\, estudiantes de psicología\, educadores y formadores\, que quieran herramientas para abordar cuestiones como el sentido de la vida\, la angustia existencial y el propósito\, la gratitud\, el sentido espiritual y religioso\, el perdón\, la libertad de la persona\, entre otros.\nHorarios: \nViernes: 09:00 a 18:00 hrs. \nSábado: 09:00 a 13:00 hrs.
URL:https://finis.cl/agenda/v-jornada-de-psicologia-integral-de-la-persona-las-categorias-existenciales-de-la-vida-humana-en-psicoterapia-puede-la-psicologia-iluminar-espacios-de-dolor-y-sentido-comparti/
CATEGORIES:Facultad de Educación, Psicología y Familia,Psicología
END:VEVENT
END:VCALENDAR