BEGIN:VCALENDAR
VERSION:2.0
PRODID:-//Universidad Finis Terrae - ECPv6.15.17.1//NONSGML v1.0//EN
CALSCALE:GREGORIAN
METHOD:PUBLISH
X-WR-CALNAME:Universidad Finis Terrae
X-ORIGINAL-URL:https://finis.cl
X-WR-CALDESC:Eventos para Universidad Finis Terrae
REFRESH-INTERVAL;VALUE=DURATION:PT1H
X-Robots-Tag:noindex
X-PUBLISHED-TTL:PT1H
BEGIN:VTIMEZONE
TZID:America/Santiago
BEGIN:STANDARD
TZOFFSETFROM:-0300
TZOFFSETTO:-0400
TZNAME:-04
DTSTART:20230402T030000
END:STANDARD
BEGIN:DAYLIGHT
TZOFFSETFROM:-0400
TZOFFSETTO:-0300
TZNAME:-03
DTSTART:20230903T040000
END:DAYLIGHT
BEGIN:STANDARD
TZOFFSETFROM:-0300
TZOFFSETTO:-0400
TZNAME:-04
DTSTART:20240407T030000
END:STANDARD
BEGIN:DAYLIGHT
TZOFFSETFROM:-0400
TZOFFSETTO:-0300
TZNAME:-03
DTSTART:20240908T040000
END:DAYLIGHT
BEGIN:STANDARD
TZOFFSETFROM:-0300
TZOFFSETTO:-0400
TZNAME:-04
DTSTART:20250406T030000
END:STANDARD
BEGIN:DAYLIGHT
TZOFFSETFROM:-0400
TZOFFSETTO:-0300
TZNAME:-03
DTSTART:20250907T040000
END:DAYLIGHT
END:VTIMEZONE
BEGIN:VEVENT
DTSTART;TZID=America/Santiago:20240615T103000
DTEND;TZID=America/Santiago:20240615T235900
DTSTAMP:20260424T080341
CREATED:20250715T154529Z
LAST-MODIFIED:20250715T154529Z
UID:39858-1718447400-1718495940@finis.cl
SUMMARY:Puertas abiertas: Pedagogía en Educación Parvularia Universidad Finis Terrae
DESCRIPTION:La carrera de Pedagogía en Educación Parvularia abre sus puertas\, ofreciendo una clase abierta para conocer desde un aula universitaria\, el rol del Educador de Párvulos\, te invitamos a vivenciar esta experiencia. \nOrganiza: Pedagogía en Educación Parvularia\, Facultad de Educación Psicología y familia. \nINSCRIPCIONES ACÁ.
URL:https://finis.cl/agenda/puertas-abiertas-pedagogia-en-educacion-parvularia-universidad-finis-terrae/
CATEGORIES:Educación Parvularia,Facultad de Educación, Psicología y Familia
END:VEVENT
END:VCALENDAR