BEGIN:VCALENDAR
VERSION:2.0
PRODID:-//Universidad Finis Terrae - ECPv6.15.17.1//NONSGML v1.0//EN
CALSCALE:GREGORIAN
METHOD:PUBLISH
X-WR-CALNAME:Universidad Finis Terrae
X-ORIGINAL-URL:https://finis.cl
X-WR-CALDESC:Eventos para Universidad Finis Terrae
REFRESH-INTERVAL;VALUE=DURATION:PT1H
X-Robots-Tag:noindex
X-PUBLISHED-TTL:PT1H
BEGIN:VTIMEZONE
TZID:America/Santiago
BEGIN:STANDARD
TZOFFSETFROM:-0300
TZOFFSETTO:-0400
TZNAME:-04
DTSTART:20230402T030000
END:STANDARD
BEGIN:DAYLIGHT
TZOFFSETFROM:-0400
TZOFFSETTO:-0300
TZNAME:-03
DTSTART:20230903T040000
END:DAYLIGHT
BEGIN:STANDARD
TZOFFSETFROM:-0300
TZOFFSETTO:-0400
TZNAME:-04
DTSTART:20240407T030000
END:STANDARD
BEGIN:DAYLIGHT
TZOFFSETFROM:-0400
TZOFFSETTO:-0300
TZNAME:-03
DTSTART:20240908T040000
END:DAYLIGHT
BEGIN:STANDARD
TZOFFSETFROM:-0300
TZOFFSETTO:-0400
TZNAME:-04
DTSTART:20250406T030000
END:STANDARD
BEGIN:DAYLIGHT
TZOFFSETFROM:-0400
TZOFFSETTO:-0300
TZNAME:-03
DTSTART:20250907T040000
END:DAYLIGHT
END:VTIMEZONE
BEGIN:VEVENT
DTSTART;TZID=America/Santiago:20240524T120000
DTEND;TZID=America/Santiago:20240524T235900
DTSTAMP:20260424T092711
CREATED:20250715T154537Z
LAST-MODIFIED:20250715T154537Z
UID:39873-1716552000-1716595140@finis.cl
SUMMARY:Webinar: “Ecología Integral en la Laudato Si’ y la Laudate Deum”
DESCRIPTION:Como parte de las actividades del Magíster en Doctrina Social de la Iglesia. Reflexión y vida\, y enmarcado en la semana dedicada a la Ecología en la Iglesia\, se ha invitado a diversos expertos en temas sociales y ecológicos\, a una mesa redonda titulada “Ecología Integral en la Laudato Si’ y la Laudate Deum”.\n\nLa introducción y presentaciones estará a cargo del Dr. Emilio Martínez\, director del Magíster quien luego\, dará paso a los invitados:\n\n\nPaulina Núñez —quien moderará la mesa redonda—: profesora de Responsabilidad Social\, doctoranda en Ecología integral y fundadora de Laudato si’ UFV-RC (España);\nFrancisco Bonilla: empresario\, profesor en la universidad Anáhuac (México) y fundador de la Universidad del Medio Ambiente;\nJavier de Cendra: decano de la Facultad de Educación\, Empresa y Gobierno de la Universidad Francisco de Vitoria (España); y\nGuillermo Ramírez: Abogado\, político y diputado por el 11° Distrito\, Región Metropolitana (Chile).\n\n– Fecha: Viernes 24 de mayo\n– Horario: 10:00 horas Ciudad de México\, 12:00 horas Santiago y 18:00 horas Madrid/Roma\n– Lugar: online\, por las redes sociales del Instituto Escuela de la Fe (@religionfinis)\n\n\n\nTRANSMISIONES \n\nPara quienes deseen seguir o también compartir la transmisión en sus canales o redes sociales:\n\n\n\n\n\n– Facebook: https://www.facebook.com/events/794746962611096\n– LinkedIn: https://www.linkedin.com/events/7196539253185462272/\n– YouTube: https://www.youtube.com/watch?v=arbqkzCxRfk\n\n\n\n\n\n\n\nORGANIZADORES\n\nEntre los organizadores\, se encuentran las Universidades Anáhuac (México)\, la Universidad Francisco de Vitoria (España)\, el Ateneo Pontificio Regina Apostolorum (Roma) y la Universidad Finis Terrae\, junto a la Sociedad de Vida Apostólica Laicos Consagrados del Regnum Christi.\n\n\n\nINSCRIPCIONES ACÁ.
URL:https://finis.cl/agenda/webinar-ecologia-integral-en-la-laudato-si-y-la-laudate-deum/
CATEGORIES:Escuela de la Fe,Facultad de Educación, Psicología y Familia
END:VEVENT
END:VCALENDAR