BEGIN:VCALENDAR
VERSION:2.0
PRODID:-//Universidad Finis Terrae - ECPv6.15.17.1//NONSGML v1.0//EN
CALSCALE:GREGORIAN
METHOD:PUBLISH
X-WR-CALNAME:Universidad Finis Terrae
X-ORIGINAL-URL:https://finis.cl
X-WR-CALDESC:Eventos para Universidad Finis Terrae
REFRESH-INTERVAL;VALUE=DURATION:PT1H
X-Robots-Tag:noindex
X-PUBLISHED-TTL:PT1H
BEGIN:VTIMEZONE
TZID:America/Santiago
BEGIN:STANDARD
TZOFFSETFROM:-0300
TZOFFSETTO:-0400
TZNAME:-04
DTSTART:20230402T030000
END:STANDARD
BEGIN:DAYLIGHT
TZOFFSETFROM:-0400
TZOFFSETTO:-0300
TZNAME:-03
DTSTART:20230903T040000
END:DAYLIGHT
BEGIN:STANDARD
TZOFFSETFROM:-0300
TZOFFSETTO:-0400
TZNAME:-04
DTSTART:20240407T030000
END:STANDARD
BEGIN:DAYLIGHT
TZOFFSETFROM:-0400
TZOFFSETTO:-0300
TZNAME:-03
DTSTART:20240908T040000
END:DAYLIGHT
BEGIN:STANDARD
TZOFFSETFROM:-0300
TZOFFSETTO:-0400
TZNAME:-04
DTSTART:20250406T030000
END:STANDARD
BEGIN:DAYLIGHT
TZOFFSETFROM:-0400
TZOFFSETTO:-0300
TZNAME:-03
DTSTART:20250907T040000
END:DAYLIGHT
END:VTIMEZONE
BEGIN:VEVENT
DTSTART;TZID=America/Santiago:20240415T190000
DTEND;TZID=America/Santiago:20240415T235900
DTSTAMP:20260424T105119
CREATED:20250715T154717Z
LAST-MODIFIED:20250715T154717Z
UID:39974-1713207600-1713225540@finis.cl
SUMMARY:Taller Simce: “Análisis Crítico de Resultados Simce”
DESCRIPTION:Postgrados y Educación Continua invitan a directivos\, coordinadores y docentes a un taller gratuito de análisis crítico de resultados SIMCE\, que te permitirá tomar decisiones basado en evidencia para la mejora. \nEXPONEN: \nAldo Montenegro: Magíster en Gestión y liderazgo Educacional\, Coordinador de la Mención de Currículum y Evaluación. \nFelipe Grandón: Magíster en Currículum y Evaluación\, Universidad Finis Terrae\, Coordinador General de Programas Finis Terrae Online. \nFecha: 01 y 15 de Abril\nHora: 19:00 hrs. \n\n\nINSCRIPCIONES ACÁ
URL:https://finis.cl/agenda/taller-simce-analisis-critico-de-resultados-simce/
CATEGORIES:Facultad de Educación, Psicología y Familia
END:VEVENT
END:VCALENDAR