BEGIN:VCALENDAR
VERSION:2.0
PRODID:-//Universidad Finis Terrae - ECPv6.15.17.1//NONSGML v1.0//EN
CALSCALE:GREGORIAN
METHOD:PUBLISH
X-WR-CALNAME:Universidad Finis Terrae
X-ORIGINAL-URL:https://finis.cl
X-WR-CALDESC:Eventos para Universidad Finis Terrae
REFRESH-INTERVAL;VALUE=DURATION:PT1H
X-Robots-Tag:noindex
X-PUBLISHED-TTL:PT1H
BEGIN:VTIMEZONE
TZID:America/Santiago
BEGIN:STANDARD
TZOFFSETFROM:-0300
TZOFFSETTO:-0400
TZNAME:-04
DTSTART:20230402T030000
END:STANDARD
BEGIN:DAYLIGHT
TZOFFSETFROM:-0400
TZOFFSETTO:-0300
TZNAME:-03
DTSTART:20230903T040000
END:DAYLIGHT
BEGIN:STANDARD
TZOFFSETFROM:-0300
TZOFFSETTO:-0400
TZNAME:-04
DTSTART:20240407T030000
END:STANDARD
BEGIN:DAYLIGHT
TZOFFSETFROM:-0400
TZOFFSETTO:-0300
TZNAME:-03
DTSTART:20240908T040000
END:DAYLIGHT
BEGIN:STANDARD
TZOFFSETFROM:-0300
TZOFFSETTO:-0400
TZNAME:-04
DTSTART:20250406T030000
END:STANDARD
BEGIN:DAYLIGHT
TZOFFSETFROM:-0400
TZOFFSETTO:-0300
TZNAME:-03
DTSTART:20250907T040000
END:DAYLIGHT
END:VTIMEZONE
BEGIN:VEVENT
DTSTART;TZID=America/Santiago:20240112T000100
DTEND;TZID=America/Santiago:20240113T235900
DTSTAMP:20260424T152201
CREATED:20250715T155011Z
LAST-MODIFIED:20250715T155011Z
UID:40151-1705017660-1705190340@finis.cl
SUMMARY:Taller experiencial de formación psicocorporal: Bajo la Mirada de la Psicomotricidad
DESCRIPTION:El Taller “Experiencial de Formación Psicocorporal\, bajo la mirada de la Psicomotricidad. Proceso de Sensibilización hacia la Mediación Corporal\, es un evento Académico abierto\, que convoca a actuales estudiantes en formación\, ex estudiantes de Diplomado y Magister mención en Psicomotricidad\, egresados y público en general del mundo educativo\, reducativo y/o terapéutico\, que desee trabajar actitudes y competencias propias de la intervención psicomotriz bajo la mirada de la formación personal psicocorporal. \nEspecíficamente\, el presente taller busca generar un espacio de formación continua en cuanto a la promoción de competencias actitudinales del rol del psicomotricista y/o rol del adulto basado en un trabajo de mediación corporal desde lo lúdico. \nEXPONE: \nKarin Haddad: Máster en Mediación Terapéutica Corporal. Especialización en Psicomotricidad Terapéutica\, U. de Barcelona\, Centro de Recursos Educativos y de Investigación de Sants\, Barcelona\,\nEspaña. Experta en Psicomotricidad. Especialización en Psicomotricidad Educativa. Instituto de Ciencias Sanitarias y de Educación\, Barcelona\, España. Profesora de Educación Física y Psicomotricidad\, nivel preescolar y básica\, Colegio Nido de Águilas. Coordinadora Académica del Diplomado\, Magíster y Magíster en Educación\, mención en Psicomotricidad\, U. Finis Terrae. \nMiguel Sassano: Maestro Normal Nacional\, Psicomotricista\, Licenciado en Educación Física. Director y creador de la Licenciatura en Psicomotricidad de la Universidad de Morón (Provincia de Buenos Aires\, Argentina). Profesor Honoris Causa de la Organization Internationale de Psychomotricité et Relaxation\, París\, Francia. Director Asociado de la Revista Iberoamericana de Psicomotricidad y Técnicas Corporales. \nVALORES DE PARTICIPACIÓN:\n$ 40.000 egresados U. Finis Terrae/ y también estudiantes U. Finis Terrae postgrado\n$ 60.000 Público externo\nSin costo para estudiantes Psicomotricidad Postgrado \nINSCRIPCIONES ACÁ \nPara más información\, escribir a khaddad@uft.cl
URL:https://finis.cl/agenda/taller-experiencial-de-formacion-psicocorporal-bajo-la-mirada-de-la-psicomotricidad/
CATEGORIES:Facultad de Educación, Psicología y Familia
END:VEVENT
BEGIN:VEVENT
DTSTART;TZID=America/Santiago:20240113T000100
DTEND;TZID=America/Santiago:20240120T235900
DTSTAMP:20260424T152201
CREATED:20250715T155044Z
LAST-MODIFIED:20250715T155044Z
UID:40182-1705104060-1705795140@finis.cl
SUMMARY:Seminario en Educación Imaginativa
DESCRIPTION:El seminario internacional en Educación Imaginativa es una instancia para que estudiantes y profesionales del área de la educación puedan ampliar sus conocimientos relacionados con la innovación educativa\, aprendiendo de los referentes de Educación Imaginativa en el mundo miembros del Centre for Imagination in Research\, Culture and Education. \nEl Seminario incorpora actividades académicas en Simon Fraser University\, Capilano University\, Vancouver. Con visitas a experiencias educativas en diferentes establecimientos. \nPROGRAMA: \n15 de enero: \n 09:00 hrs.: Dr. Mark Fettes: Imaginación\, Cultura\, Historia: Kieran Egan Mentes Educadas: ¿Cómo un investigador en historia cultural se convirtió en crítico de la psicología piagetiana y pasó a escribir libros para profesores sobre cómo estimular la imaginación de los niños? La historia del viaje intelectual de Kieran Egan puede ayudarnos a comprender de mejor manera la compleja y fascinante teoría educativa que sustenta la Educación Imaginativa. \n10:30 hrs.: Dr. Natalia Gajdamaschko: Las ideas de Lev Vygotsky sobre el desarrollo de la imaginación en la infancia y la adolescencia: Esta presentación se centrará en la exploración de Lev Vygotsky del desarrollo de la imaginación\, un tema central en su teoría del desarrollo cultural\, histórico e instrumental. Examinaremos diversas herramientas y métodos que Vygotsky identificó para fomentar la imaginación y destacaremos cómo la capacidad de imaginación evoluciona de forma distinta desde la infancia hasta la adolescencia. \nLunch \n13:30 a 16:30 hrs.  Poniendo en práctica la Educación Imaginativa \n16 de enero: \n09:00 hrs. Dr. Annabella Cant: Sosteniendo el Entendimiento Somático: Egan(n.d) escribió “cuando observamos que alguien no sabe escuchar a su cuerpo\,“ o que ” se ha desconectado de su cuerpo\,” nos estamos refiriendo a la pérdida de la Comprensión Somática del mundo. Esta es una paradoja viva que provoca cismas en el flujo pedagógico. El taller se centrará en las formas de encender\, nutrir y (re)activar la creación de significados corporales a cualquier edad. \n10:30 hrs. Alessandro Geimi: Tomarse en serio la imaginación: La educación imaginativa en el desarrollo profesional de los docentes ¿Qué ocurre cuando una filosofía integral como la Educación Imaginativa\, se enfrenta a los tiempos\, espacios\, ansiedades y aspiraciones que definen la realidad cotidiana de la vida escolar? ¿Qué retos hay que afrontar? ¿Qué compromisos deben aceptarse? ¿Qué posibilidades inesperadas pueden descubrirse? Esta presentación pretende abrir un diálogo a partir de las experiencias concretas de un grupo de profesores italianos\, comprometidos en un viaje de investigación y formación sobre la Educación Imaginativa. \nLunch \n13:30 a 16:30 hrs.  Poniendo en práctica la Educación Imaginativa \n17 de enero: \n09:00 hrs. Dr. Kym Stewart: Encontrando de nuevo la magia de enseñar: Como educadores\, a menudo dirigimos nuestra atención y energía en hacer que los alumnos participen\, pero ¿cómo participamos nosotros\, cómo revigorizamos nuestro sentido de imaginación? Este taller nos recordará las herramientas de la Educación Imaginativa y cómo podemos entretejerlas conscientemente en nuestra práctica pedagógica. \n10:30 hrs. Kavita Hoonjan: ¿Te sientes romántico? Profundicemos en la alfabetización y en las formas experienciales de vivir y sentir en las aulas. Ver cómo podemos hacer participar a los alumnos en un aprendizaje profundo\, significativo y memorable. Recurriendo a la historia\, cualidades heroicas\, metáforas\, extremos y límites. \nLunch \n13:30 a 16:30 hrs.  Poniendo en práctica la Educación Imaginativa \n19 de enero: \n09:00 hrs. James Johnson: Encontrando la piedra redonda y lisa…: Este taller examinara cómo los esquemas cognitivos preexistentes\, combinados con un enfoque imaginativo de la enseñanza\, facilitan el profundo compromiso\, la contemplación y la comprensión de un grupo diverso de personas con habilidades lingüísticas bajas a moderadas. \n10:30 hrs. Tannis Calder: Enseñando Modelados de Fracciones a través de Historias Indígenas: Nos embarcaremos en una aventura a través de la historia “La pequeña ardilla que no escuchaba” de Coast Salish. Exploraremos el concepto nucamat (uno solo\, corazón y mente) de Coast Salish a través de la historia\, y su antítesis\, una comunidad fracturada. En este taller práctico exploraremos cómo el imaginario de la historia puede ayudar en la enseñanza de fracciones por medio de manipulativos. \nLunch \n13:30 a 16:30 hrs. \nDr. Gillian Judson: \nI. Cultivando la Imaginación en el Liderazgo: Esta sesión abordara los numerosos malentendidos que existen en torno a la imaginación en el contexto del liderazgo. \nII. Cultivando la imaginación en el aprendizaje al aire libre: Educación Ecológica Imaginativa (EEI) – Un plan de estudios andante que va hacia adelante: EEI tiene un enfoque de enseñanza ecológico centrado en el lugar\, que lleva a los alumnos a relacionarse con sus comunidades locales\, naturales y culturales en todos los niveles y áreas temáticas. \nEXPONEN: \nMaría de la Luz Matte: Decana de la Facultad de Educación\, Psicología y Familia Magíster en Educación Superior\, U. Andrés Bello. Profesora de Educación Básica\, Pontifica U. Católica de Chile. Profesora de Educación Especial y Diferencial\, Pontifica U. Católica de Chile. \nDr. Mark Fettes: Profesor asociado e investigador de la Facultad de Educación\, Universidad Simon Fraser. \nDr. Annabella Cant: Profesora e investigadora de la Facultad de Educación de la Universidad de Capilano miembro del Consejo Académico del Centro de Imaginación en investigación Cultura y Educación (CIRCE) de la Universidad de Simon Fraser y es la fundadora y editora jefe de la revista en línea\, Infancias y Pedagogías. \nDr. Kym Stewart: Profesora e investigadora de la Escuela de comunicación de la Universidad de Capilano y de la Facultad de Educación de la Universidad de Simon Fraser. colaboración con el grupo de investigación de Educación Imaginativa (IERG). \nINSCRIPCIONES ACÁ \nPara más información\, escribir a sacuna@uft.cl \nValor: US $3875\, el valor incluye Pasaje aéreo \, alojamiento\, traslados.
URL:https://finis.cl/agenda/seminario-en-educacion-imaginativa/
CATEGORIES:Facultad de Educación, Psicología y Familia
END:VEVENT
END:VCALENDAR