BEGIN:VCALENDAR
VERSION:2.0
PRODID:-//Universidad Finis Terrae - ECPv6.15.17.1//NONSGML v1.0//EN
CALSCALE:GREGORIAN
METHOD:PUBLISH
X-WR-CALNAME:Universidad Finis Terrae
X-ORIGINAL-URL:https://finis.cl
X-WR-CALDESC:Eventos para Universidad Finis Terrae
REFRESH-INTERVAL;VALUE=DURATION:PT1H
X-Robots-Tag:noindex
X-PUBLISHED-TTL:PT1H
BEGIN:VTIMEZONE
TZID:America/Santiago
BEGIN:STANDARD
TZOFFSETFROM:-0300
TZOFFSETTO:-0400
TZNAME:-04
DTSTART:20220403T030000
END:STANDARD
BEGIN:DAYLIGHT
TZOFFSETFROM:-0400
TZOFFSETTO:-0300
TZNAME:-03
DTSTART:20220911T040000
END:DAYLIGHT
BEGIN:STANDARD
TZOFFSETFROM:-0300
TZOFFSETTO:-0400
TZNAME:-04
DTSTART:20230402T030000
END:STANDARD
BEGIN:DAYLIGHT
TZOFFSETFROM:-0400
TZOFFSETTO:-0300
TZNAME:-03
DTSTART:20230903T040000
END:DAYLIGHT
BEGIN:STANDARD
TZOFFSETFROM:-0300
TZOFFSETTO:-0400
TZNAME:-04
DTSTART:20240407T030000
END:STANDARD
BEGIN:DAYLIGHT
TZOFFSETFROM:-0400
TZOFFSETTO:-0300
TZNAME:-03
DTSTART:20240908T040000
END:DAYLIGHT
END:VTIMEZONE
BEGIN:VEVENT
DTSTART;TZID=America/Santiago:20230824T090000
DTEND;TZID=America/Santiago:20230831T120000
DTSTAMP:20260424T212657
CREATED:20250715T155134Z
LAST-MODIFIED:20250715T155134Z
UID:40206-1692867600-1693483200@finis.cl
SUMMARY:Workshop para Académicos e Investigadores sobre el uso y beneficios del Método de Revisión Sistemática
DESCRIPTION:Con el propósito de fortalecer capacidades investigativas e incrementar la productividad académica\, contaremos con la participación del Dr. Alejandro Vega Muñoz\, Doctor en Ciencias Empresariales Universidad Antonio de\nNebrija\, Madrid\, quien abordará la temática de búsqueda PRISMA(PICO) y Protocolos de Calidad. \nEXPONEN: \nDr. Alejandro Vega Muñoz: Doctor en Ciencias Empresariales con especialización en Dirección Internacional de Empresas\, Universidad Antonio de Nebrija\, Madrid\, España. Master en Ingeniería Industrial (Universidad de Concepción) y Master en Dirección y Organización de Empresas (Universidad de Lleida\, España). Ingeniero Marítimo Portuario\, Universidad Católica de la Santísima Concepción. Es académico de la Universidad Central (UCEN) y ha impartido docencia en la Universidad Nacional de Honduras\, Universidad San Sebastián\, Universidad Autónoma y colabora como investigador en el Programa Interdisciplinario de Investigaciones en Educación. Actualmente\, desarrolla investigaciones en las áreas de educación y movilidad humana. \nINSCRIPCIONES ACÁ
URL:https://finis.cl/agenda/workshop-para-academicos-e-investigadores-sobre-el-uso-y-beneficios-del-metodo-de-revision-sistematica/
CATEGORIES:Facultad de Educación, Psicología y Familia
END:VEVENT
BEGIN:VEVENT
DTSTART;TZID=America/Santiago:20230830T180000
DTEND;TZID=America/Santiago:20230830T200000
DTSTAMP:20260424T212657
CREATED:20250715T155202Z
LAST-MODIFIED:20250715T155202Z
UID:40252-1693418400-1693425600@finis.cl
SUMMARY:IV Simposio Intradisciplinar de Psicología: “Análisis de un caso clínico desde cinco enfoques psicológicos”
DESCRIPTION:Se buscará abrir un espacio de reflexión y discusión\, que identifique terrenos comunes\, así como las principales diferencias y contrastes en dichos abordajes. \nEXPONEN: \nJoaquín Celis: Corriente psicoanalítica\, Universidad de Los Andes \nAmira Juri: Corriente Humanista\, Universidad San Sebastián \nMaría Ignacia Montt: Corriente cognitivo-conductual\, Grupo DBT Chile \nFrancisca Cherniavsky: Corriente sistémica\, Centro Psicológico Transiciones \nPablo Verdier: Psicología Integral de la Persona\, Universidad Finis Terrae \nINSCRIPCIONES ACÁ \nContacto: comunicaciones_psicologia@uft.cl
URL:https://finis.cl/agenda/iv-simposio-intradisciplinar-de-psicologia-analisis-de-un-caso-clinico-desde-cinco-enfoques-psicologicos/
CATEGORIES:Ediciones Universidad Finis Terrae,Facultad de Educación, Psicología y Familia,Psicología
END:VEVENT
END:VCALENDAR